Workbook

Sheet AKB&AKABA
A1: TAHUN 2025
A3: AKB & AKABA
A4: NO | B4: PUSKESMAS | C4: KECAMATAN | D4: TRIWULAN I (JAN-MAR) | P4: TRIWULAN II(APR-JUN) | AB4: TRIWULAN III (JUL-SEP) | AN4: TRIWULAN IV (OKT-DES) | AZ4: TOTAL 2025
D5: KELAHIRAN HIDUP | G5: KASUS KEMATIAN BAYI | J5: AKB | K5: KASUS KEMATIAN BALITA | N5: ∑ | O5: AKABA | P5: KELAHIRAN HIDUP | S5: KASUS KEMATIAN BAYI | V5: AKB | W5: KASUS KEMATIAN BALITA | Z5: ∑ | AA5: AKABA | AB5: KELAHIRAN HIDUP | AE5: KASUS KEMATIAN BAYI | AH5: AKB | AI5: KASUS KEMATIAN BALITA | AL5: ∑ | AM5: AKABA | AN5: KELAHIRAN HIDUP | AQ5: KASUS KEMATIAN BAYI | AT5: AKB | AU5: KASUS KEMATIAN BALITA | AX5: ∑ | AY5: AKABA | AZ5: KELAHIRAN HIDUP | BC5: KASUS KEMATIAN BAYI | BF5: AKB | BG5: KASUS KEMATIAN BALITA | BJ5: ∑ | BK5: AKABA
D6: L | E6: P | F6: T | G6: L | H6: P | I6: T | K6: L | L6: P | M6: T | P6: L | Q6: P | R6: T | S6: L | T6: P | U6: T | W6: L | X6: P | Y6: T | AB6: L | AC6: P | AD6: T | AE6: L | AF6: P | AG6: T | AI6: L | AJ6: P | AK6: T | AN6: L | AO6: P | AP6: T | AQ6: L | AR6: P | AS6: T | AU6: L | AV6: P | AW6: T | AZ6: L | BA6: P | BB6: T | BC6: L | BD6: P | BE6: T | BG6: L | BH6: P | BI6: T
A7: 1 | B7: MRANGGEN I | C7: MRANGGEN | D7: 88 | E7: 76 | F7: =SUM(D7:E7) -> 164 | G7: 0 | H7: 1 | I7: =SUM(G7:H7) -> 1 | J7: =I7/F7*1000 -> 6.097561 | K7: 0 | L7: 0 | M7: =SUM(K7:L7) -> 0 | N7: =I7+M7 -> 1 | O7: =N7/F7*1000 -> 6.097561 | P7: 120 | Q7: 100 | R7: =SUM(P7:Q7) -> 220 | S7: 2 | T7: 0 | U7: =SUM(S7:T7) -> 2 | V7: =U7/R7*1000 -> 9.0909091 | W7: 0 | X7: 0 | Y7: =SUM(W7:X7) -> 0 | Z7: =U7+Y7 -> 2 | AA7: =Z7/R7*1000 -> 9.0909091 | AB7: 84 | AC7: 108 | AD7: =SUM(AB7:AC7) -> 192 | AE7: 0 | AF7: 1 | AG7: =SUM(AE7:AF7) -> 1 | AH7: =AG7/AD7*1000 -> 5.2083333 | AI7: 0 | AJ7: 0 | AK7: =SUM(AI7:AJ7) -> 0 | AL7: =AG7+AK7 -> 1 | AM7: =AL7/AD7*1000 -> 5.2083333 | AP7: =SUM(AN7:AO7) -> 0 | AS7: =SUM(AQ7:AR7) -> 0 | AT7: =AS7/AP7*1000 -> #DIV/0! | AW7: =SUM(AU7:AV7) -> 0 | AX7: =AS7+AW7 -> 0 | AY7: =AX7/AP7*1000 -> #DIV/0! | AZ7: =SUM(D7,P7,AB7,AI7) -> 292 | BA7: =SUM(E7,Q7,AC7,AJ7) -> 284 | BB7: =SUM(AZ7:BA7) -> 576 | BC7: =SUM(G7,S7,AE7,AQ7) -> 2 | BD7: =SUM(H7,T7,AF7,AR7) -> 2 | BE7: =SUM(BC7:BD7) -> 4 | BF7: =BE7/BB7*1000 -> 6.9444444 | BG7: =SUM(K7,W7,AI7,AU7) -> 0 | BH7: =SUM(L7,X7,AJ7,AV7) -> 0 | BI7: =SUM(BG7:BH7) -> 0 | BJ7: =BE7+BI7 -> 4 | BK7: =BJ7/BB7*1000 -> 6.9444444
A8: 2 | B8: MRANGGEN II | C8: MRANGGEN | D8: 108 | E8: 86 | F8: =SUM(D8:E8) -> 194 | G8: 0 | H8: 0 | I8: =SUM(G8:H8) -> 0 | J8: =I8/F8*1000 -> 0 | K8: 0 | L8: 0 | M8: =SUM(K8:L8) -> 0 | N8: =I8+M8 -> 0 | O8: =N8/F8*1000 -> 0 | P8: 100 | Q8: 95 | R8: =SUM(P8:Q8) -> 195 | S8: 1 | T8: 1 | U8: =SUM(S8:T8) -> 2 | V8: =U8/R8*1000 -> 10.25641 | W8: 0 | X8: 0 | Y8: =SUM(W8:X8) -> 0 | Z8: =U8+Y8 -> 2 | AA8: =Z8/R8*1000 -> 10.25641 | AB8: 96 | AC8: 90 | AD8: =SUM(AB8:AC8) -> 186 | AE8: 0 | AF8: 0 | AG8: =SUM(AE8:AF8) -> 0 | AH8: =AG8/AD8*1000 -> 0 | AI8: 0 | AJ8: 0 | AK8: =SUM(AI8:AJ8) -> 0 | AL8: =AG8+AK8 -> 0 | AM8: =AL8/AD8*1000 -> 0 | AP8: =SUM(AN8:AO8) -> 0 | AS8: =SUM(AQ8:AR8) -> 0 | AT8: =AS8/AP8*1000 -> #DIV/0! | AW8: =SUM(AU8:AV8) -> 0 | AX8: =AS8+AW8 -> 0 | AY8: =AX8/AP8*1000 -> #DIV/0! | AZ8: =SUM(D8,P8,AB8,AI8) -> 304 | BA8: =SUM(E8,Q8,AC8,AJ8) -> 271 | BB8: =SUM(AZ8:BA8) -> 575 | BC8: =SUM(G8,S8,AE8,AQ8) -> 1 | BD8: =SUM(H8,T8,AF8,AR8) -> 1 | BE8: =SUM(BC8:BD8) -> 2 | BF8: =BE8/BB8*1000 -> 3.4782609 | BG8: =SUM(K8,W8,AI8,AU8) -> 0 | BH8: =SUM(L8,X8,AJ8,AV8) -> 0 | BI8: =SUM(BG8:BH8) -> 0 | BJ8: =BE8+BI8 -> 2 | BK8: =BJ8/BB8*1000 -> 3.4782609
A9: 3 | B9: MRANGGEN III | C9: MRANGGEN | D9: 76 | E9: 79 | F9: =SUM(D9:E9) -> 155 | G9: 0 | H9: 0 | I9: =SUM(G9:H9) -> 0 | J9: =I9/F9*1000 -> 0 | K9: 0 | L9: 0 | M9: =SUM(K9:L9) -> 0 | N9: =I9+M9 -> 0 | O9: =N9/F9*1000 -> 0 | P9: 118 | Q9: 121 | R9: =SUM(P9:Q9) -> 239 | S9: 1 | T9: 1 | U9: =SUM(S9:T9) -> 2 | V9: =U9/R9*1000 -> 8.3682008 | W9: 0 | X9: 0 | Y9: =SUM(W9:X9) -> 0 | Z9: =U9+Y9 -> 2 | AA9: =Z9/R9*1000 -> 8.3682008 | AB9: 83 | AC9: 79 | AD9: =SUM(AB9:AC9) -> 162 | AE9: 1 | AF9: 0 | AG9: =SUM(AE9:AF9) -> 1 | AH9: =AG9/AD9*1000 -> 6.1728395 | AI9: 0 | AJ9: 0 | AK9: =SUM(AI9:AJ9) -> 0 | AL9: =AG9+AK9 -> 1 | AM9: =AL9/AD9*1000 -> 6.1728395 | AP9: =SUM(AN9:AO9) -> 0 | AS9: =SUM(AQ9:AR9) -> 0 | AT9: =AS9/AP9*1000 -> #DIV/0! | AW9: =SUM(AU9:AV9) -> 0 | AX9: =AS9+AW9 -> 0 | AY9: =AX9/AP9*1000 -> #DIV/0! | AZ9: =SUM(D9,P9,AB9,AI9) -> 277 | BA9: =SUM(E9,Q9,AC9,AJ9) -> 279 | BB9: =SUM(AZ9:BA9) -> 556 | BC9: =SUM(G9,S9,AE9,AQ9) -> 2 | BD9: =SUM(H9,T9,AF9,AR9) -> 1 | BE9: =SUM(BC9:BD9) -> 3 | BF9: =BE9/BB9*1000 -> 5.3956835 | BG9: =SUM(K9,W9,AI9,AU9) -> 0 | BH9: =SUM(L9,X9,AJ9,AV9) -> 0 | BI9: =SUM(BG9:BH9) -> 0 | BJ9: =BE9+BI9 -> 3 | BK9: =BJ9/BB9*1000 -> 5.3956835
A10: 4 | B10: KARANGAWEN I | C10: KARANGAWEN | D10: 80 | E10: 67 | F10: =SUM(D10:E10) -> 147 | G10: 1 | H10: 1 | I10: =SUM(G10:H10) -> 2 | J10: =I10/F10*1000 -> 13.605442 | K10: 0 | L10: 0 | M10: =SUM(K10:L10) -> 0 | N10: =I10+M10 -> 2 | O10: =N10/F10*1000 -> 13.605442 | P10: 101 | Q10: 82 | R10: =SUM(P10:Q10) -> 183 | S10: 0 | T10: 0 | U10: =SUM(S10:T10) -> 0 | V10: =U10/R10*1000 -> 0 | W10: 0 | X10: 0 | Y10: =SUM(W10:X10) -> 0 | Z10: =U10+Y10 -> 0 | AA10: =Z10/R10*1000 -> 0 | AB10: 64 | AC10: 47 | AD10: =SUM(AB10:AC10) -> 111 | AE10: 0 | AF10: 0 | AG10: =SUM(AE10:AF10) -> 0 | AH10: =AG10/AD10*1000 -> 0 | AI10: 0 | AJ10: 0 | AK10: =SUM(AI10:AJ10) -> 0 | AL10: =AG10+AK10 -> 0 | AM10: =AL10/AD10*1000 -> 0 | AP10: =SUM(AN10:AO10) -> 0 | AS10: =SUM(AQ10:AR10) -> 0 | AT10: =AS10/AP10*1000 -> #DIV/0! | AW10: =SUM(AU10:AV10) -> 0 | AX10: =AS10+AW10 -> 0 | AY10: =AX10/AP10*1000 -> #DIV/0! | AZ10: =SUM(D10,P10,AB10,AI10) -> 245 | BA10: =SUM(E10,Q10,AC10,AJ10) -> 196 | BB10: =SUM(AZ10:BA10) -> 441 | BC10: =SUM(G10,S10,AE10,AQ10) -> 1 | BD10: =SUM(H10,T10,AF10,AR10) -> 1 | BE10: =SUM(BC10:BD10) -> 2 | BF10: =BE10/BB10*1000 -> 4.5351474 | BG10: =SUM(K10,W10,AI10,AU10) -> 0 | BH10: =SUM(L10,X10,AJ10,AV10) -> 0 | BI10: =SUM(BG10:BH10) -> 0 | BJ10: =BE10+BI10 -> 2 | BK10: =BJ10/BB10*1000 -> 4.5351474
A11: 5 | B11: KARANGAWEN II | C11: KARANGAWEN | D11: 82 | E11: 71 | F11: =SUM(D11:E11) -> 153 | G11: 1 | H11: 2 | I11: =SUM(G11:H11) -> 3 | J11: =I11/F11*1000 -> 19.607843 | K11: 0 | L11: 0 | M11: =SUM(K11:L11) -> 0 | N11: =I11+M11 -> 3 | O11: =N11/F11*1000 -> 19.607843 | P11: 116 | Q11: 92 | R11: =SUM(P11:Q11) -> 208 | S11: 0 | T11: 1 | U11: =SUM(S11:T11) -> 1 | V11: =U11/R11*1000 -> 4.8076923 | W11: 0 | X11: 0 | Y11: =SUM(W11:X11) -> 0 | Z11: =U11+Y11 -> 1 | AA11: =Z11/R11*1000 -> 4.8076923 | AB11: 83 | AC11: 87 | AD11: =SUM(AB11:AC11) -> 170 | AE11: 0 | AF11: 0 | AG11: =SUM(AE11:AF11) -> 0 | AH11: =AG11/AD11*1000 -> 0 | AI11: 0 | AJ11: 0 | AK11: =SUM(AI11:AJ11) -> 0 | AL11: =AG11+AK11 -> 0 | AM11: =AL11/AD11*1000 -> 0 | AP11: =SUM(AN11:AO11) -> 0 | AS11: =SUM(AQ11:AR11) -> 0 | AT11: =AS11/AP11*1000 -> #DIV/0! | AW11: =SUM(AU11:AV11) -> 0 | AX11: =AS11+AW11 -> 0 | AY11: =AX11/AP11*1000 -> #DIV/0! | AZ11: =SUM(D11,P11,AB11,AI11) -> 281 | BA11: =SUM(E11,Q11,AC11,AJ11) -> 250 | BB11: =SUM(AZ11:BA11) -> 531 | BC11: =SUM(G11,S11,AE11,AQ11) -> 1 | BD11: =SUM(H11,T11,AF11,AR11) -> 3 | BE11: =SUM(BC11:BD11) -> 4 | BF11: =BE11/BB11*1000 -> 7.5329567 | BG11: =SUM(K11,W11,AI11,AU11) -> 0 | BH11: =SUM(L11,X11,AJ11,AV11) -> 0 | BI11: =SUM(BG11:BH11) -> 0 | BJ11: =BE11+BI11 -> 4 | BK11: =BJ11/BB11*1000 -> 7.5329567
A12: 6 | B12: GUNTUR I | C12: GUNTUR | D12: 95 | E12: 106 | F12: =SUM(D12:E12) -> 201 | G12: 0 | H12: 0 | I12: =SUM(G12:H12) -> 0 | J12: =I12/F12*1000 -> 0 | K12: 0 | L12: 0 | M12: =SUM(K12:L12) -> 0 | N12: =I12+M12 -> 0 | O12: =N12/F12*1000 -> 0 | P12: 102 | Q12: 87 | R12: =SUM(P12:Q12) -> 189 | S12: 1 | T12: 0 | U12: =SUM(S12:T12) -> 1 | V12: =U12/R12*1000 -> 5.2910053 | W12: 0 | X12: 0 | Y12: =SUM(W12:X12) -> 0 | Z12: =U12+Y12 -> 1 | AA12: =Z12/R12*1000 -> 5.2910053 | AB12: 77 | AC12: 70 | AD12: =SUM(AB12:AC12) -> 147 | AE12: 0 | AF12: 0 | AG12: =SUM(AE12:AF12) -> 0 | AH12: =AG12/AD12*1000 -> 0 | AI12: 0 | AJ12: 0 | AK12: =SUM(AI12:AJ12) -> 0 | AL12: =AG12+AK12 -> 0 | AM12: =AL12/AD12*1000 -> 0 | AP12: =SUM(AN12:AO12) -> 0 | AS12: =SUM(AQ12:AR12) -> 0 | AT12: =AS12/AP12*1000 -> #DIV/0! | AW12: =SUM(AU12:AV12) -> 0 | AX12: =AS12+AW12 -> 0 | AY12: =AX12/AP12*1000 -> #DIV/0! | AZ12: =SUM(D12,P12,AB12,AI12) -> 274 | BA12: =SUM(E12,Q12,AC12,AJ12) -> 263 | BB12: =SUM(AZ12:BA12) -> 537 | BC12: =SUM(G12,S12,AE12,AQ12) -> 1 | BD12: =SUM(H12,T12,AF12,AR12) -> 0 | BE12: =SUM(BC12:BD12) -> 1 | BF12: =BE12/BB12*1000 -> 1.8621974 | BG12: =SUM(K12,W12,AI12,AU12) -> 0 | BH12: =SUM(L12,X12,AJ12,AV12) -> 0 | BI12: =SUM(BG12:BH12) -> 0 | BJ12: =BE12+BI12 -> 1 | BK12: =BJ12/BB12*1000 -> 1.8621974
A13: 7 | B13: GUNTUR II | C13: GUNTUR | D13: 84 | E13: 57 | F13: =SUM(D13:E13) -> 141 | G13: 0 | H13: 0 | I13: =SUM(G13:H13) -> 0 | J13: =I13/F13*1000 -> 0 | K13: 0 | L13: 0 | M13: =SUM(K13:L13) -> 0 | N13: =I13+M13 -> 0 | O13: =N13/F13*1000 -> 0 | P13: 93 | Q13: 91 | R13: =SUM(P13:Q13) -> 184 | S13: 0 | T13: 1 | U13: =SUM(S13:T13) -> 1 | V13: =U13/R13*1000 -> 5.4347826 | W13: 0 | X13: 0 | Y13: =SUM(W13:X13) -> 0 | Z13: =U13+Y13 -> 1 | AA13: =Z13/R13*1000 -> 5.4347826 | AB13: 76 | AC13: 61 | AD13: =SUM(AB13:AC13) -> 137 | AE13: 2 | AF13: 0 | AG13: =SUM(AE13:AF13) -> 2 | AH13: =AG13/AD13*1000 -> 14.59854 | AI13: 0 | AJ13: 0 | AK13: =SUM(AI13:AJ13) -> 0 | AL13: =AG13+AK13 -> 2 | AM13: =AL13/AD13*1000 -> 14.59854 | AP13: =SUM(AN13:AO13) -> 0 | AS13: =SUM(AQ13:AR13) -> 0 | AT13: =AS13/AP13*1000 -> #DIV/0! | AW13: =SUM(AU13:AV13) -> 0 | AX13: =AS13+AW13 -> 0 | AY13: =AX13/AP13*1000 -> #DIV/0! | AZ13: =SUM(D13,P13,AB13,AI13) -> 253 | BA13: =SUM(E13,Q13,AC13,AJ13) -> 209 | BB13: =SUM(AZ13:BA13) -> 462 | BC13: =SUM(G13,S13,AE13,AQ13) -> 2 | BD13: =SUM(H13,T13,AF13,AR13) -> 1 | BE13: =SUM(BC13:BD13) -> 3 | BF13: =BE13/BB13*1000 -> 6.4935065 | BG13: =SUM(K13,W13,AI13,AU13) -> 0 | BH13: =SUM(L13,X13,AJ13,AV13) -> 0 | BI13: =SUM(BG13:BH13) -> 0 | BJ13: =BE13+BI13 -> 3 | BK13: =BJ13/BB13*1000 -> 6.4935065
A14: 8 | B14: SAYUNG I | C14: SAYUNG | D14: 55 | E14: 75 | F14: =SUM(D14:E14) -> 130 | G14: 0 | H14: 0 | I14: =SUM(G14:H14) -> 0 | J14: =I14/F14*1000 -> 0 | K14: 0 | L14: 0 | M14: =SUM(K14:L14) -> 0 | N14: =I14+M14 -> 0 | O14: =N14/F14*1000 -> 0 | P14: 92 | Q14: 84 | R14: =SUM(P14:Q14) -> 176 | S14: 0 | T14: 0 | U14: =SUM(S14:T14) -> 0 | V14: =U14/R14*1000 -> 0 | W14: 0 | X14: 0 | Y14: =SUM(W14:X14) -> 0 | Z14: =U14+Y14 -> 0 | AA14: =Z14/R14*1000 -> 0 | AB14: 66 | AC14: 51 | AD14: =SUM(AB14:AC14) -> 117 | AE14: 0 | AF14: 0 | AG14: =SUM(AE14:AF14) -> 0 | AH14: =AG14/AD14*1000 -> 0 | AI14: 0 | AJ14: 0 | AK14: =SUM(AI14:AJ14) -> 0 | AL14: =AG14+AK14 -> 0 | AM14: =AL14/AD14*1000 -> 0 | AP14: =SUM(AN14:AO14) -> 0 | AS14: =SUM(AQ14:AR14) -> 0 | AT14: =AS14/AP14*1000 -> #DIV/0! | AW14: =SUM(AU14:AV14) -> 0 | AX14: =AS14+AW14 -> 0 | AY14: =AX14/AP14*1000 -> #DIV/0! | AZ14: =SUM(D14,P14,AB14,AI14) -> 213 | BA14: =SUM(E14,Q14,AC14,AJ14) -> 210 | BB14: =SUM(AZ14:BA14) -> 423 | BC14: =SUM(G14,S14,AE14,AQ14) -> 0 | BD14: =SUM(H14,T14,AF14,AR14) -> 0 | BE14: =SUM(BC14:BD14) -> 0 | BF14: =BE14/BB14*1000 -> 0 | BG14: =SUM(K14,W14,AI14,AU14) -> 0 | BH14: =SUM(L14,X14,AJ14,AV14) -> 0 | BI14: =SUM(BG14:BH14) -> 0 | BJ14: =BE14+BI14 -> 0 | BK14: =BJ14/BB14*1000 -> 0
A15: 9 | B15: SAYUNG II | C15: SAYUNG | D15: 100 | E15: 96 | F15: =SUM(D15:E15) -> 196 | G15: 1 | H15: 0 | I15: =SUM(G15:H15) -> 1 | J15: =I15/F15*1000 -> 5.1020408 | K15: 0 | L15: 0 | M15: =SUM(K15:L15) -> 0 | N15: =I15+M15 -> 1 | O15: =N15/F15*1000 -> 5.1020408 | P15: 122 | Q15: 107 | R15: =SUM(P15:Q15) -> 229 | S15: 0 | T15: 1 | U15: =SUM(S15:T15) -> 1 | V15: =U15/R15*1000 -> 4.3668122 | W15: 0 | X15: 0 | Y15: =SUM(W15:X15) -> 0 | Z15: =U15+Y15 -> 1 | AA15: =Z15/R15*1000 -> 4.3668122 | AB15: 92 | AC15: 89 | AD15: =SUM(AB15:AC15) -> 181 | AE15: 0 | AF15: 1 | AG15: =SUM(AE15:AF15) -> 1 | AH15: =AG15/AD15*1000 -> 5.5248619 | AI15: 0 | AJ15: 0 | AK15: =SUM(AI15:AJ15) -> 0 | AL15: =AG15+AK15 -> 1 | AM15: =AL15/AD15*1000 -> 5.5248619 | AP15: =SUM(AN15:AO15) -> 0 | AS15: =SUM(AQ15:AR15) -> 0 | AT15: =AS15/AP15*1000 -> #DIV/0! | AW15: =SUM(AU15:AV15) -> 0 | AX15: =AS15+AW15 -> 0 | AY15: =AX15/AP15*1000 -> #DIV/0! | AZ15: =SUM(D15,P15,AB15,AI15) -> 314 | BA15: =SUM(E15,Q15,AC15,AJ15) -> 292 | BB15: =SUM(AZ15:BA15) -> 606 | BC15: =SUM(G15,S15,AE15,AQ15) -> 1 | BD15: =SUM(H15,T15,AF15,AR15) -> 2 | BE15: =SUM(BC15:BD15) -> 3 | BF15: =BE15/BB15*1000 -> 4.950495 | BG15: =SUM(K15,W15,AI15,AU15) -> 0 | BH15: =SUM(L15,X15,AJ15,AV15) -> 0 | BI15: =SUM(BG15:BH15) -> 0 | BJ15: =BE15+BI15 -> 3 | BK15: =BJ15/BB15*1000 -> 4.950495
A16: 10 | B16: KARANGTENGAH | C16: KARANGTENGAH | D16: 127 | E16: 115 | F16: =SUM(D16:E16) -> 242 | G16: 1 | H16: 0 | I16: =SUM(G16:H16) -> 1 | J16: =I16/F16*1000 -> 4.1322314 | K16: 0 | L16: 0 | M16: =SUM(K16:L16) -> 0 | N16: =I16+M16 -> 1 | O16: =N16/F16*1000 -> 4.1322314 | P16: 183 | Q16: 145 | R16: =SUM(P16:Q16) -> 328 | S16: 1 | T16: 1 | U16: =SUM(S16:T16) -> 2 | V16: =U16/R16*1000 -> 6.097561 | W16: 0 | X16: 0 | Y16: =SUM(W16:X16) -> 0 | Z16: =U16+Y16 -> 2 | AA16: =Z16/R16*1000 -> 6.097561 | AB16: 141 | AC16: 115 | AD16: =SUM(AB16:AC16) -> 256 | AE16: 1 | AF16: 0 | AG16: =SUM(AE16:AF16) -> 1 | AH16: =AG16/AD16*1000 -> 3.90625 | AI16: 0 | AJ16: 0 | AK16: =SUM(AI16:AJ16) -> 0 | AL16: =AG16+AK16 -> 1 | AM16: =AL16/AD16*1000 -> 3.90625 | AP16: =SUM(AN16:AO16) -> 0 | AS16: =SUM(AQ16:AR16) -> 0 | AT16: =AS16/AP16*1000 -> #DIV/0! | AW16: =SUM(AU16:AV16) -> 0 | AX16: =AS16+AW16 -> 0 | AY16: =AX16/AP16*1000 -> #DIV/0! | AZ16: =SUM(D16,P16,AB16,AI16) -> 451 | BA16: =SUM(E16,Q16,AC16,AJ16) -> 375 | BB16: =SUM(AZ16:BA16) -> 826 | BC16: =SUM(G16,S16,AE16,AQ16) -> 3 | BD16: =SUM(H16,T16,AF16,AR16) -> 1 | BE16: =SUM(BC16:BD16) -> 4 | BF16: =BE16/BB16*1000 -> 4.842615 | BG16: =SUM(K16,W16,AI16,AU16) -> 0 | BH16: =SUM(L16,X16,AJ16,AV16) -> 0 | BI16: =SUM(BG16:BH16) -> 0 | BJ16: =BE16+BI16 -> 4 | BK16: =BJ16/BB16*1000 -> 4.842615
A17: 11 | B17: BONANG I | C17: BONANG I | D17: 120 | E17: 102 | F17: =SUM(D17:E17) -> 222 | G17: 0 | H17: 0 | I17: =SUM(G17:H17) -> 0 | J17: =I17/F17*1000 -> 0 | K17: 0 | L17: 0 | M17: =SUM(K17:L17) -> 0 | N17: =I17+M17 -> 0 | O17: =N17/F17*1000 -> 0 | P17: 118 | Q17: 130 | R17: =SUM(P17:Q17) -> 248 | S17: 1 | T17: 0 | U17: =SUM(S17:T17) -> 1 | V17: =U17/R17*1000 -> 4.0322581 | W17: 0 | X17: 1 | Y17: =SUM(W17:X17) -> 1 | Z17: =U17+Y17 -> 2 | AA17: =Z17/R17*1000 -> 8.0645161 | AB17: 98 | AC17: 91 | AD17: =SUM(AB17:AC17) -> 189 | AE17: 2 | AF17: 0 | AG17: =SUM(AE17:AF17) -> 2 | AH17: =AG17/AD17*1000 -> 10.582011 | AI17: 0 | AJ17: 0 | AK17: =SUM(AI17:AJ17) -> 0 | AL17: =AG17+AK17 -> 2 | AM17: =AL17/AD17*1000 -> 10.582011 | AP17: =SUM(AN17:AO17) -> 0 | AS17: =SUM(AQ17:AR17) -> 0 | AT17: =AS17/AP17*1000 -> #DIV/0! | AW17: =SUM(AU17:AV17) -> 0 | AX17: =AS17+AW17 -> 0 | AY17: =AX17/AP17*1000 -> #DIV/0! | AZ17: =SUM(D17,P17,AB17,AI17) -> 336 | BA17: =SUM(E17,Q17,AC17,AJ17) -> 323 | BB17: =SUM(AZ17:BA17) -> 659 | BC17: =SUM(G17,S17,AE17,AQ17) -> 3 | BD17: =SUM(H17,T17,AF17,AR17) -> 0 | BE17: =SUM(BC17:BD17) -> 3 | BF17: =BE17/BB17*1000 -> 4.552352 | BG17: =SUM(K17,W17,AI17,AU17) -> 0 | BH17: =SUM(L17,X17,AJ17,AV17) -> 1 | BI17: =SUM(BG17:BH17) -> 1 | BJ17: =BE17+BI17 -> 4 | BK17: =BJ17/BB17*1000 -> 6.0698027
A18: 12 | B18: BONANG II | C18: BONANG I | D18: 85 | E18: 76 | F18: =SUM(D18:E18) -> 161 | G18: 1 | H18: 0 | I18: =SUM(G18:H18) -> 1 | J18: =I18/F18*1000 -> 6.2111801 | K18: 0 | L18: 0 | M18: =SUM(K18:L18) -> 0 | N18: =I18+M18 -> 1 | O18: =N18/F18*1000 -> 6.2111801 | P18: 101 | Q18: 118 | R18: =SUM(P18:Q18) -> 219 | S18: 1 | T18: 0 | U18: =SUM(S18:T18) -> 1 | V18: =U18/R18*1000 -> 4.56621 | W18: 0 | X18: 0 | Y18: =SUM(W18:X18) -> 0 | Z18: =U18+Y18 -> 1 | AA18: =Z18/R18*1000 -> 4.56621 | AB18: 66 | AC18: 58 | AD18: =SUM(AB18:AC18) -> 124 | AE18: 1 | AF18: 0 | AG18: =SUM(AE18:AF18) -> 1 | AH18: =AG18/AD18*1000 -> 8.0645161 | AI18: 0 | AJ18: 0 | AK18: =SUM(AI18:AJ18) -> 0 | AL18: =AG18+AK18 -> 1 | AM18: =AL18/AD18*1000 -> 8.0645161 | AP18: =SUM(AN18:AO18) -> 0 | AS18: =SUM(AQ18:AR18) -> 0 | AT18: =AS18/AP18*1000 -> #DIV/0! | AW18: =SUM(AU18:AV18) -> 0 | AX18: =AS18+AW18 -> 0 | AY18: =AX18/AP18*1000 -> #DIV/0! | AZ18: =SUM(D18,P18,AB18,AI18) -> 252 | BA18: =SUM(E18,Q18,AC18,AJ18) -> 252 | BB18: =SUM(AZ18:BA18) -> 504 | BC18: =SUM(G18,S18,AE18,AQ18) -> 3 | BD18: =SUM(H18,T18,AF18,AR18) -> 0 | BE18: =SUM(BC18:BD18) -> 3 | BF18: =BE18/BB18*1000 -> 5.952381 | BG18: =SUM(K18,W18,AI18,AU18) -> 0 | BH18: =SUM(L18,X18,AJ18,AV18) -> 0 | BI18: =SUM(BG18:BH18) -> 0 | BJ18: =BE18+BI18 -> 3 | BK18: =BJ18/BB18*1000 -> 5.952381
... A33: 27 | B33: WEDUNG II | C33: WEDUNG | D33: 66 | E33: 52 | F33: =SUM(D33:E33) -> 118 | G33: 0 | H33: 0 | I33: =SUM(G33:H33) -> 0 | J33: =I33/F33*1000 -> 0 | K33: 0 | L33: 0 | M33: =SUM(K33:L33) -> 0 | N33: =I33+M33 -> 0 | O33: =N33/F33*1000 -> 0 | P33: 81 | Q33: 63 | R33: =SUM(P33:Q33) -> 144 | S33: 0 | T33: 0 | U33: =SUM(S33:T33) -> 0 | V33: =U33/R33*1000 -> 0 | W33: 1 | X33: 0 | Y33: =SUM(W33:X33) -> 1 | Z33: =U33+Y33 -> 1 | AA33: =Z33/R33*1000 -> 6.9444444 | AB33: 44 | AC33: 43 | AD33: =SUM(AB33:AC33) -> 87 | AE33: 0 | AF33: 0 | AG33: =SUM(AE33:AF33) -> 0 | AH33: =AG33/AD33*1000 -> 0 | AI33: 0 | AJ33: 0 | AK33: =SUM(AI33:AJ33) -> 0 | AL33: =AG33+AK33 -> 0 | AM33: =AL33/AD33*1000 -> 0 | AP33: =SUM(AN33:AO33) -> 0 | AS33: =SUM(AQ33:AR33) -> 0 | AT33: =AS33/AP33*1000 -> #DIV/0! | AW33: =SUM(AU33:AV33) -> 0 | AX33: =AS33+AW33 -> 0 | AY33: =AX33/AP33*1000 -> #DIV/0! | AZ33: =SUM(D33,P33,AB33,AI33) -> 191 | BA33: =SUM(E33,Q33,AC33,AJ33) -> 158 | BB33: =SUM(AZ33:BA33) -> 349 | BC33: =SUM(G33,S33,AE33,AQ33) -> 0 | BD33: =SUM(H33,T33,AF33,AR33) -> 0 | BE33: =SUM(BC33:BD33) -> 0 | BF33: =BE33/BB33*1000 -> 0 | BG33: =SUM(K33,W33,AI33,AU33) -> 1 | BH33: =SUM(L33,X33,AJ33,AV33) -> 0 | BI33: =SUM(BG33:BH33) -> 1 | BJ33: =BE33+BI33 -> 1 | BK33: =BJ33/BB33*1000 -> 2.8653295
A34: TOTAL | D34: =SUM(D7:D33) -> 2070 | E34: =SUM(E7:E33) -> 1873 | F34: =SUM(D34:E34) -> 3943 | G34: =SUM(G7:G33) -> 13 | H34: =SUM(H7:H33) -> 7 | I34: =SUM(I7:I33) -> 20 | J34: =I34/F34*1000 -> 5.07228 | K34: =SUM(K7:K33) -> 0 | L34: =SUM(L7:L33) -> 1 | M34: =SUM(K34:L34) -> 1 | N34: =I34+M34 -> 21 | O34: =N34/F34*1000 -> 5.325894 | P34: =SUM(P7:P33) -> 2501 | Q34: =SUM(Q7:Q33) -> 2315 | R34: =SUM(P34:Q34) -> 4816 | S34: =SUM(S7:S33) -> 18 | T34: =SUM(T7:T33) -> 13 | U34: =SUM(U7:U33) -> 31 | V34: =U34/R34*1000 -> 6.4368771 | W34: =SUM(W7:W33) -> 2 | X34: =SUM(X7:X33) -> 4 | Y34: =SUM(W34:X34) -> 6 | Z34: =U34+Y34 -> 37 | AA34: =Z34/R34*1000 -> 7.6827243 | AB34: =SUM(AB7:AB33) -> 1805 | AC34: =SUM(AC7:AC33) -> 1688 | AD34: =SUM(AB34:AC34) -> 3493 | AE34: =SUM(AE7:AE33) -> 11 | AF34: =SUM(AF7:AF33) -> 11 | AG34: =SUM(AG7:AG33) -> 22 | AH34: =AG34/AD34*1000 -> 6.2983109 | AI34: =SUM(AI7:AI33) -> 0 | AJ34: =SUM(AJ7:AJ33) -> 0 | AK34: =SUM(AK7:AK33) -> 0 | AL34: =AG34+AK34 -> 22 | AM34: =AL34/AD34*1000 -> 6.2983109 | AN34: =SUM(AN7:AN33) -> 0 | AO34: =SUM(AO7:AO33) -> 0 | AP34: =SUM(AN34:AO34) -> 0 | AQ34: =SUM(AQ7:AQ33) -> 0 | AR34: =SUM(AR7:AR33) -> 0 | AS34: =SUM(AS7:AS33) -> 0 | AT34: =AS34/AP34*1000 -> #DIV/0! | AU34: =SUM(AU7:AU33) -> 0 | AV34: =SUM(AV7:AV33) -> 0 | AW34: =SUM(AU34:AV34) -> 0 | AX34: =AS34+AW34 -> 0 | AY34: =AX34/AP34*1000 -> #DIV/0! | AZ34: =SUM(AZ7:AZ33) -> 6376 | BA34: =SUM(BA7:BA33) -> 5876 | BB34: =SUM(AZ34:BA34) -> 12252 | BC34: =SUM(BC7:BC33) -> 42 | BD34: =SUM(BD7:BD33) -> 31 | BE34: =SUM(BE7:BE33) -> 73 | BF34: =BE34/BB34*1000 -> 5.9582109 | BG34: =SUM(BG7:BG33) -> 2 | BH34: =SUM(BH7:BH33) -> 5 | BI34: =SUM(BG34:BH34) -> 7 | BJ34: =BE34+BI34 -> 80 | BK34: =BJ34/BB34*1000 -> 6.5295462

Sheet NNDR
A1: TAHUN 2025
A3: ANGKA KEMATIAN NEONATAL
A4: NO | B4: PUSKESMAS | C4: KECAMATAN | D4: TRIWULAN I (JAN-MAR) | K4: TRIWULAN II(APR-JUN) | R4: TRIWULAN III (JUL-SEP) | Y4: TRIWULAN IV (OKT-DES) | AF4: TAHUN 2025
D5: KELAHIRAN HIDUP | G5: KASUS KEMATIAN NEONATAL | J5: AKN | K5: KELAHIRAN HIDUP | N5: KASUS KEMATIAN NEONATAL | Q5: AKN | R5: KELAHIRAN HIDUP | U5: KASUS KEMATIAN NEONATAL | X5: AKN | Y5: KELAHIRAN HIDUP | AB5: KASUS KEMATIAN NEONATAL | AE5: AKN | AF5: KELAHIRAN HIDUP | AI5: KASUS KEMATIAN NEONATAL | AL5: AKN
D6: L | E6: P | F6: T | G6: L | H6: P | I6: T | K6: L | L6: P | M6: T | N6: L | O6: P | P6: T | R6: L | S6: P | T6: T | U6: L | V6: P | W6: T | Y6: L | Z6: P | AA6: T | AB6: L | AC6: P | AD6: T | AF6: L | AG6: P | AH6: T | AI6: L | AJ6: P | AK6: T
A7: 1 | B7: MRANGGEN I | C7: MRANGGEN | D7: ='AKB&AKABA'!D7 -> 88 | E7: ='AKB&AKABA'!E7 -> 76 | F7: =SUM(D7:E7) -> 164 | G7: 0 | H7: 2 | I7: =SUM(G7:H7) -> 2 | J7: =I7/F7*1000 -> 12.195122 | K7: ='AKB&AKABA'!P7 -> 120 | L7: ='AKB&AKABA'!Q7 -> 100 | M7: =SUM(K7:L7) -> 220 | N7: 1 | O7: 0 | P7: =SUM(N7:O7) -> 1 | Q7: =P7/M7*1000 -> 4.5454545 | R7: 292 | S7: 284 | T7: =SUM(R7:S7) -> 576 | U7: 0 | V7: 1 | W7: =SUM(U7:V7) -> 1 | X7: =W7/T7*1000 -> 1.7361111 | AA7: =SUM(Y7:Z7) -> 0 | AD7: =SUM(AB7:AC7) -> 0 | AE7: =AD7/AA7*1000 -> #DIV/0! | AF7: =SUM(D7,K7,R7,Y7) -> 500 | AG7: =SUM(E7,L7,S7,Z7) -> 460 | AH7: =SUM(AF7:AG7) -> 960 | AI7: =SUM(G7,N7,U7,AB7) -> 1 | AJ7: =SUM(H7,O7,V7,AC7) -> 3 | AK7: =SUM(AI7:AJ7) -> 4 | AL7: =AK7/AH7*1000 -> 4.1666667
A8: 2 | B8: MRANGGEN II | C8: MRANGGEN | D8: ='AKB&AKABA'!D8 -> 108 | E8: ='AKB&AKABA'!E8 -> 86 | F8: =SUM(D8:E8) -> 194 | G8: 0 | H8: 0 | I8: =SUM(G8:H8) -> 0 | J8: =I8/F8*1000 -> 0 | K8: ='AKB&AKABA'!P8 -> 100 | L8: ='AKB&AKABA'!Q8 -> 95 | M8: =SUM(K8:L8) -> 195 | N8: 1 | O8: 0 | P8: =SUM(N8:O8) -> 1 | Q8: =P8/M8*1000 -> 5.1282051 | R8: 304 | S8: 271 | T8: =SUM(R8:S8) -> 575 | U8: 0 | V8: 0 | W8: =SUM(U8:V8) -> 0 | X8: =W8/T8*1000 -> 0 | AA8: =SUM(Y8:Z8) -> 0 | AD8: =SUM(AB8:AC8) -> 0 | AE8: =AD8/AA8*1000 -> #DIV/0! | AF8: =SUM(D8,K8,R8,Y8) -> 512 | AG8: =SUM(E8,L8,S8,Z8) -> 452 | AH8: =SUM(AF8:AG8) -> 964 | AI8: =SUM(G8,N8,U8,AB8) -> 1 | AJ8: =SUM(H8,O8,V8,AC8) -> 0 | AK8: =SUM(AI8:AJ8) -> 1 | AL8: =AK8/AH8*1000 -> 1.0373444
A9: 3 | B9: MRANGGEN III | C9: MRANGGEN | D9: ='AKB&AKABA'!D9 -> 76 | E9: ='AKB&AKABA'!E9 -> 79 | F9: =SUM(D9:E9) -> 155 | G9: 0 | H9: 0 | I9: =SUM(G9:H9) -> 0 | J9: =I9/F9*1000 -> 0 | K9: ='AKB&AKABA'!P9 -> 118 | L9: ='AKB&AKABA'!Q9 -> 121 | M9: =SUM(K9:L9) -> 239 | N9: 0 | O9: 2 | P9: =SUM(N9:O9) -> 2 | Q9: =P9/M9*1000 -> 8.3682008 | R9: 277 | S9: 279 | T9: =SUM(R9:S9) -> 556 | U9: 1 | V9: 0 | W9: =SUM(U9:V9) -> 1 | X9: =W9/T9*1000 -> 1.7985612 | AA9: =SUM(Y9:Z9) -> 0 | AD9: =SUM(AB9:AC9) -> 0 | AE9: =AD9/AA9*1000 -> #DIV/0! | AF9: =SUM(D9,K9,R9,Y9) -> 471 | AG9: =SUM(E9,L9,S9,Z9) -> 479 | AH9: =SUM(AF9:AG9) -> 950 | AI9: =SUM(G9,N9,U9,AB9) -> 1 | AJ9: =SUM(H9,O9,V9,AC9) -> 2 | AK9: =SUM(AI9:AJ9) -> 3 | AL9: =AK9/AH9*1000 -> 3.1578947
A10: 4 | B10: KARANGAWEN I | C10: KARANGAWEN | D10: ='AKB&AKABA'!D10 -> 80 | E10: ='AKB&AKABA'!E10 -> 67 | F10: =SUM(D10:E10) -> 147 | G10: 1 | H10: 1 | I10: =SUM(G10:H10) -> 2 | J10: =I10/F10*1000 -> 13.605442 | K10: ='AKB&AKABA'!P10 -> 101 | L10: ='AKB&AKABA'!Q10 -> 82 | M10: =SUM(K10:L10) -> 183 | N10: 0 | O10: 0 | P10: =SUM(N10:O10) -> 0 | Q10: =P10/M10*1000 -> 0 | R10: 245 | S10: 196 | T10: =SUM(R10:S10) -> 441 | U10: 0 | V10: 0 | W10: =SUM(U10:V10) -> 0 | X10: =W10/T10*1000 -> 0 | AA10: =SUM(Y10:Z10) -> 0 | AD10: =SUM(AB10:AC10) -> 0 | AE10: =AD10/AA10*1000 -> #DIV/0! | AF10: =SUM(D10,K10,R10,Y10) -> 426 | AG10: =SUM(E10,L10,S10,Z10) -> 345 | AH10: =SUM(AF10:AG10) -> 771 | AI10: =SUM(G10,N10,U10,AB10) -> 1 | AJ10: =SUM(H10,O10,V10,AC10) -> 1 | AK10: =SUM(AI10:AJ10) -> 2 | AL10: =AK10/AH10*1000 -> 2.5940337
A11: 5 | B11: KARANGAWEN II | C11: KARANGAWEN | D11: ='AKB&AKABA'!D11 -> 82 | E11: ='AKB&AKABA'!E11 -> 71 | F11: =SUM(D11:E11) -> 153 | G11: 1 | H11: 1 | I11: =SUM(G11:H11) -> 2 | J11: =I11/F11*1000 -> 13.071895 | K11: ='AKB&AKABA'!P11 -> 116 | L11: ='AKB&AKABA'!Q11 -> 92 | M11: =SUM(K11:L11) -> 208 | N11: 0 | O11: 0 | P11: =SUM(N11:O11) -> 0 | Q11: =P11/M11*1000 -> 0 | R11: 281 | S11: 250 | T11: =SUM(R11:S11) -> 531 | U11: 0 | V11: 0 | W11: =SUM(U11:V11) -> 0 | X11: =W11/T11*1000 -> 0 | AA11: =SUM(Y11:Z11) -> 0 | AD11: =SUM(AB11:AC11) -> 0 | AE11: =AD11/AA11*1000 -> #DIV/0! | AF11: =SUM(D11,K11,R11,Y11) -> 479 | AG11: =SUM(E11,L11,S11,Z11) -> 413 | AH11: =SUM(AF11:AG11) -> 892 | AI11: =SUM(G11,N11,U11,AB11) -> 1 | AJ11: =SUM(H11,O11,V11,AC11) -> 1 | AK11: =SUM(AI11:AJ11) -> 2 | AL11: =AK11/AH11*1000 -> 2.2421525
A12: 6 | B12: GUNTUR I | C12: GUNTUR | D12: ='AKB&AKABA'!D12 -> 95 | E12: ='AKB&AKABA'!E12 -> 106 | F12: =SUM(D12:E12) -> 201 | G12: 0 | H12: 0 | I12: =SUM(G12:H12) -> 0 | J12: =I12/F12*1000 -> 0 | K12: ='AKB&AKABA'!P12 -> 102 | L12: ='AKB&AKABA'!Q12 -> 87 | M12: =SUM(K12:L12) -> 189 | N12: 1 | O12: 0 | P12: =SUM(N12:O12) -> 1 | Q12: =P12/M12*1000 -> 5.2910053 | R12: 274 | S12: 263 | T12: =SUM(R12:S12) -> 537 | U12: 0 | V12: 0 | W12: =SUM(U12:V12) -> 0 | X12: =W12/T12*1000 -> 0 | AA12: =SUM(Y12:Z12) -> 0 | AD12: =SUM(AB12:AC12) -> 0 | AE12: =AD12/AA12*1000 -> #DIV/0! | AF12: =SUM(D12,K12,R12,Y12) -> 471 | AG12: =SUM(E12,L12,S12,Z12) -> 456 | AH12: =SUM(AF12:AG12) -> 927 | AI12: =SUM(G12,N12,U12,AB12) -> 1 | AJ12: =SUM(H12,O12,V12,AC12) -> 0 | AK12: =SUM(AI12:AJ12) -> 1 | AL12: =AK12/AH12*1000 -> 1.0787487
A13: 7 | B13: GUNTUR II | C13: GUNTUR | D13: ='AKB&AKABA'!D13 -> 84 | E13: ='AKB&AKABA'!E13 -> 57 | F13: =SUM(D13:E13) -> 141 | G13: 0 | H13: 0 | I13: =SUM(G13:H13) -> 0 | J13: =I13/F13*1000 -> 0 | K13: ='AKB&AKABA'!P13 -> 93 | L13: ='AKB&AKABA'!Q13 -> 91 | M13: =SUM(K13:L13) -> 184 | N13: 0 | O13: 1 | P13: =SUM(N13:O13) -> 1 | Q13: =P13/M13*1000 -> 5.4347826 | R13: 253 | S13: 209 | T13: =SUM(R13:S13) -> 462 | U13: 1 | V13: 0 | W13: =SUM(U13:V13) -> 1 | X13: =W13/T13*1000 -> 2.1645022 | AA13: =SUM(Y13:Z13) -> 0 | AD13: =SUM(AB13:AC13) -> 0 | AE13: =AD13/AA13*1000 -> #DIV/0! | AF13: =SUM(D13,K13,R13,Y13) -> 430 | AG13: =SUM(E13,L13,S13,Z13) -> 357 | AH13: =SUM(AF13:AG13) -> 787 | AI13: =SUM(G13,N13,U13,AB13) -> 1 | AJ13: =SUM(H13,O13,V13,AC13) -> 1 | AK13: =SUM(AI13:AJ13) -> 2 | AL13: =AK13/AH13*1000 -> 2.5412961
A14: 8 | B14: SAYUNG I | C14: SAYUNG | D14: ='AKB&AKABA'!D14 -> 55 | E14: ='AKB&AKABA'!E14 -> 75 | F14: =SUM(D14:E14) -> 130 | G14: 0 | H14: 0 | I14: =SUM(G14:H14) -> 0 | J14: =I14/F14*1000 -> 0 | K14: ='AKB&AKABA'!P14 -> 92 | L14: ='AKB&AKABA'!Q14 -> 84 | M14: =SUM(K14:L14) -> 176 | N14: 0 | O14: 0 | P14: =SUM(N14:O14) -> 0 | Q14: =P14/M14*1000 -> 0 | R14: 213 | S14: 210 | T14: =SUM(R14:S14) -> 423 | U14: 0 | V14: 0 | W14: =SUM(U14:V14) -> 0 | X14: =W14/T14*1000 -> 0 | AA14: =SUM(Y14:Z14) -> 0 | AD14: =SUM(AB14:AC14) -> 0 | AE14: =AD14/AA14*1000 -> #DIV/0! | AF14: =SUM(D14,K14,R14,Y14) -> 360 | AG14: =SUM(E14,L14,S14,Z14) -> 369 | AH14: =SUM(AF14:AG14) -> 729 | AI14: =SUM(G14,N14,U14,AB14) -> 0 | AJ14: =SUM(H14,O14,V14,AC14) -> 0 | AK14: =SUM(AI14:AJ14) -> 0 | AL14: =AK14/AH14*1000 -> 0
A15: 9 | B15: SAYUNG II | C15: SAYUNG | D15: ='AKB&AKABA'!D15 -> 100 | E15: ='AKB&AKABA'!E15 -> 96 | F15: =SUM(D15:E15) -> 196 | G15: 1 | H15: 0 | I15: =SUM(G15:H15) -> 1 | J15: =I15/F15*1000 -> 5.1020408 | K15: ='AKB&AKABA'!P15 -> 122 | L15: ='AKB&AKABA'!Q15 -> 107 | M15: =SUM(K15:L15) -> 229 | N15: 0 | O15: 0 | P15: =SUM(N15:O15) -> 0 | Q15: =P15/M15*1000 -> 0 | R15: 314 | S15: 292 | T15: =SUM(R15:S15) -> 606 | U15: 0 | V15: 1 | W15: =SUM(U15:V15) -> 1 | X15: =W15/T15*1000 -> 1.650165 | AA15: =SUM(Y15:Z15) -> 0 | AD15: =SUM(AB15:AC15) -> 0 | AE15: =AD15/AA15*1000 -> #DIV/0! | AF15: =SUM(D15,K15,R15,Y15) -> 536 | AG15: =SUM(E15,L15,S15,Z15) -> 495 | AH15: =SUM(AF15:AG15) -> 1031 | AI15: =SUM(G15,N15,U15,AB15) -> 1 | AJ15: =SUM(H15,O15,V15,AC15) -> 1 | AK15: =SUM(AI15:AJ15) -> 2 | AL15: =AK15/AH15*1000 -> 1.9398642
A16: 10 | B16: KARANGTENGAH | C16: KARANGTENGAH | D16: ='AKB&AKABA'!D16 -> 127 | E16: ='AKB&AKABA'!E16 -> 115 | F16: =SUM(D16:E16) -> 242 | G16: 1 | H16: 0 | I16: =SUM(G16:H16) -> 1 | J16: =I16/F16*1000 -> 4.1322314 | K16: ='AKB&AKABA'!P16 -> 183 | L16: ='AKB&AKABA'!Q16 -> 145 | M16: =SUM(K16:L16) -> 328 | N16: 1 | O16: 1 | P16: =SUM(N16:O16) -> 2 | Q16: =P16/M16*1000 -> 6.097561 | R16: 451 | S16: 375 | T16: =SUM(R16:S16) -> 826 | U16: 0 | V16: 0 | W16: =SUM(U16:V16) -> 0 | X16: =W16/T16*1000 -> 0 | AA16: =SUM(Y16:Z16) -> 0 | AD16: =SUM(AB16:AC16) -> 0 | AE16: =AD16/AA16*1000 -> #DIV/0! | AF16: =SUM(D16,K16,R16,Y16) -> 761 | AG16: =SUM(E16,L16,S16,Z16) -> 635 | AH16: =SUM(AF16:AG16) -> 1396 | AI16: =SUM(G16,N16,U16,AB16) -> 2 | AJ16: =SUM(H16,O16,V16,AC16) -> 1 | AK16: =SUM(AI16:AJ16) -> 3 | AL16: =AK16/AH16*1000 -> 2.1489971
A17: 11 | B17: BONANG I | C17: BONANG I | D17: ='AKB&AKABA'!D17 -> 120 | E17: ='AKB&AKABA'!E17 -> 102 | F17: =SUM(D17:E17) -> 222 | G17: 0 | H17: 0 | I17: =SUM(G17:H17) -> 0 | J17: =I17/F17*1000 -> 0 | K17: ='AKB&AKABA'!P17 -> 118 | L17: ='AKB&AKABA'!Q17 -> 130 | M17: =SUM(K17:L17) -> 248 | N17: 1 | O17: 0 | P17: =SUM(N17:O17) -> 1 | Q17: =P17/M17*1000 -> 4.0322581 | R17: 336 | S17: 323 | T17: =SUM(R17:S17) -> 659 | U17: 1 | V17: 0 | W17: =SUM(U17:V17) -> 1 | X17: =W17/T17*1000 -> 1.5174507 | AA17: =SUM(Y17:Z17) -> 0 | AD17: =SUM(AB17:AC17) -> 0 | AE17: =AD17/AA17*1000 -> #DIV/0! | AF17: =SUM(D17,K17,R17,Y17) -> 574 | AG17: =SUM(E17,L17,S17,Z17) -> 555 | AH17: =SUM(AF17:AG17) -> 1129 | AI17: =SUM(G17,N17,U17,AB17) -> 2 | AJ17: =SUM(H17,O17,V17,AC17) -> 0 | AK17: =SUM(AI17:AJ17) -> 2 | AL17: =AK17/AH17*1000 -> 1.7714792
A18: 12 | B18: BONANG II | C18: BONANG I | D18: ='AKB&AKABA'!D18 -> 85 | E18: ='AKB&AKABA'!E18 -> 76 | F18: =SUM(D18:E18) -> 161 | G18: 1 | H18: 0 | I18: =SUM(G18:H18) -> 1 | J18: =I18/F18*1000 -> 6.2111801 | K18: ='AKB&AKABA'!P18 -> 101 | L18: ='AKB&AKABA'!Q18 -> 118 | M18: =SUM(K18:L18) -> 219 | N18: 1 | O18: 0 | P18: =SUM(N18:O18) -> 1 | Q18: =P18/M18*1000 -> 4.56621 | R18: 252 | S18: 252 | T18: =SUM(R18:S18) -> 504 | U18: 1 | V18: 0 | W18: =SUM(U18:V18) -> 1 | X18: =W18/T18*1000 -> 1.984127 | AA18: =SUM(Y18:Z18) -> 0 | AD18: =SUM(AB18:AC18) -> 0 | AE18: =AD18/AA18*1000 -> #DIV/0! | AF18: =SUM(D18,K18,R18,Y18) -> 438 | AG18: =SUM(E18,L18,S18,Z18) -> 446 | AH18: =SUM(AF18:AG18) -> 884 | AI18: =SUM(G18,N18,U18,AB18) -> 3 | AJ18: =SUM(H18,O18,V18,AC18) -> 0 | AK18: =SUM(AI18:AJ18) -> 3 | AL18: =AK18/AH18*1000 -> 3.3936652
... A33: 27 | B33: WEDUNG II | C33: WEDUNG | D33: ='AKB&AKABA'!D33 -> 66 | E33: ='AKB&AKABA'!E33 -> 52 | F33: =SUM(D33:E33) -> 118 | G33: 0 | H33: 0 | I33: =SUM(G33:H33) -> 0 | J33: =I33/F33*1000 -> 0 | K33: ='AKB&AKABA'!P33 -> 81 | L33: ='AKB&AKABA'!Q33 -> 63 | M33: =SUM(K33:L33) -> 144 | N33: 0 | O33: 0 | P33: =SUM(N33:O33) -> 0 | Q33: =P33/M33*1000 -> 0 | R33: 191 | S33: 158 | T33: =SUM(R33:S33) -> 349 | U33: 0 | V33: 0 | W33: =SUM(U33:V33) -> 0 | X33: =W33/T33*1000 -> 0 | AA33: =SUM(Y33:Z33) -> 0 | AD33: =SUM(AB33:AC33) -> 0 | AE33: =AD33/AA33*1000 -> #DIV/0! | AF33: =SUM(D33,K33,R33,Y33) -> 338 | AG33: =SUM(E33,L33,S33,Z33) -> 273 | AH33: =SUM(AF33:AG33) -> 611 | AI33: =SUM(G33,N33,U33,AB33) -> 0 | AJ33: =SUM(H33,O33,V33,AC33) -> 0 | AK33: =SUM(AI33:AJ33) -> 0 | AL33: =AK33/AH33*1000 -> 0
A34: TOTAL | D34: =SUM(D7:D33) -> 2070 | E34: =SUM(E7:E33) -> 1873 | F34: =SUM(D34:E34) -> 3943 | G34: =SUM(G7:G33) -> 10 | H34: =SUM(H7:H33) -> 5 | I34: =SUM(I7:I33) -> 15 | J34: =I34/F34*1000 -> 3.80421 | K34: =SUM(K7:K33) -> 2501 | L34: =SUM(L7:L33) -> 2315 | M34: =SUM(K34:L34) -> 4816 | N34: =SUM(N7:N33) -> 12 | O34: =SUM(O7:O33) -> 7 | P34: =SUM(P7:P33) -> 19 | Q34: =P34/M34*1000 -> 3.9451827 | R34: =SUM(R7:R33) -> 6376 | S34: =SUM(S7:S33) -> 5876 | T34: =SUM(R34:S34) -> 12252 | U34: =SUM(U7:U33) -> 7 | V34: =SUM(V7:V33) -> 9 | W34: =SUM(W7:W33) -> 16 | X34: =W34/T34*1000 -> 1.3059092 | Y34: =SUM(Y7:Y33) -> 0 | Z34: =SUM(Z7:Z33) -> 0 | AA34: =SUM(Y34:Z34) -> 0 | AB34: =SUM(AB7:AB33) -> 0 | AC34: =SUM(AC7:AC33) -> 0 | AD34: =SUM(AD7:AD33) -> 0 | AE34: =AD34/AA34*1000 -> #DIV/0! | AF34: =SUM(AF7:AF33) -> 10947 | AG34: =SUM(AG7:AG33) -> 10064 | AH34: =SUM(AF34:AG34) -> 21011 | AI34: =SUM(AI7:AI33) -> 29 | AJ34: =SUM(AJ7:AJ33) -> 21 | AK34: =SUM(AK7:AK33) -> 50 | AL34: =AK34/AH34*1000 -> 2.3797059

Sheet PNDR 
A1: TAHUN 2025
A3: ANGKA KEMATIAN POST NEONATAL
A4: NO | B4: PUSKESMAS | C4: KECAMATAN | D4: TRIWULAN I (JAN-MAR) | K4: TRIWULAN II(APR-JUN) | R4: TRIWULAN III (JUL-SEP) | Y4: TRIWULAN IV (OKT-DES) | AF4: TRIWULAN IV (OKT-DES)
D5: KELAHIRAN HIDUP | G5: KASUS KEMATIAN POST NEONATAL | J5: AKPN | K5: KELAHIRAN HIDUP | N5: KASUS KEMATIAN POST NEONATAL | Q5: AKPN | R5: KELAHIRAN HIDUP | U5: KASUS KEMATIAN POST NEONATAL | X5: AKPN | Y5: KELAHIRAN HIDUP | AB5: KASUS KEMATIAN POST NEONATAL | AE5: AKPN | AF5: KELAHIRAN HIDUP | AI5: KASUS KEMATIAN POST NEONATAL | AL5: AKPN
D6: L | E6: P | F6: T | G6: L | H6: P | I6: T | K6: L | L6: P | M6: T | N6: L | O6: P | P6: T | R6: L | S6: P | T6: T | U6: L | V6: P | W6: T | Y6: L | Z6: P | AA6: T | AB6: L | AC6: P | AD6: T | AF6: L | AG6: P | AH6: T | AI6: L | AJ6: P | AK6: T
A7: 1 | B7: MRANGGEN I | C7: MRANGGEN | D7: ='AKB&AKABA'!D7 -> 88 | E7: ='AKB&AKABA'!E7 -> 76 | F7: =SUM(D7:E7) -> 164 | G7: 0 | H7: 0 | I7: =SUM(G7:H7) -> 0 | J7: =I7/F7*1000 -> 0 | K7: ='AKB&AKABA'!P7 -> 120 | L7: ='AKB&AKABA'!Q7 -> 100 | M7: =SUM(K7:L7) -> 220 | N7: 0 | O7: 0 | P7: =SUM(N7:O7) -> 0 | Q7: =P7/M7*1000 -> 0 | R7: 292 | S7: 284 | T7: =SUM(R7:S7) -> 576 | U7: 0 | V7: 0 | W7: =SUM(U7:V7) -> 0 | X7: =W7/T7*1000 -> 0 | AA7: =SUM(Y7:Z7) -> 0 | AD7: =SUM(AB7:AC7) -> 0 | AE7: =AD7/AA7*1000 -> #DIV/0! | AF7: =SUM(D7,K7,R7,Y7) -> 500 | AG7: =SUM(E7,L7,S7,Z7) -> 460 | AH7: =SUM(AF7:AG7) -> 960 | AI7: =SUM(G7,N7,U7,AB7) -> 0 | AJ7: =SUM(H7,O7,V7,AC7) -> 0 | AK7: =SUM(AI7:AJ7) -> 0 | AL7: =AK7/AH7*1000 -> 0
A8: 2 | B8: MRANGGEN II | C8: MRANGGEN | D8: ='AKB&AKABA'!D8 -> 108 | E8: ='AKB&AKABA'!E8 -> 86 | F8: =SUM(D8:E8) -> 194 | G8: 0 | H8: 0 | I8: =SUM(G8:H8) -> 0 | J8: =I8/F8*1000 -> 0 | K8: ='AKB&AKABA'!P8 -> 100 | L8: ='AKB&AKABA'!Q8 -> 95 | M8: =SUM(K8:L8) -> 195 | N8: 1 | O8: 0 | P8: =SUM(N8:O8) -> 1 | Q8: =P8/M8*1000 -> 5.1282051 | R8: 304 | S8: 271 | T8: =SUM(R8:S8) -> 575 | U8: 0 | V8: 0 | W8: =SUM(U8:V8) -> 0 | X8: =W8/T8*1000 -> 0 | AA8: =SUM(Y8:Z8) -> 0 | AD8: =SUM(AB8:AC8) -> 0 | AE8: =AD8/AA8*1000 -> #DIV/0! | AF8: =SUM(D8,K8,R8,Y8) -> 512 | AG8: =SUM(E8,L8,S8,Z8) -> 452 | AH8: =SUM(AF8:AG8) -> 964 | AI8: =SUM(G8,N8,U8,AB8) -> 1 | AJ8: =SUM(H8,O8,V8,AC8) -> 0 | AK8: =SUM(AI8:AJ8) -> 1 | AL8: =AK8/AH8*1000 -> 1.0373444
A9: 3 | B9: MRANGGEN III | C9: MRANGGEN | D9: ='AKB&AKABA'!D9 -> 76 | E9: ='AKB&AKABA'!E9 -> 79 | F9: =SUM(D9:E9) -> 155 | G9: 0 | H9: 0 | I9: =SUM(G9:H9) -> 0 | J9: =I9/F9*1000 -> 0 | K9: ='AKB&AKABA'!P9 -> 118 | L9: ='AKB&AKABA'!Q9 -> 121 | M9: =SUM(K9:L9) -> 239 | N9: 0 | O9: 0 | P9: =SUM(N9:O9) -> 0 | Q9: =P9/M9*1000 -> 0 | R9: 277 | S9: 279 | T9: =SUM(R9:S9) -> 556 | U9: 0 | V9: 0 | W9: =SUM(U9:V9) -> 0 | X9: =W9/T9*1000 -> 0 | AA9: =SUM(Y9:Z9) -> 0 | AD9: =SUM(AB9:AC9) -> 0 | AE9: =AD9/AA9*1000 -> #DIV/0! | AF9: =SUM(D9,K9,R9,Y9) -> 471 | AG9: =SUM(E9,L9,S9,Z9) -> 479 | AH9: =SUM(AF9:AG9) -> 950 | AI9: =SUM(G9,N9,U9,AB9) -> 0 | AJ9: =SUM(H9,O9,V9,AC9) -> 0 | AK9: =SUM(AI9:AJ9) -> 0 | AL9: =AK9/AH9*1000 -> 0
A10: 4 | B10: KARANGAWEN I | C10: KARANGAWEN | D10: ='AKB&AKABA'!D10 -> 80 | E10: ='AKB&AKABA'!E10 -> 67 | F10: =SUM(D10:E10) -> 147 | G10: 0 | H10: 0 | I10: =SUM(G10:H10) -> 0 | J10: =I10/F10*1000 -> 0 | K10: ='AKB&AKABA'!P10 -> 101 | L10: ='AKB&AKABA'!Q10 -> 82 | M10: =SUM(K10:L10) -> 183 | N10: 0 | O10: 0 | P10: =SUM(N10:O10) -> 0 | Q10: =P10/M10*1000 -> 0 | R10: 245 | S10: 196 | T10: =SUM(R10:S10) -> 441 | U10: 0 | V10: 0 | W10: =SUM(U10:V10) -> 0 | X10: =W10/T10*1000 -> 0 | AA10: =SUM(Y10:Z10) -> 0 | AD10: =SUM(AB10:AC10) -> 0 | AE10: =AD10/AA10*1000 -> #DIV/0! | AF10: =SUM(D10,K10,R10,Y10) -> 426 | AG10: =SUM(E10,L10,S10,Z10) -> 345 | AH10: =SUM(AF10:AG10) -> 771 | AI10: =SUM(G10,N10,U10,AB10) -> 0 | AJ10: =SUM(H10,O10,V10,AC10) -> 0 | AK10: =SUM(AI10:AJ10) -> 0 | AL10: =AK10/AH10*1000 -> 0
A11: 5 | B11: KARANGAWEN II | C11: KARANGAWEN | D11: ='AKB&AKABA'!D11 -> 82 | E11: ='AKB&AKABA'!E11 -> 71 | F11: =SUM(D11:E11) -> 153 | G11: 0 | H11: 0 | I11: =SUM(G11:H11) -> 0 | J11: =I11/F11*1000 -> 0 | K11: ='AKB&AKABA'!P11 -> 116 | L11: ='AKB&AKABA'!Q11 -> 92 | M11: =SUM(K11:L11) -> 208 | N11: 0 | O11: 1 | P11: =SUM(N11:O11) -> 1 | Q11: =P11/M11*1000 -> 4.8076923 | R11: 281 | S11: 250 | T11: =SUM(R11:S11) -> 531 | U11: 0 | V11: 0 | W11: =SUM(U11:V11) -> 0 | X11: =W11/T11*1000 -> 0 | AA11: =SUM(Y11:Z11) -> 0 | AD11: =SUM(AB11:AC11) -> 0 | AE11: =AD11/AA11*1000 -> #DIV/0! | AF11: =SUM(D11,K11,R11,Y11) -> 479 | AG11: =SUM(E11,L11,S11,Z11) -> 413 | AH11: =SUM(AF11:AG11) -> 892 | AI11: =SUM(G11,N11,U11,AB11) -> 0 | AJ11: =SUM(H11,O11,V11,AC11) -> 1 | AK11: =SUM(AI11:AJ11) -> 1 | AL11: =AK11/AH11*1000 -> 1.1210762
A12: 6 | B12: GUNTUR I | C12: GUNTUR | D12: ='AKB&AKABA'!D12 -> 95 | E12: ='AKB&AKABA'!E12 -> 106 | F12: =SUM(D12:E12) -> 201 | G12: 0 | H12: 0 | I12: =SUM(G12:H12) -> 0 | J12: =I12/F12*1000 -> 0 | K12: ='AKB&AKABA'!P12 -> 102 | L12: ='AKB&AKABA'!Q12 -> 87 | M12: =SUM(K12:L12) -> 189 | N12: 0 | O12: 0 | P12: =SUM(N12:O12) -> 0 | Q12: =P12/M12*1000 -> 0 | R12: 274 | S12: 263 | T12: =SUM(R12:S12) -> 537 | U12: 0 | V12: 0 | W12: =SUM(U12:V12) -> 0 | X12: =W12/T12*1000 -> 0 | AA12: =SUM(Y12:Z12) -> 0 | AD12: =SUM(AB12:AC12) -> 0 | AE12: =AD12/AA12*1000 -> #DIV/0! | AF12: =SUM(D12,K12,R12,Y12) -> 471 | AG12: =SUM(E12,L12,S12,Z12) -> 456 | AH12: =SUM(AF12:AG12) -> 927 | AI12: =SUM(G12,N12,U12,AB12) -> 0 | AJ12: =SUM(H12,O12,V12,AC12) -> 0 | AK12: =SUM(AI12:AJ12) -> 0 | AL12: =AK12/AH12*1000 -> 0
A13: 7 | B13: GUNTUR II | C13: GUNTUR | D13: ='AKB&AKABA'!D13 -> 84 | E13: ='AKB&AKABA'!E13 -> 57 | F13: =SUM(D13:E13) -> 141 | G13: 0 | H13: 0 | I13: =SUM(G13:H13) -> 0 | J13: =I13/F13*1000 -> 0 | K13: ='AKB&AKABA'!P13 -> 93 | L13: ='AKB&AKABA'!Q13 -> 91 | M13: =SUM(K13:L13) -> 184 | N13: 0 | O13: 0 | P13: =SUM(N13:O13) -> 0 | Q13: =P13/M13*1000 -> 0 | R13: 253 | S13: 209 | T13: =SUM(R13:S13) -> 462 | U13: 1 | V13: 0 | W13: =SUM(U13:V13) -> 1 | X13: =W13/T13*1000 -> 2.1645022 | AA13: =SUM(Y13:Z13) -> 0 | AD13: =SUM(AB13:AC13) -> 0 | AE13: =AD13/AA13*1000 -> #DIV/0! | AF13: =SUM(D13,K13,R13,Y13) -> 430 | AG13: =SUM(E13,L13,S13,Z13) -> 357 | AH13: =SUM(AF13:AG13) -> 787 | AI13: =SUM(G13,N13,U13,AB13) -> 1 | AJ13: =SUM(H13,O13,V13,AC13) -> 0 | AK13: =SUM(AI13:AJ13) -> 1 | AL13: =AK13/AH13*1000 -> 1.270648
A14: 8 | B14: SAYUNG I | C14: SAYUNG | D14: ='AKB&AKABA'!D14 -> 55 | E14: ='AKB&AKABA'!E14 -> 75 | F14: =SUM(D14:E14) -> 130 | G14: 0 | H14: 0 | I14: =SUM(G14:H14) -> 0 | J14: =I14/F14*1000 -> 0 | K14: ='AKB&AKABA'!P14 -> 92 | L14: ='AKB&AKABA'!Q14 -> 84 | M14: =SUM(K14:L14) -> 176 | N14: 0 | O14: 0 | P14: =SUM(N14:O14) -> 0 | Q14: =P14/M14*1000 -> 0 | R14: 213 | S14: 210 | T14: =SUM(R14:S14) -> 423 | U14: 0 | V14: 0 | W14: =SUM(U14:V14) -> 0 | X14: =W14/T14*1000 -> 0 | AA14: =SUM(Y14:Z14) -> 0 | AD14: =SUM(AB14:AC14) -> 0 | AE14: =AD14/AA14*1000 -> #DIV/0! | AF14: =SUM(D14,K14,R14,Y14) -> 360 | AG14: =SUM(E14,L14,S14,Z14) -> 369 | AH14: =SUM(AF14:AG14) -> 729 | AI14: =SUM(G14,N14,U14,AB14) -> 0 | AJ14: =SUM(H14,O14,V14,AC14) -> 0 | AK14: =SUM(AI14:AJ14) -> 0 | AL14: =AK14/AH14*1000 -> 0
A15: 9 | B15: SAYUNG II | C15: SAYUNG | D15: ='AKB&AKABA'!D15 -> 100 | E15: ='AKB&AKABA'!E15 -> 96 | F15: =SUM(D15:E15) -> 196 | G15: 0 | H15: 0 | I15: =SUM(G15:H15) -> 0 | J15: =I15/F15*1000 -> 0 | K15: ='AKB&AKABA'!P15 -> 122 | L15: ='AKB&AKABA'!Q15 -> 107 | M15: =SUM(K15:L15) -> 229 | N15: 0 | O15: 1 | P15: =SUM(N15:O15) -> 1 | Q15: =P15/M15*1000 -> 4.3668122 | R15: 314 | S15: 292 | T15: =SUM(R15:S15) -> 606 | U15: 0 | V15: 0 | W15: =SUM(U15:V15) -> 0 | X15: =W15/T15*1000 -> 0 | AA15: =SUM(Y15:Z15) -> 0 | AD15: =SUM(AB15:AC15) -> 0 | AE15: =AD15/AA15*1000 -> #DIV/0! | AF15: =SUM(D15,K15,R15,Y15) -> 536 | AG15: =SUM(E15,L15,S15,Z15) -> 495 | AH15: =SUM(AF15:AG15) -> 1031 | AI15: =SUM(G15,N15,U15,AB15) -> 0 | AJ15: =SUM(H15,O15,V15,AC15) -> 1 | AK15: =SUM(AI15:AJ15) -> 1 | AL15: =AK15/AH15*1000 -> 0.9699321
A16: 10 | B16: KARANGTENGAH | C16: KARANGTENGAH | D16: ='AKB&AKABA'!D16 -> 127 | E16: ='AKB&AKABA'!E16 -> 115 | F16: =SUM(D16:E16) -> 242 | G16: 0 | H16: 0 | I16: =SUM(G16:H16) -> 0 | J16: =I16/F16*1000 -> 0 | K16: ='AKB&AKABA'!P16 -> 183 | L16: ='AKB&AKABA'!Q16 -> 145 | M16: =SUM(K16:L16) -> 328 | N16: 0 | O16: 0 | P16: =SUM(N16:O16) -> 0 | Q16: =P16/M16*1000 -> 0 | R16: 451 | S16: 375 | T16: =SUM(R16:S16) -> 826 | U16: 1 | V16: 0 | W16: =SUM(U16:V16) -> 1 | X16: =W16/T16*1000 -> 1.2106538 | AA16: =SUM(Y16:Z16) -> 0 | AD16: =SUM(AB16:AC16) -> 0 | AE16: =AD16/AA16*1000 -> #DIV/0! | AF16: =SUM(D16,K16,R16,Y16) -> 761 | AG16: =SUM(E16,L16,S16,Z16) -> 635 | AH16: =SUM(AF16:AG16) -> 1396 | AI16: =SUM(G16,N16,U16,AB16) -> 1 | AJ16: =SUM(H16,O16,V16,AC16) -> 0 | AK16: =SUM(AI16:AJ16) -> 1 | AL16: =AK16/AH16*1000 -> 0.71633238
A17: 11 | B17: BONANG I | C17: BONANG I | D17: ='AKB&AKABA'!D17 -> 120 | E17: ='AKB&AKABA'!E17 -> 102 | F17: =SUM(D17:E17) -> 222 | G17: 0 | H17: 0 | I17: =SUM(G17:H17) -> 0 | J17: =I17/F17*1000 -> 0 | K17: ='AKB&AKABA'!P17 -> 118 | L17: ='AKB&AKABA'!Q17 -> 130 | M17: =SUM(K17:L17) -> 248 | N17: 0 | O17: 0 | P17: =SUM(N17:O17) -> 0 | Q17: =P17/M17*1000 -> 0 | R17: 336 | S17: 323 | T17: =SUM(R17:S17) -> 659 | U17: 0 | V17: 0 | W17: =SUM(U17:V17) -> 0 | X17: =W17/T17*1000 -> 0 | AA17: =SUM(Y17:Z17) -> 0 | AD17: =SUM(AB17:AC17) -> 0 | AE17: =AD17/AA17*1000 -> #DIV/0! | AF17: =SUM(D17,K17,R17,Y17) -> 574 | AG17: =SUM(E17,L17,S17,Z17) -> 555 | AH17: =SUM(AF17:AG17) -> 1129 | AI17: =SUM(G17,N17,U17,AB17) -> 0 | AJ17: =SUM(H17,O17,V17,AC17) -> 0 | AK17: =SUM(AI17:AJ17) -> 0 | AL17: =AK17/AH17*1000 -> 0
A18: 12 | B18: BONANG II | C18: BONANG I | D18: ='AKB&AKABA'!D18 -> 85 | E18: ='AKB&AKABA'!E18 -> 76 | F18: =SUM(D18:E18) -> 161 | G18: 0 | H18: 0 | I18: =SUM(G18:H18) -> 0 | J18: =I18/F18*1000 -> 0 | K18: ='AKB&AKABA'!P18 -> 101 | L18: ='AKB&AKABA'!Q18 -> 118 | M18: =SUM(K18:L18) -> 219 | N18: 0 | O18: 0 | P18: =SUM(N18:O18) -> 0 | Q18: =P18/M18*1000 -> 0 | R18: 252 | S18: 252 | T18: =SUM(R18:S18) -> 504 | U18: 0 | V18: 0 | W18: =SUM(U18:V18) -> 0 | X18: =W18/T18*1000 -> 0 | AA18: =SUM(Y18:Z18) -> 0 | AD18: =SUM(AB18:AC18) -> 0 | AE18: =AD18/AA18*1000 -> #DIV/0! | AF18: =SUM(D18,K18,R18,Y18) -> 438 | AG18: =SUM(E18,L18,S18,Z18) -> 446 | AH18: =SUM(AF18:AG18) -> 884 | AI18: =SUM(G18,N18,U18,AB18) -> 0 | AJ18: =SUM(H18,O18,V18,AC18) -> 0 | AK18: =SUM(AI18:AJ18) -> 0 | AL18: =AK18/AH18*1000 -> 0
... A33: 27 | B33: WEDUNG II | C33: WEDUNG | D33: ='AKB&AKABA'!D33 -> 66 | E33: ='AKB&AKABA'!E33 -> 52 | F33: =SUM(D33:E33) -> 118 | G33: 0 | H33: 0 | I33: =SUM(G33:H33) -> 0 | J33: =I33/F33*1000 -> 0 | K33: ='AKB&AKABA'!P33 -> 81 | L33: ='AKB&AKABA'!Q33 -> 63 | M33: =SUM(K33:L33) -> 144 | N33: 0 | O33: 0 | P33: =SUM(N33:O33) -> 0 | Q33: =P33/M33*1000 -> 0 | R33: 191 | S33: 158 | T33: =SUM(R33:S33) -> 349 | U33: 0 | V33: 0 | W33: =SUM(U33:V33) -> 0 | X33: =W33/T33*1000 -> 0 | AA33: =SUM(Y33:Z33) -> 0 | AD33: =SUM(AB33:AC33) -> 0 | AE33: =AD33/AA33*1000 -> #DIV/0! | AF33: =SUM(D33,K33,R33,Y33) -> 338 | AG33: =SUM(E33,L33,S33,Z33) -> 273 | AH33: =SUM(AF33:AG33) -> 611 | AI33: =SUM(G33,N33,U33,AB33) -> 0 | AJ33: =SUM(H33,O33,V33,AC33) -> 0 | AK33: =SUM(AI33:AJ33) -> 0 | AL33: =AK33/AH33*1000 -> 0
A34: TOTAL | D34: =SUM(D7:D33) -> 2070 | E34: =SUM(E7:E33) -> 1873 | F34: =SUM(D34:E34) -> 3943 | G34: =SUM(G7:G33) -> 3 | H34: =SUM(H7:H33) -> 2 | I34: =SUM(I7:I33) -> 5 | J34: =I34/F34*1000 -> 1.26807 | K34: =SUM(K7:K33) -> 2501 | L34: =SUM(L7:L33) -> 2315 | M34: =SUM(K34:L34) -> 4816 | N34: =SUM(N7:N33) -> 4 | O34: =SUM(O7:O33) -> 5 | P34: =SUM(P7:P33) -> 9 | Q34: =P34/M34*1000 -> 1.8687708 | R34: =SUM(R7:R33) -> 6376 | S34: =SUM(S7:S33) -> 5876 | T34: =SUM(R34:S34) -> 12252 | U34: =SUM(U7:U33) -> 4 | V34: =SUM(V7:V33) -> 3 | W34: =SUM(W7:W33) -> 7 | X34: =W34/T34*1000 -> 0.57133529 | Y34: =SUM(Y7:Y33) -> 0 | Z34: =SUM(Z7:Z33) -> 0 | AA34: =SUM(Y34:Z34) -> 0 | AB34: =SUM(AB7:AB33) -> 0 | AC34: =SUM(AC7:AC33) -> 0 | AD34: =SUM(AD7:AD33) -> 0 | AE34: =AD34/AA34*1000 -> #DIV/0! | AF34: =SUM(AF7:AF33) -> 10947 | AG34: =SUM(AG7:AG33) -> 10064 | AH34: =SUM(AF34:AG34) -> 21011 | AI34: =SUM(AI7:AI33) -> 11 | AJ34: =SUM(AJ7:AJ33) -> 10 | AK34: =SUM(AK7:AK33) -> 21 | AL34: =AK34/AH34*1000 -> 0.99947646
