Workbook

Sheet PELAY BALITA
A1: TAHUN 2025
A3: PELAYANAN BALITA
A4: NO | B4: PUSKESMAS | C4: KECAMATAN | D4: SASARAN | G4: TRIWULAN I (JAN-MAR) | K4: TRIWULAN II (APR-JUN) | N4: JAN-JUN | O4: % | P4: TRIWULAN III (JUL-SEP) | S4: JAN-SEP | T4: % | U4: TRIWULAN IV (OKT-DES) | X4: JAN-DES | Y4: %
G5: KUNJUNGAN BALITA (K2) | J5: % | K5: KUNJUNGAN BALITA (K2) | P5: KUNJUNGAN BALITA (K2) | U5: KUNJUNGAN BALITA (K2)
D6: L | E6: P | F6: T | G6: L | H6: P | I6: T | K6: L | L6: P | M6: T | P6: L | Q6: P | R6: T | U6: L | V6: P | W6: T
A7: 1 | B7: MRANGGEN I | C7: MRANGGEN | D7: 1764 | E7: 1792 | F7: =SUM(D7:E7) -> 3556 | G7: 358 | H7: 378 | I7: =SUM(G7:H7) -> 736 | J7: =I7/F7% -> 20.697413 | K7: 576 | L7: 573 | M7: =SUM(K7:L7) -> 1149 | N7: =I7+M7 -> 1885 | O7: =N7/F7*100 -> 53.008999 | P7: 428 | Q7: 424 | R7: =SUM(P7:Q7) -> 852 | S7: =N7+R7 -> 2737 | T7: =S7/F7*100 -> 76.968504 | U7: 402 | V7: 417 | W7: =SUM(U7:V7) -> 819 | X7: =S7+W7 -> 3556 | Y7: =X7/F7*100 -> 100
A8: 2 | B8: MRANGGEN II | C8: MRANGGEN | D8: 1645 | E8: 1586 | F8: =SUM(D8:E8) -> 3231 | G8: 379 | H8: 367 | I8: =SUM(G8:H8) -> 746 | J8: =I8/F8% -> 23.088827 | K8: 498 | L8: 477 | M8: =SUM(K8:L8) -> 975 | N8: =I8+M8 -> 1721 | O8: =N8/F8*100 -> 53.265243 | P8: 465 | Q8: 451 | R8: =SUM(P8:Q8) -> 916 | S8: =N8+R8 -> 2637 | T8: =S8/F8*100 -> 81.615599 | U8: 303 | V8: 291 | W8: =SUM(U8:V8) -> 594 | X8: =S8+W8 -> 3231 | Y8: =X8/F8*100 -> 100
A9: 3 | B9: MRANGGEN III | C9: MRANGGEN | D9: 1711 | E9: 1682 | F9: =SUM(D9:E9) -> 3393 | G9: 414 | H9: 414 | I9: =SUM(G9:H9) -> 828 | J9: =I9/F9% -> 24.403183 | K9: 513 | L9: 479 | M9: =SUM(K9:L9) -> 992 | N9: =I9+M9 -> 1820 | O9: =N9/F9*100 -> 53.639847 | P9: 395 | Q9: 423 | R9: =SUM(P9:Q9) -> 818 | S9: =N9+R9 -> 2638 | T9: =S9/F9*100 -> 77.748305 | U9: 389 | V9: 366 | W9: =SUM(U9:V9) -> 755 | X9: =S9+W9 -> 3393 | Y9: =X9/F9*100 -> 100
A10: 4 | B10: KARANGAWEN I | C10: KARANGAWEN | D10: 1478 | E10: 1316 | F10: =SUM(D10:E10) -> 2794 | G10: 320 | H10: 298 | I10: =SUM(G10:H10) -> 618 | J10: =I10/F10% -> 22.118826 | K10: 367 | L10: 334 | M10: =SUM(K10:L10) -> 701 | N10: =I10+M10 -> 1319 | O10: =N10/F10*100 -> 47.208304 | P10: 372 | Q10: 342 | R10: =SUM(P10:Q10) -> 714 | S10: =N10+R10 -> 2033 | T10: =S10/F10*100 -> 72.763064 | U10: 419 | V10: 342 | W10: =SUM(U10:V10) -> 761 | X10: =S10+W10 -> 2794 | Y10: =X10/F10*100 -> 100
A11: 5 | B11: KARANGAWEN II | C11: KARANGAWEN | D11: 1736 | E11: 1718 | F11: =SUM(D11:E11) -> 3454 | G11: 383 | H11: 380 | I11: =SUM(G11:H11) -> 763 | J11: =I11/F11% -> 22.09033 | K11: 489 | L11: 469 | M11: =SUM(K11:L11) -> 958 | N11: =I11+M11 -> 1721 | O11: =N11/F11*100 -> 49.826288 | P11: 468 | Q11: 478 | R11: =SUM(P11:Q11) -> 946 | S11: =N11+R11 -> 2667 | T11: =S11/F11*100 -> 77.214823 | U11: 396 | V11: 391 | W11: =SUM(U11:V11) -> 787 | X11: =S11+W11 -> 3454 | Y11: =X11/F11*100 -> 100
A12: 6 | B12: GUNTUR I | C12: GUNTUR | D12: 1836 | E12: 1724 | F12: =SUM(D12:E12) -> 3560 | G12: 403 | H12: 424 | I12: =SUM(G12:H12) -> 827 | J12: =I12/F12% -> 23.230337 | K12: 523 | L12: 450 | M12: =SUM(K12:L12) -> 973 | N12: =I12+M12 -> 1800 | O12: =N12/F12*100 -> 50.561798 | P12: 467 | Q12: 453 | R12: =SUM(P12:Q12) -> 920 | S12: =N12+R12 -> 2720 | T12: =S12/F12*100 -> 76.404494 | U12: 443 | V12: 397 | W12: =SUM(U12:V12) -> 840 | X12: =S12+W12 -> 3560 | Y12: =X12/F12*100 -> 100
A13: 7 | B13: GUNTUR II | C13: GUNTUR | D13: 1503 | E13: 1492 | F13: =SUM(D13:E13) -> 2995 | G13: 296 | H13: 320 | I13: =SUM(G13:H13) -> 616 | J13: =I13/F13% -> 20.567613 | K13: 495 | L13: 495 | M13: =SUM(K13:L13) -> 990 | N13: =I13+M13 -> 1606 | O13: =N13/F13*100 -> 53.622705 | P13: 421 | Q13: 404 | R13: =SUM(P13:Q13) -> 825 | S13: =N13+R13 -> 2431 | T13: =S13/F13*100 -> 81.168614 | U13: 291 | V13: 273 | W13: =SUM(U13:V13) -> 564 | X13: =S13+W13 -> 2995 | Y13: =X13/F13*100 -> 100
A14: 8 | B14: SAYUNG I | C14: SAYUNG | D14: 1460 | E14: 1481 | F14: =SUM(D14:E14) -> 2941 | G14: 357 | H14: 370 | I14: =SUM(G14:H14) -> 727 | J14: =I14/F14% -> 24.719483 | K14: 382 | L14: 387 | M14: =SUM(K14:L14) -> 769 | N14: =I14+M14 -> 1496 | O14: =N14/F14*100 -> 50.867052 | P14: 387 | Q14: 373 | R14: =SUM(P14:Q14) -> 760 | S14: =N14+R14 -> 2256 | T14: =S14/F14*100 -> 76.708603 | U14: 334 | V14: 351 | W14: =SUM(U14:V14) -> 685 | X14: =S14+W14 -> 2941 | Y14: =X14/F14*100 -> 100
A15: 9 | B15: SAYUNG II | C15: SAYUNG | D15: 2072 | E15: 1993 | F15: =SUM(D15:E15) -> 4065 | G15: 438 | H15: 448 | I15: =SUM(G15:H15) -> 886 | J15: =I15/F15% -> 21.795818 | K15: 511 | L15: 478 | M15: =SUM(K15:L15) -> 989 | N15: =I15+M15 -> 1875 | O15: =N15/F15*100 -> 46.125461 | P15: 530 | Q15: 518 | R15: =SUM(P15:Q15) -> 1048 | S15: =N15+R15 -> 2923 | T15: =S15/F15*100 -> 71.906519 | U15: 593 | V15: 549 | W15: =SUM(U15:V15) -> 1142 | X15: =S15+W15 -> 4065 | Y15: =X15/F15*100 -> 100
A16: 10 | B16: KARANGTENGAH | C16: KARANGTENGAH | D16: 2569 | E16: 2528 | F16: =SUM(D16:E16) -> 5097 | G16: 523 | H16: 514 | I16: =SUM(G16:H16) -> 1037 | J16: =I16/F16% -> 20.345301 | K16: 831 | L16: 800 | M16: =SUM(K16:L16) -> 1631 | N16: =I16+M16 -> 2668 | O16: =N16/F16*100 -> 52.344516 | P16: 638 | Q16: 658 | R16: =SUM(P16:Q16) -> 1296 | S16: =N16+R16 -> 3964 | T16: =S16/F16*100 -> 77.771238 | U16: 577 | V16: 556 | W16: =SUM(U16:V16) -> 1133 | X16: =S16+W16 -> 5097 | Y16: =X16/F16*100 -> 100
A17: 11 | B17: BONANG I | C17: BONANG I | D17: 2256 | E17: 2076 | F17: =SUM(D17:E17) -> 4332 | G17: 561 | H17: 520 | I17: =SUM(G17:H17) -> 1081 | J17: =I17/F17% -> 24.953832 | K17: 554 | L17: 527 | M17: =SUM(K17:L17) -> 1081 | N17: =I17+M17 -> 2162 | O17: =N17/F17*100 -> 49.907664 | P17: 570 | Q17: 532 | R17: =SUM(P17:Q17) -> 1102 | S17: =N17+R17 -> 3264 | T17: =S17/F17*100 -> 75.34626 | U17: 571 | V17: 497 | W17: =SUM(U17:V17) -> 1068 | X17: =S17+W17 -> 4332 | Y17: =X17/F17*100 -> 100
A18: 12 | B18: BONANG II | C18: BONANG I | D18: 2012 | E18: 1710 | F18: =SUM(D18:E18) -> 3722 | G18: 438 | H18: 429 | I18: =SUM(G18:H18) -> 867 | J18: =I18/F18% -> 23.293928 | K18: 886 | L18: 600 | M18: =SUM(K18:L18) -> 1486 | N18: =I18+M18 -> 2353 | O18: =N18/F18*100 -> 63.2187 | P18: 405 | Q18: 399 | R18: =SUM(P18:Q18) -> 804 | S18: =N18+R18 -> 3157 | T18: =S18/F18*100 -> 84.819989 | U18: 283 | V18: 282 | W18: =SUM(U18:V18) -> 565 | X18: =S18+W18 -> 3722 | Y18: =X18/F18*100 -> 100
... A33: 27 | B33: WEDUNG II | C33: WEDUNG | D33: 1338 | E33: 1246 | F33: =SUM(D33:E33) -> 2584 | G33: 359 | H33: 329 | I33: =SUM(G33:H33) -> 688 | J33: =I33/F33% -> 26.625387 | K33: 335 | L33: 324 | M33: =SUM(K33:L33) -> 659 | N33: =I33+M33 -> 1347 | O33: =N33/F33*100 -> 52.128483 | P33: 340 | Q33: 324 | R33: =SUM(P33:Q33) -> 664 | S33: =N33+R33 -> 2011 | T33: =S33/F33*100 -> 77.825077 | U33: 304 | V33: 269 | W33: =SUM(U33:V33) -> 573 | X33: =S33+W33 -> 2584 | Y33: =X33/F33*100 -> 100
A34: TOTAL | D34: =SUM(D7:D33) -> 40683 | E34: =SUM(E7:E33) -> 38740 | F34: =SUM(D34:E34) -> 79423 | G34: =SUM(G7:G33) -> 9024 | H34: =SUM(H7:H33) -> 8848 | I34: =SUM(I7:I33) -> 17872 | J34: =I34/F34% -> 22.502298 | K34: =SUM(K7:K33) -> 11775 | L34: =SUM(L7:L33) -> 11101 | M34: =SUM(M7:M33) -> 22876 | N34: =SUM(N7:N33) -> 40748 | O34: =N34/F34*100 -> 51.305038 | P34: =SUM(P7:P33) -> 10121 | Q34: =SUM(Q7:Q33) -> 9905 | R34: =SUM(R7:R33) -> 20026 | S34: =SUM(S7:S33) -> 60774 | T34: =S34/F34*100 -> 76.519396 | U34: =SUM(U7:U33) -> 9763 | V34: =SUM(V7:V33) -> 8886 | W34: =SUM(W7:W33) -> 18649 | X34: =SUM(X7:X33) -> 79423 | Y34: =X34/F34*100 -> 100
A37: Sumber: Bidang Kesmas

Sheet KN
A1: TAHUN 2025
A3: PELAYANAN BAYI
A4: NO | B4: PUSKESMAS | C4: KECAMATAN | D4: SASARAN | G4: TRIWULAN I (JAN-MAR) | K4: TRIWULAN II(APR-JUN) | N4: JAN-JUN | O4: % | P4: TRIWULAN III (JUL-SEP) | S4: JAN-SEP | T4: % | U4: TRIWULAN IV (OKT-DES) | X4: JAN-DES | Y4: %
G5: KUNJUNGAN NEONATAL (KN 3) | J5: % | K5: KUNJUNGAN NEONATAL (KN 3) | P5: KUNJUNGAN NEONATAL (KN 3) | U5: KUNJUNGAN NEONATAL (KN 3)
D6: L | E6: P | F6: T | G6: L | H6: P | I6: T | K6: L | L6: P | M6: T | P6: L | Q6: P | R6: T | U6: L | V6: P | W6: T
A7: 1 | B7: MRANGGEN I | C7: MRANGGEN | D7: 369 | E7: 312 | F7: =SUM(D7:E7) -> 681 | G7: 88 | H7: 74 | I7: =SUM(G7:H7) -> 162 | J7: =I7/F7% -> 23.788546 | K7: 119 | L7: 100 | M7: =SUM(K7:L7) -> 219 | N7: =I7+M7 -> 381 | O7: =N7/F7*100 -> 55.947137 | P7: 84 | Q7: 107 | R7: =SUM(P7:Q7) -> 191 | S7: =R7+N7 -> 572 | T7: =S7/F7*100 -> 83.994126 | U7: 68 | V7: 74 | W7: =SUM(U7:V7) -> 142 | X7: =W7+S7 -> 714 | Y7: =X7/F7*100 -> 104.84581
A8: 2 | B8: MRANGGEN II | C8: MRANGGEN | D8: 359 | E8: 345 | F8: =SUM(D8:E8) -> 704 | G8: 108 | H8: 87 | I8: =SUM(G8:H8) -> 195 | J8: =I8/F8% -> 27.698864 | K8: 100 | L8: 95 | M8: =SUM(K8:L8) -> 195 | N8: =I8+M8 -> 390 | O8: =N8/F8*100 -> 55.397727 | P8: 96 | Q8: 90 | R8: =SUM(P8:Q8) -> 186 | S8: =R8+N8 -> 576 | T8: =S8/F8*100 -> 81.818182 | U8: 85 | V8: 84 | W8: =SUM(U8:V8) -> 169 | X8: =W8+S8 -> 745 | Y8: =X8/F8*100 -> 105.82386
A9: 3 | B9: MRANGGEN III | C9: MRANGGEN | D9: 340 | E9: 339 | F9: =SUM(D9:E9) -> 679 | G9: 76 | H9: 79 | I9: =SUM(G9:H9) -> 155 | J9: =I9/F9% -> 22.827688 | K9: 118 | L9: 121 | M9: =SUM(K9:L9) -> 239 | N9: =I9+M9 -> 394 | O9: =N9/F9*100 -> 58.02651 | P9: 83 | Q9: 79 | R9: =SUM(P9:Q9) -> 162 | S9: =R9+N9 -> 556 | T9: =S9/F9*100 -> 81.885125 | U9: 99 | V9: 72 | W9: =SUM(U9:V9) -> 171 | X9: =W9+S9 -> 727 | Y9: =X9/F9*100 -> 107.06922
A10: 4 | B10: KARANGAWEN I | C10: KARANGAWEN | D10: 331 | E10: 230 | F10: =SUM(D10:E10) -> 561 | G10: 79 | H10: 67 | I10: =SUM(G10:H10) -> 146 | J10: =I10/F10% -> 26.024955 | K10: 101 | L10: 82 | M10: =SUM(K10:L10) -> 183 | N10: =I10+M10 -> 329 | O10: =N10/F10*100 -> 58.645276 | P10: 64 | Q10: 47 | R10: =SUM(P10:Q10) -> 111 | S10: =R10+N10 -> 440 | T10: =S10/F10*100 -> 78.431373 | U10: 87 | V10: 57 | W10: =SUM(U10:V10) -> 144 | X10: =W10+S10 -> 584 | Y10: =X10/F10*100 -> 104.09982
A11: 5 | B11: KARANGAWEN II | C11: KARANGAWEN | D11: 333 | E11: 318 | F11: =SUM(D11:E11) -> 651 | G11: 81 | H11: 71 | I11: =SUM(G11:H11) -> 152 | J11: =I11/F11% -> 23.348694 | K11: 116 | L11: 92 | M11: =SUM(K11:L11) -> 208 | N11: =I11+M11 -> 360 | O11: =N11/F11*100 -> 55.299539 | P11: 83 | Q11: 87 | R11: =SUM(P11:Q11) -> 170 | S11: =R11+N11 -> 530 | T11: =S11/F11*100 -> 81.41321 | U11: 91 | V11: 75 | W11: =SUM(U11:V11) -> 166 | X11: =W11+S11 -> 696 | Y11: =X11/F11*100 -> 106.91244
A12: 6 | B12: GUNTUR I | C12: GUNTUR | D12: 319 | E12: 324 | F12: =SUM(D12:E12) -> 643 | G12: 95 | H12: 106 | I12: =SUM(G12:H12) -> 201 | J12: =I12/F12% -> 31.25972 | K12: 100 | L12: 87 | M12: =SUM(K12:L12) -> 187 | N12: =I12+M12 -> 388 | O12: =N12/F12*100 -> 60.342146 | P12: 77 | Q12: 70 | R12: =SUM(P12:Q12) -> 147 | S12: =R12+N12 -> 535 | T12: =S12/F12*100 -> 83.203733 | U12: 84 | V12: 67 | W12: =SUM(U12:V12) -> 151 | X12: =W12+S12 -> 686 | Y12: =X12/F12*100 -> 106.6874
A13: 7 | B13: GUNTUR II | C13: GUNTUR | D13: 281 | E13: 271 | F13: =SUM(D13:E13) -> 552 | G13: 84 | H13: 57 | I13: =SUM(G13:H13) -> 141 | J13: =I13/F13% -> 25.543478 | K13: 93 | L13: 91 | M13: =SUM(K13:L13) -> 184 | N13: =I13+M13 -> 325 | O13: =N13/F13*100 -> 58.876812 | P13: 75 | Q13: 61 | R13: =SUM(P13:Q13) -> 136 | S13: =R13+N13 -> 461 | T13: =S13/F13*100 -> 83.514493 | U13: 62 | V13: 64 | W13: =SUM(U13:V13) -> 126 | X13: =W13+S13 -> 587 | Y13: =X13/F13*100 -> 106.34058
A14: 8 | B14: SAYUNG I | C14: SAYUNG | D14: 257 | E14: 282 | F14: =SUM(D14:E14) -> 539 | G14: 55 | H14: 75 | I14: =SUM(G14:H14) -> 130 | J14: =I14/F14% -> 24.118738 | K14: 92 | L14: 84 | M14: =SUM(K14:L14) -> 176 | N14: =I14+M14 -> 306 | O14: =N14/F14*100 -> 56.7718 | P14: 63 | Q14: 45 | R14: =SUM(P14:Q14) -> 108 | S14: =R14+N14 -> 414 | T14: =S14/F14*100 -> 76.808905 | U14: 74 | V14: 62 | W14: =SUM(U14:V14) -> 136 | X14: =W14+S14 -> 550 | Y14: =X14/F14*100 -> 102.04082
A15: 9 | B15: SAYUNG II | C15: SAYUNG | D15: 399 | E15: 346 | F15: =SUM(D15:E15) -> 745 | G15: 100 | H15: 96 | I15: =SUM(G15:H15) -> 196 | J15: =I15/F15% -> 26.308725 | K15: 122 | L15: 106 | M15: =SUM(K15:L15) -> 228 | N15: =I15+M15 -> 424 | O15: =N15/F15*100 -> 56.912752 | P15: 92 | Q15: 89 | R15: =SUM(P15:Q15) -> 181 | S15: =R15+N15 -> 605 | T15: =S15/F15*100 -> 81.208054 | U15: 98 | V15: 90 | W15: =SUM(U15:V15) -> 188 | X15: =W15+S15 -> 793 | Y15: =X15/F15*100 -> 106.44295
A16: 10 | B16: KARANGTENGAH | C16: KARANGTENGAH | D16: 490 | E16: 491 | F16: =SUM(D16:E16) -> 981 | G16: 126 | H16: 115 | I16: =SUM(G16:H16) -> 241 | J16: =I16/F16% -> 24.566769 | K16: 182 | L16: 144 | M16: =SUM(K16:L16) -> 326 | N16: =I16+M16 -> 567 | O16: =N16/F16*100 -> 57.798165 | P16: 141 | Q16: 115 | R16: =SUM(P16:Q16) -> 256 | S16: =R16+N16 -> 823 | T16: =S16/F16*100 -> 83.893986 | U16: 96 | V16: 104 | W16: =SUM(U16:V16) -> 200 | X16: =W16+S16 -> 1023 | Y16: =X16/F16*100 -> 104.28135
A17: 11 | B17: BONANG I | C17: BONANG I | D17: 409 | E17: 406 | F17: =SUM(D17:E17) -> 815 | G17: 120 | H17: 101 | I17: =SUM(G17:H17) -> 221 | J17: =I17/F17% -> 27.116564 | K17: 118 | L17: 130 | M17: =SUM(K17:L17) -> 248 | N17: =I17+M17 -> 469 | O17: =N17/F17*100 -> 57.546012 | P17: 98 | Q17: 91 | R17: =SUM(P17:Q17) -> 189 | S17: =R17+N17 -> 658 | T17: =S17/F17*100 -> 80.736196 | U17: 96 | V17: 108 | W17: =SUM(U17:V17) -> 204 | X17: =W17+S17 -> 862 | Y17: =X17/F17*100 -> 105.76687
A18: 12 | B18: BONANG II | C18: BONANG I | D18: 317 | E18: 295 | F18: =SUM(D18:E18) -> 612 | G18: 85 | H18: 76 | I18: =SUM(G18:H18) -> 161 | J18: =I18/F18% -> 26.30719 | K18: 100 | L18: 117 | M18: =SUM(K18:L18) -> 217 | N18: =I18+M18 -> 378 | O18: =N18/F18*100 -> 61.764706 | P18: 66 | Q18: 58 | R18: =SUM(P18:Q18) -> 124 | S18: =R18+N18 -> 502 | T18: =S18/F18*100 -> 82.026144 | U18: 77 | V18: 64 | W18: =SUM(U18:V18) -> 141 | X18: =W18+S18 -> 643 | Y18: =X18/F18*100 -> 105.06536
... A33: 27 | B33: WEDUNG II | C33: WEDUNG | D33: 211 | E33: 216 | F33: =SUM(D33:E33) -> 427 | G33: 66 | H33: 52 | I33: =SUM(G33:H33) -> 118 | J33: =I33/F33% -> 27.63466 | K33: 81 | L33: 63 | M33: =SUM(K33:L33) -> 144 | N33: =I33+M33 -> 262 | O33: =N33/F33*100 -> 61.358314 | P33: 44 | Q33: 43 | R33: =SUM(P33:Q33) -> 87 | S33: =R33+N33 -> 349 | T33: =S33/F33*100 -> 81.733021 | U33: 44 | V33: 57 | W33: =SUM(U33:V33) -> 101 | X33: =W33+S33 -> 450 | Y33: =X33/F33*100 -> 105.38642
A34: TOTAL | D34: =SUM(D7:D33) -> 7664 | E34: =SUM(E7:E33) -> 7191 | F34: =SUM(D34:E34) -> 14855 | G34: =SUM(G7:G33) -> 2078 | H34: =SUM(H7:H33) -> 1889 | I34: =SUM(I7:I33) -> 3967 | J34: =I34/F34% -> 26.704813 | K34: =SUM(K7:K33) -> 2491 | L34: =SUM(L7:L33) -> 2309 | M34: =SUM(M7:M33) -> 4800 | N34: =SUM(N7:N33) -> 8767 | O34: =N34/F34*100 -> 59.017166 | P34: =SUM(P7:P33) -> 1799 | Q34: =SUM(Q7:Q33) -> 1680 | R34: =SUM(R7:R33) -> 3479 | S34: =SUM(S7:S33) -> 12246 | T34: =S34/F34*100 -> 82.43689 | U34: =SUM(U7:U33) -> 1831 | V34: =SUM(V7:V33) -> 1653 | W34: =SUM(W7:W33) -> 3484 | X34: =SUM(X7:X33) -> 15730 | Y34: =X34/F34*100 -> 105.89027
A37: Sumber: Bidang Kesmas

Sheet LH,BBLR
A1: TAHUN 2025
A3: KELAHIRAN DAN BBLR
A4: NO | B4: PUSKESMAS | C4: KECAMATAN | D4: SASARAN | G4: TRIWULAN I (JAN-MAR) | O4: TRIWULAN II(APR-JUN) | Y4: TRIWULAN III (JUL-SEP) | AI4: TRIWULAN IV (OKT-DES)
G5: KELAHIRAN HIDUP | K5: BBLR | O5: =G5 -> KELAHIRAN HIDUP | R5: JAN-JUN | S5: % | T5: BBLR | W5: JAN-JUN | X5: % | Y5: =G5 -> KELAHIRAN HIDUP | AB5: JAN-SEP | AC5: % | AD5: BBLR | AG5: JAN-SEP | AH5: % | AI5: =Y5 -> KELAHIRAN HIDUP | AL5: JAN-DES | AM5: % | AN5: BBLR | AQ5: JAN-DES | AR5: %
D6: L | E6: P | F6: T | G6: L | H6: P | I6: T | J6: % | K6: L | L6: P | M6: T | N6: % | O6: L | P6: P | Q6: T | T6: L | U6: P | V6: T | Y6: L | Z6: P | AA6: T | AD6: L | AE6: P | AF6: T | AI6: L | AJ6: P | AK6: T | AN6: L | AO6: P | AP6: T
A7: 1 | B7: MRANGGEN I | C7: MRANGGEN | D7: 362 | E7: 359 | F7: =SUM(D7:E7) -> 721 | G7: 88 | H7: 76 | I7: =SUM(G7:H7) -> 164 | J7: =I7/F7% -> 22.746186 | K7: 6 | L7: 4 | M7: =SUM(K7:L7) -> 10 | N7: =M7/I7% -> 6.097561 | O7: 120 | P7: 100 | Q7: =SUM(O7:P7) -> 220 | R7: =Q7+I7 -> 384 | S7: =R7/F7*100 -> 53.259362 | T7: 5 | U7: 4 | V7: =SUM(T7:U7) -> 9 | W7: =M7+V7 -> 19 | X7: =W7/R7*100 -> 4.9479167 | Y7: 84 | Z7: 108 | AA7: =SUM(Y7:Z7) -> 192 | AB7: =R7+AA7 -> 576 | AC7: =AB7/F7*100 -> 79.889043 | AD7: 5 | AE7: 5 | AF7: =SUM(AD7:AE7) -> 10 | AG7: =W7+AF7 -> 29 | AH7: =AG7/AB7*100 -> 5.0347222 | AI7: 70 | AJ7: 75 | AK7: =SUM(AI7:AJ7) -> 145 | AL7: =AB7+AK7 -> 721 | AM7: =AL7/F7*100 -> 100 | AN7: 2 | AO7: 2 | AP7: =SUM(AN7:AO7) -> 4 | AQ7: =AG7+AP7 -> 33 | AR7: =AQ7/AL7*100 -> 4.5769764
A8: 2 | B8: MRANGGEN II | C8: MRANGGEN | D8: 389 | E8: 355 | F8: =SUM(D8:E8) -> 744 | G8: 108 | H8: 86 | I8: =SUM(G8:H8) -> 194 | J8: =I8/F8% -> 26.075269 | K8: 0 | L8: 4 | M8: =SUM(K8:L8) -> 4 | N8: =M8/I8% -> 2.0618557 | O8: 100 | P8: 95 | Q8: =SUM(O8:P8) -> 195 | R8: =Q8+I8 -> 389 | S8: =R8/F8*100 -> 52.284946 | T8: 0 | U8: 3 | V8: =SUM(T8:U8) -> 3 | W8: =M8+V8 -> 7 | X8: =W8/R8*100 -> 1.7994859 | Y8: 96 | Z8: 90 | AA8: =SUM(Y8:Z8) -> 186 | AB8: =R8+AA8 -> 575 | AC8: =AB8/F8*100 -> 77.284946 | AD8: 2 | AE8: 2 | AF8: =SUM(AD8:AE8) -> 4 | AG8: =W8+AF8 -> 11 | AH8: =AG8/AB8*100 -> 1.9130435 | AI8: 85 | AJ8: 84 | AK8: =SUM(AI8:AJ8) -> 169 | AL8: =AB8+AK8 -> 744 | AM8: =AL8/F8*100 -> 100 | AN8: 0 | AO8: 2 | AP8: =SUM(AN8:AO8) -> 2 | AQ8: =AG8+AP8 -> 13 | AR8: =AQ8/AL8*100 -> 1.7473118
A9: 3 | B9: MRANGGEN III | C9: MRANGGEN | D9: 376 | E9: 351 | F9: =SUM(D9:E9) -> 727 | G9: 76 | H9: 79 | I9: =SUM(G9:H9) -> 155 | J9: =I9/F9% -> 21.320495 | K9: 5 | L9: 4 | M9: =SUM(K9:L9) -> 9 | N9: =M9/I9% -> 5.8064516 | O9: 118 | P9: 121 | Q9: =SUM(O9:P9) -> 239 | R9: =Q9+I9 -> 394 | S9: =R9/F9*100 -> 54.195323 | T9: 5 | U9: 7 | V9: =SUM(T9:U9) -> 12 | W9: =M9+V9 -> 21 | X9: =W9/R9*100 -> 5.3299492 | Y9: 83 | Z9: 79 | AA9: =SUM(Y9:Z9) -> 162 | AB9: =R9+AA9 -> 556 | AC9: =AB9/F9*100 -> 76.47868 | AD9: 2 | AE9: 1 | AF9: =SUM(AD9:AE9) -> 3 | AG9: =W9+AF9 -> 24 | AH9: =AG9/AB9*100 -> 4.3165468 | AI9: 99 | AJ9: 72 | AK9: =SUM(AI9:AJ9) -> 171 | AL9: =AB9+AK9 -> 727 | AM9: =AL9/F9*100 -> 100 | AN9: 3 | AO9: 1 | AP9: =SUM(AN9:AO9) -> 4 | AQ9: =AG9+AP9 -> 28 | AR9: =AQ9/AL9*100 -> 3.8514443
A10: 4 | B10: KARANGAWEN I | C10: KARANGAWEN | D10: 332 | E10: 253 | F10: =SUM(D10:E10) -> 585 | G10: 80 | H10: 67 | I10: =SUM(G10:H10) -> 147 | J10: =I10/F10% -> 25.128205 | K10: 7 | L10: 4 | M10: =SUM(K10:L10) -> 11 | N10: =M10/I10% -> 7.4829932 | O10: 101 | P10: 82 | Q10: =SUM(O10:P10) -> 183 | R10: =Q10+I10 -> 330 | S10: =R10/F10*100 -> 56.410256 | T10: 3 | U10: 1 | V10: =SUM(T10:U10) -> 4 | W10: =M10+V10 -> 15 | X10: =W10/R10*100 -> 4.5454545 | Y10: 64 | Z10: 47 | AA10: =SUM(Y10:Z10) -> 111 | AB10: =R10+AA10 -> 441 | AC10: =AB10/F10*100 -> 75.384615 | AD10: 3 | AE10: 6 | AF10: =SUM(AD10:AE10) -> 9 | AG10: =W10+AF10 -> 24 | AH10: =AG10/AB10*100 -> 5.4421769 | AI10: 87 | AJ10: 57 | AK10: =SUM(AI10:AJ10) -> 144 | AL10: =AB10+AK10 -> 585 | AM10: =AL10/F10*100 -> 100 | AN10: 3 | AO10: 4 | AP10: =SUM(AN10:AO10) -> 7 | AQ10: =AG10+AP10 -> 31 | AR10: =AQ10/AL10*100 -> 5.2991453
A11: 5 | B11: KARANGAWEN II | C11: KARANGAWEN | D11: 373 | E11: 325 | F11: =SUM(D11:E11) -> 698 | G11: 82 | H11: 71 | I11: =SUM(G11:H11) -> 153 | J11: =I11/F11% -> 21.919771 | K11: 10 | L11: 10 | M11: =SUM(K11:L11) -> 20 | N11: =M11/I11% -> 13.071895 | O11: 116 | P11: 92 | Q11: =SUM(O11:P11) -> 208 | R11: =Q11+I11 -> 361 | S11: =R11/F11*100 -> 51.719198 | T11: 7 | U11: 4 | V11: =SUM(T11:U11) -> 11 | W11: =M11+V11 -> 31 | X11: =W11/R11*100 -> 8.5872576 | Y11: 83 | Z11: 87 | AA11: =SUM(Y11:Z11) -> 170 | AB11: =R11+AA11 -> 531 | AC11: =AB11/F11*100 -> 76.074499 | AD11: 2 | AE11: 1 | AF11: =SUM(AD11:AE11) -> 3 | AG11: =W11+AF11 -> 34 | AH11: =AG11/AB11*100 -> 6.4030132 | AI11: 92 | AJ11: 75 | AK11: =SUM(AI11:AJ11) -> 167 | AL11: =AB11+AK11 -> 698 | AM11: =AL11/F11*100 -> 100 | AN11: 0 | AO11: 3 | AP11: =SUM(AN11:AO11) -> 3 | AQ11: =AG11+AP11 -> 37 | AR11: =AQ11/AL11*100 -> 5.3008596
A12: 6 | B12: GUNTUR I | C12: GUNTUR | D12: 359 | E12: 330 | F12: =SUM(D12:E12) -> 689 | G12: 95 | H12: 106 | I12: =SUM(G12:H12) -> 201 | J12: =I12/F12% -> 29.172714 | K12: 4 | L12: 5 | M12: =SUM(K12:L12) -> 9 | N12: =M12/I12% -> 4.4776119 | O12: 102 | P12: 87 | Q12: =SUM(O12:P12) -> 189 | R12: =Q12+I12 -> 390 | S12: =R12/F12*100 -> 56.603774 | T12: 7 | U12: 5 | V12: =SUM(T12:U12) -> 12 | W12: =M12+V12 -> 21 | X12: =W12/R12*100 -> 5.3846154 | Y12: 77 | Z12: 70 | AA12: =SUM(Y12:Z12) -> 147 | AB12: =R12+AA12 -> 537 | AC12: =AB12/F12*100 -> 77.939042 | AD12: 2 | AE12: 7 | AF12: =SUM(AD12:AE12) -> 9 | AG12: =W12+AF12 -> 30 | AH12: =AG12/AB12*100 -> 5.5865922 | AI12: 85 | AJ12: 67 | AK12: =SUM(AI12:AJ12) -> 152 | AL12: =AB12+AK12 -> 689 | AM12: =AL12/F12*100 -> 100 | AN12: 5 | AO12: 2 | AP12: =SUM(AN12:AO12) -> 7 | AQ12: =AG12+AP12 -> 37 | AR12: =AQ12/AL12*100 -> 5.3701016
A13: 7 | B13: GUNTUR II | C13: GUNTUR | D13: 316 | E13: 273 | F13: =SUM(D13:E13) -> 589 | G13: 84 | H13: 57 | I13: =SUM(G13:H13) -> 141 | J13: =I13/F13% -> 23.938879 | K13: 3 | L13: 4 | M13: =SUM(K13:L13) -> 7 | N13: =M13/I13% -> 4.964539 | O13: 93 | P13: 91 | Q13: =SUM(O13:P13) -> 184 | R13: =Q13+I13 -> 325 | S13: =R13/F13*100 -> 55.178268 | T13: 4 | U13: 6 | V13: =SUM(T13:U13) -> 10 | W13: =M13+V13 -> 17 | X13: =W13/R13*100 -> 5.2307692 | Y13: 76 | Z13: 61 | AA13: =SUM(Y13:Z13) -> 137 | AB13: =R13+AA13 -> 462 | AC13: =AB13/F13*100 -> 78.438031 | AD13: 3 | AE13: 2 | AF13: =SUM(AD13:AE13) -> 5 | AG13: =W13+AF13 -> 22 | AH13: =AG13/AB13*100 -> 4.7619048 | AI13: 63 | AJ13: 64 | AK13: =SUM(AI13:AJ13) -> 127 | AL13: =AB13+AK13 -> 589 | AM13: =AL13/F13*100 -> 100 | AN13: 3 | AO13: 0 | AP13: =SUM(AN13:AO13) -> 3 | AQ13: =AG13+AP13 -> 25 | AR13: =AQ13/AL13*100 -> 4.2444822
A14: 8 | B14: SAYUNG I | C14: SAYUNG | D14: 287 | E14: 272 | F14: =SUM(D14:E14) -> 559 | G14: 55 | H14: 75 | I14: =SUM(G14:H14) -> 130 | J14: =I14/F14% -> 23.255814 | K14: 3 | L14: 5 | M14: =SUM(K14:L14) -> 8 | N14: =M14/I14% -> 6.1538462 | O14: 92 | P14: 84 | Q14: =SUM(O14:P14) -> 176 | R14: =Q14+I14 -> 306 | S14: =R14/F14*100 -> 54.740608 | T14: 3 | U14: 2 | V14: =SUM(T14:U14) -> 5 | W14: =M14+V14 -> 13 | X14: =W14/R14*100 -> 4.248366 | Y14: 66 | Z14: 51 | AA14: =SUM(Y14:Z14) -> 117 | AB14: =R14+AA14 -> 423 | AC14: =AB14/F14*100 -> 75.670841 | AD14: 3 | AE14: 2 | AF14: =SUM(AD14:AE14) -> 5 | AG14: =W14+AF14 -> 18 | AH14: =AG14/AB14*100 -> 4.2553191 | AI14: 74 | AJ14: 62 | AK14: =SUM(AI14:AJ14) -> 136 | AL14: =AB14+AK14 -> 559 | AM14: =AL14/F14*100 -> 100 | AN14: 3 | AO14: 5 | AP14: =SUM(AN14:AO14) -> 8 | AQ14: =AG14+AP14 -> 26 | AR14: =AQ14/AL14*100 -> 4.6511628
A15: 9 | B15: SAYUNG II | C15: SAYUNG | D15: 412 | E15: 382 | F15: =SUM(D15:E15) -> 794 | G15: 100 | H15: 96 | I15: =SUM(G15:H15) -> 196 | J15: =I15/F15% -> 24.685139 | K15: 4 | L15: 6 | M15: =SUM(K15:L15) -> 10 | N15: =M15/I15% -> 5.1020408 | O15: 122 | P15: 107 | Q15: =SUM(O15:P15) -> 229 | R15: =Q15+I15 -> 425 | S15: =R15/F15*100 -> 53.526448 | T15: 6 | U15: 7 | V15: =SUM(T15:U15) -> 13 | W15: =M15+V15 -> 23 | X15: =W15/R15*100 -> 5.4117647 | Y15: 92 | Z15: 89 | AA15: =SUM(Y15:Z15) -> 181 | AB15: =R15+AA15 -> 606 | AC15: =AB15/F15*100 -> 76.322418 | AD15: 2 | AE15: 3 | AF15: =SUM(AD15:AE15) -> 5 | AG15: =W15+AF15 -> 28 | AH15: =AG15/AB15*100 -> 4.620462 | AI15: 98 | AJ15: 90 | AK15: =SUM(AI15:AJ15) -> 188 | AL15: =AB15+AK15 -> 794 | AM15: =AL15/F15*100 -> 100 | AN15: 4 | AO15: 5 | AP15: =SUM(AN15:AO15) -> 9 | AQ15: =AG15+AP15 -> 37 | AR15: =AQ15/AL15*100 -> 4.6599496
A16: 10 | B16: KARANGTENGAH | C16: KARANGTENGAH | D16: 548 | E16: 479 | F16: =SUM(D16:E16) -> 1027 | G16: 127 | H16: 115 | I16: =SUM(G16:H16) -> 242 | J16: =I16/F16% -> 23.563778 | K16: 2 | L16: 5 | M16: =SUM(K16:L16) -> 7 | N16: =M16/I16% -> 2.892562 | O16: 183 | P16: 145 | Q16: =SUM(O16:P16) -> 328 | R16: =Q16+I16 -> 570 | S16: =R16/F16*100 -> 55.501461 | T16: 5 | U16: 5 | V16: =SUM(T16:U16) -> 10 | W16: =M16+V16 -> 17 | X16: =W16/R16*100 -> 2.9824561 | Y16: 141 | Z16: 115 | AA16: =SUM(Y16:Z16) -> 256 | AB16: =R16+AA16 -> 826 | AC16: =AB16/F16*100 -> 80.428432 | AD16: 4 | AE16: 3 | AF16: =SUM(AD16:AE16) -> 7 | AG16: =W16+AF16 -> 24 | AH16: =AG16/AB16*100 -> 2.905569 | AI16: 97 | AJ16: 104 | AK16: =SUM(AI16:AJ16) -> 201 | AL16: =AB16+AK16 -> 1027 | AM16: =AL16/F16*100 -> 100 | AN16: 2 | AO16: 4 | AP16: =SUM(AN16:AO16) -> 6 | AQ16: =AG16+AP16 -> 30 | AR16: =AQ16/AL16*100 -> 2.9211295
A17: 11 | B17: BONANG I | C17: BONANG I | D17: 432 | E17: 431 | F17: =SUM(D17:E17) -> 863 | G17: 120 | H17: 102 | I17: =SUM(G17:H17) -> 222 | J17: =I17/F17% -> 25.724218 | K17: 8 | L17: 8 | M17: =SUM(K17:L17) -> 16 | N17: =M17/I17% -> 7.2072072 | O17: 118 | P17: 130 | Q17: =SUM(O17:P17) -> 248 | R17: =Q17+I17 -> 470 | S17: =R17/F17*100 -> 54.461182 | T17: 2 | U17: 4 | V17: =SUM(T17:U17) -> 6 | W17: =M17+V17 -> 22 | X17: =W17/R17*100 -> 4.6808511 | Y17: 98 | Z17: 91 | AA17: =SUM(Y17:Z17) -> 189 | AB17: =R17+AA17 -> 659 | AC17: =AB17/F17*100 -> 76.36153 | AD17: 2 | AE17: 3 | AF17: =SUM(AD17:AE17) -> 5 | AG17: =W17+AF17 -> 27 | AH17: =AG17/AB17*100 -> 4.0971168 | AI17: 96 | AJ17: 108 | AK17: =SUM(AI17:AJ17) -> 204 | AL17: =AB17+AK17 -> 863 | AM17: =AL17/F17*100 -> 100 | AN17: 3 | AO17: 2 | AP17: =SUM(AN17:AO17) -> 5 | AQ17: =AG17+AP17 -> 32 | AR17: =AQ17/AL17*100 -> 3.7079954
A18: 12 | B18: BONANG II | C18: BONANG I | D18: 329 | E18: 316 | F18: =SUM(D18:E18) -> 645 | G18: 85 | H18: 76 | I18: =SUM(G18:H18) -> 161 | J18: =I18/F18% -> 24.96124 | K18: 9 | L18: 5 | M18: =SUM(K18:L18) -> 14 | N18: =M18/I18% -> 8.6956522 | O18: 101 | P18: 118 | Q18: =SUM(O18:P18) -> 219 | R18: =Q18+I18 -> 380 | S18: =R18/F18*100 -> 58.914729 | T18: 28 | U18: 20 | V18: =SUM(T18:U18) -> 48 | W18: =M18+V18 -> 62 | X18: =W18/R18*100 -> 16.315789 | Y18: 66 | Z18: 58 | AA18: =SUM(Y18:Z18) -> 124 | AB18: =R18+AA18 -> 504 | AC18: =AB18/F18*100 -> 78.139535 | AD18: 7 | AE18: 4 | AF18: =SUM(AD18:AE18) -> 11 | AG18: =W18+AF18 -> 73 | AH18: =AG18/AB18*100 -> 14.484127 | AI18: 77 | AJ18: 64 | AK18: =SUM(AI18:AJ18) -> 141 | AL18: =AB18+AK18 -> 645 | AM18: =AL18/F18*100 -> 100 | AN18: 9 | AO18: 3 | AP18: =SUM(AN18:AO18) -> 12 | AQ18: =AG18+AP18 -> 85 | AR18: =AQ18/AL18*100 -> 13.178295
... A33: 27 | B33: WEDUNG II | C33: WEDUNG | D33: 237 | E33: 216 | F33: =SUM(D33:E33) -> 453 | G33: 66 | H33: 52 | I33: =SUM(G33:H33) -> 118 | J33: =I33/F33% -> 26.048565 | K33: 2 | L33: 3 | M33: =SUM(K33:L33) -> 5 | N33: =M33/I33% -> 4.2372881 | O33: 81 | P33: 63 | Q33: =SUM(O33:P33) -> 144 | R33: =Q33+I33 -> 262 | S33: =R33/F33*100 -> 57.836645 | T33: 1 | U33: 3 | V33: =SUM(T33:U33) -> 4 | W33: =M33+V33 -> 9 | X33: =W33/R33*100 -> 3.4351145 | Y33: 44 | Z33: 43 | AA33: =SUM(Y33:Z33) -> 87 | AB33: =R33+AA33 -> 349 | AC33: =AB33/F33*100 -> 77.041943 | AD33: 1 | AE33: 2 | AF33: =SUM(AD33:AE33) -> 3 | AG33: =W33+AF33 -> 12 | AH33: =AG33/AB33*100 -> 3.4383954 | AI33: 46 | AJ33: 58 | AK33: =SUM(AI33:AJ33) -> 104 | AL33: =AB33+AK33 -> 453 | AM33: =AL33/F33*100 -> 100 | AN33: 2 | AO33: 3 | AP33: =SUM(AN33:AO33) -> 5 | AQ33: =AG33+AP33 -> 17 | AR33: =AQ33/AL33*100 -> 3.7527594
A34: TOTAL | D34: =SUM(D7:D33) -> 8216 | E34: =SUM(E7:E33) -> 7529 | F34: =SUM(D34:E34) -> 15745 | G34: =SUM(G7:G33) -> 2070 | H34: =SUM(H7:H33) -> 1873 | I34: =SUM(I7:I33) -> 3943 | J34: =I34/F34% -> 25.042871 | K34: =SUM(K7:K33) -> 94 | L34: =SUM(L7:L33) -> 109 | M34: =SUM(M7:M33) -> 203 | N34: =M34/I34% -> 5.1483642 | O34: =SUM(O7:O33) -> 2501 | P34: =SUM(P7:P33) -> 2315 | Q34: =SUM(Q7:Q33) -> 4816 | R34: =SUM(R7:R33) -> 8759 | S34: =R34/F34*100 -> 55.630359 | T34: =SUM(T7:T33) -> 115 | U34: =SUM(U7:U33) -> 106 | V34: =SUM(V7:V33) -> 221 | W34: =SUM(W7:W33) -> 424 | X34: =W34/R34*100 -> 4.8407352 | Y34: =SUM(Y7:Y33) -> 1805 | Z34: =SUM(Z7:Z33) -> 1688 | AA34: =SUM(AA7:AA33) -> 3493 | AB34: =SUM(AB7:AB33) -> 12252 | AC34: =AB34/F34*100 -> 77.815179 | AD34: =SUM(AD7:AD33) -> 69 | AE34: =SUM(AE7:AE33) -> 67 | AF34: =SUM(AF7:AF33) -> 136 | AG34: =SUM(AG7:AG33) -> 560 | AH34: =AG34/AB34*100 -> 4.5706823 | AI34: =SUM(AI7:AI33) -> 1840 | AJ34: =SUM(AJ7:AJ33) -> 1653 | AK34: =SUM(AK7:AK33) -> 3493 | AL34: =SUM(AL7:AL33) -> 15745 | AM34: =AL34/F34*100 -> 100 | AN34: =SUM(AN7:AN33) -> 58 | AO34: =SUM(AO7:AO33) -> 72 | AP34: =SUM(AP7:AP33) -> 130 | AQ34: =SUM(AQ7:AQ33) -> 690 | AR34: =AQ34/AL34*100 -> 4.3823436
A37: Sumber: Bidang Kesmas

Sheet NEO RISTI
A1: TAHUN 2025
A3: NEONATAL RISTI
A4: NO | B4: PUSKESMAS | C4: KECAMATAN | D4: TRIWULAN I (JAN-MAR) | K4: TRIWULAN II(APR-JUN) | R4: TRIWULAN III (JUL-SEP) | Y4: TRIWULAN IV (OKT-DES) | AF4: TAHUN 2025
D5: NEONATUS RISTI | G5: NEONATUS RISTI YANG DITANGANI | J5: % | K5: =D5 -> NEONATUS RISTI | N5: =G5 -> NEONATUS RISTI YANG DITANGANI | Q5: % | R5: =D5 -> NEONATUS RISTI | U5: =G5 -> NEONATUS RISTI YANG DITANGANI | X5: % | Y5: =R5 -> NEONATUS RISTI | AB5: =U5 -> NEONATUS RISTI YANG DITANGANI | AE5: % | AF5: =Y5 -> NEONATUS RISTI | AI5: =AB5 -> NEONATUS RISTI YANG DITANGANI | AL5: %
D6: L | E6: P | F6: T | G6: L | H6: P | I6: T | K6: L | L6: P | M6: T | N6: L | O6: P | P6: T | R6: L | S6: P | T6: T | U6: L | V6: P | W6: T | Y6: L | Z6: P | AA6: T | AB6: L | AC6: P | AD6: T | AF6: L | AG6: P | AH6: T | AI6: L | AJ6: P | AK6: T
A7: 1 | B7: MRANGGEN I | C7: MRANGGEN | D7: 11 | E7: 8 | F7: =SUM(D7:E7) -> 19 | G7: =D7 -> 11 | H7: =E7 -> 8 | I7: =SUM(G7:H7) -> 19 | J7: =I7/F7% -> 100 | K7: 8 | L7: 5 | M7: =SUM(K7:L7) -> 13 | N7: =K7 -> 8 | O7: =L7 -> 5 | P7: =SUM(N7:O7) -> 13 | Q7: =P7/M7% -> 100 | R7: 8 | S7: 7 | T7: =SUM(R7:S7) -> 15 | U7: =R7 -> 8 | V7: =S7 -> 7 | W7: =SUM(U7:V7) -> 15 | X7: =W7/T7*100 -> 100 | Y7: 5 | Z7: 2 | AA7: =SUM(Y7:Z7) -> 7 | AB7: 5 | AC7: 2 | AD7: =SUM(AB7:AC7) -> 7 | AE7: =AD7/AA7*100 -> 100 | AF7: =SUM(D7,K7,R7,Y7) -> 32 | AG7: =SUM(E7,L7,S7,Z7) -> 22 | AH7: =SUM(AF7:AG7) -> 54 | AI7: =SUM(G7,N7,U7,AB7) -> 32 | AJ7: =SUM(H7,O7,V7,AC7) -> 22 | AK7: =SUM(AI7:AJ7) -> 54 | AL7: =AK7/AH7*1000 -> 1000
A8: 2 | B8: MRANGGEN II | C8: MRANGGEN | D8: 0 | E8: 4 | F8: =SUM(D8:E8) -> 4 | G8: =D8 -> 0 | H8: =E8 -> 4 | I8: =SUM(G8:H8) -> 4 | J8: =I8/F8% -> 100 | K8: 0 | L8: 3 | M8: =SUM(K8:L8) -> 3 | N8: =K8 -> 0 | O8: =L8 -> 3 | P8: =SUM(N8:O8) -> 3 | Q8: =P8/M8% -> 100 | R8: 2 | S8: 2 | T8: =SUM(R8:S8) -> 4 | U8: =R8 -> 2 | V8: =S8 -> 2 | W8: =SUM(U8:V8) -> 4 | X8: =W8/T8*100 -> 100 | Y8: 0 | Z8: 2 | AA8: =SUM(Y8:Z8) -> 2 | AB8: 0 | AC8: 2 | AD8: =SUM(AB8:AC8) -> 2 | AE8: =AD8/AA8*100 -> 100 | AF8: =SUM(D8,K8,R8,Y8) -> 2 | AG8: =SUM(E8,L8,S8,Z8) -> 11 | AH8: =SUM(AF8:AG8) -> 13 | AI8: =SUM(G8,N8,U8,AB8) -> 2 | AJ8: =SUM(H8,O8,V8,AC8) -> 11 | AK8: =SUM(AI8:AJ8) -> 13 | AL8: =AK8/AH8*100 -> 100
A9: 3 | B9: MRANGGEN III | C9: MRANGGEN | D9: 8 | E9: 5 | F9: =SUM(D9:E9) -> 13 | G9: =D9 -> 8 | H9: =E9 -> 5 | I9: =SUM(G9:H9) -> 13 | J9: =I9/F9% -> 100 | K9: 8 | L9: 7 | M9: =SUM(K9:L9) -> 15 | N9: =K9 -> 8 | O9: =L9 -> 7 | P9: =SUM(N9:O9) -> 15 | Q9: =P9/M9% -> 100 | R9: 4 | S9: 2 | T9: =SUM(R9:S9) -> 6 | U9: =R9 -> 4 | V9: =S9 -> 2 | W9: =SUM(U9:V9) -> 6 | X9: =W9/T9*100 -> 100 | Y9: 3 | Z9: 1 | AA9: =SUM(Y9:Z9) -> 4 | AB9: 3 | AC9: 1 | AD9: =SUM(AB9:AC9) -> 4 | AE9: =AD9/AA9*100 -> 100 | AF9: =SUM(D9,K9,R9,Y9) -> 23 | AG9: =SUM(E9,L9,S9,Z9) -> 15 | AH9: =SUM(AF9:AG9) -> 38 | AI9: =SUM(G9,N9,U9,AB9) -> 23 | AJ9: =SUM(H9,O9,V9,AC9) -> 15 | AK9: =SUM(AI9:AJ9) -> 38 | AL9: =AK9/AH9*100 -> 100
A10: 4 | B10: KARANGAWEN I | C10: KARANGAWEN | D10: 7 | E10: 7 | F10: =SUM(D10:E10) -> 14 | G10: =D10 -> 7 | H10: =E10 -> 7 | I10: =SUM(G10:H10) -> 14 | J10: =I10/F10% -> 100 | K10: 6 | L10: 2 | M10: =SUM(K10:L10) -> 8 | N10: =K10 -> 6 | O10: =L10 -> 2 | P10: =SUM(N10:O10) -> 8 | Q10: =P10/M10% -> 100 | R10: 7 | S10: 9 | T10: =SUM(R10:S10) -> 16 | U10: =R10 -> 7 | V10: =S10 -> 9 | W10: =SUM(U10:V10) -> 16 | X10: =W10/T10*100 -> 100 | Y10: 7 | Z10: 7 | AA10: =SUM(Y10:Z10) -> 14 | AB10: 7 | AC10: 7 | AD10: =SUM(AB10:AC10) -> 14 | AE10: =AD10/AA10*100 -> 100 | AF10: =SUM(D10,K10,R10,Y10) -> 27 | AG10: =SUM(E10,L10,S10,Z10) -> 25 | AH10: =SUM(AF10:AG10) -> 52 | AI10: =SUM(G10,N10,U10,AB10) -> 27 | AJ10: =SUM(H10,O10,V10,AC10) -> 25 | AK10: =SUM(AI10:AJ10) -> 52 | AL10: =AK10/AH10*100 -> 100
A11: 5 | B11: KARANGAWEN II | C11: KARANGAWEN | D11: 13 | E11: 15 | F11: =SUM(D11:E11) -> 28 | G11: =D11 -> 13 | H11: =E11 -> 15 | I11: =SUM(G11:H11) -> 28 | J11: =I11/F11% -> 100 | K11: 7 | L11: 4 | M11: =SUM(K11:L11) -> 11 | N11: =K11 -> 7 | O11: =L11 -> 4 | P11: =SUM(N11:O11) -> 11 | Q11: =P11/M11% -> 100 | R11: 2 | S11: 1 | T11: =SUM(R11:S11) -> 3 | U11: =R11 -> 2 | V11: =S11 -> 1 | W11: =SUM(U11:V11) -> 3 | X11: =W11/T11*100 -> 100 | Y11: 0 | Z11: 3 | AA11: =SUM(Y11:Z11) -> 3 | AB11: 0 | AC11: 3 | AD11: =SUM(AB11:AC11) -> 3 | AE11: =AD11/AA11*100 -> 100 | AF11: =SUM(D11,K11,R11,Y11) -> 22 | AG11: =SUM(E11,L11,S11,Z11) -> 23 | AH11: =SUM(AF11:AG11) -> 45 | AI11: =SUM(G11,N11,U11,AB11) -> 22 | AJ11: =SUM(H11,O11,V11,AC11) -> 23 | AK11: =SUM(AI11:AJ11) -> 45 | AL11: =AK11/AH11*100 -> 100
A12: 6 | B12: GUNTUR I | C12: GUNTUR | D12: 6 | E12: 7 | F12: =SUM(D12:E12) -> 13 | G12: =D12 -> 6 | H12: =E12 -> 7 | I12: =SUM(G12:H12) -> 13 | J12: =I12/F12% -> 100 | K12: 12 | L12: 6 | M12: =SUM(K12:L12) -> 18 | N12: =K12 -> 12 | O12: =L12 -> 6 | P12: =SUM(N12:O12) -> 18 | Q12: =P12/M12% -> 100 | R12: 6 | S12: 9 | T12: =SUM(R12:S12) -> 15 | U12: =R12 -> 6 | V12: =S12 -> 9 | W12: =SUM(U12:V12) -> 15 | X12: =W12/T12*100 -> 100 | Y12: 8 | Z12: 4 | AA12: =SUM(Y12:Z12) -> 12 | AB12: 8 | AC12: 4 | AD12: =SUM(AB12:AC12) -> 12 | AE12: =AD12/AA12*100 -> 100 | AF12: =SUM(D12,K12,R12,Y12) -> 32 | AG12: =SUM(E12,L12,S12,Z12) -> 26 | AH12: =SUM(AF12:AG12) -> 58 | AI12: =SUM(G12,N12,U12,AB12) -> 32 | AJ12: =SUM(H12,O12,V12,AC12) -> 26 | AK12: =SUM(AI12:AJ12) -> 58 | AL12: =AK12/AH12*100 -> 100
A13: 7 | B13: GUNTUR II | C13: GUNTUR | D13: 5 | E13: 4 | F13: =SUM(D13:E13) -> 9 | G13: =D13 -> 5 | H13: =E13 -> 4 | I13: =SUM(G13:H13) -> 9 | J13: =I13/F13% -> 100 | K13: 4 | L13: 8 | M13: =SUM(K13:L13) -> 12 | N13: =K13 -> 4 | O13: =L13 -> 8 | P13: =SUM(N13:O13) -> 12 | Q13: =P13/M13% -> 100 | R13: 4 | S13: 2 | T13: =SUM(R13:S13) -> 6 | U13: =R13 -> 4 | V13: =S13 -> 2 | W13: =SUM(U13:V13) -> 6 | X13: =W13/T13*100 -> 100 | Y13: 3 | Z13: 0 | AA13: =SUM(Y13:Z13) -> 3 | AB13: 3 | AC13: 0 | AD13: =SUM(AB13:AC13) -> 3 | AE13: =AD13/AA13*100 -> 100 | AF13: =SUM(D13,K13,R13,Y13) -> 16 | AG13: =SUM(E13,L13,S13,Z13) -> 14 | AH13: =SUM(AF13:AG13) -> 30 | AI13: =SUM(G13,N13,U13,AB13) -> 16 | AJ13: =SUM(H13,O13,V13,AC13) -> 14 | AK13: =SUM(AI13:AJ13) -> 30 | AL13: =AK13/AH13*100 -> 100
A14: 8 | B14: SAYUNG I | C14: SAYUNG | D14: 5 | E14: 9 | F14: =SUM(D14:E14) -> 14 | G14: =D14 -> 5 | H14: =E14 -> 9 | I14: =SUM(G14:H14) -> 14 | J14: =I14/F14% -> 100 | K14: 6 | L14: 2 | M14: =SUM(K14:L14) -> 8 | N14: =K14 -> 6 | O14: =L14 -> 2 | P14: =SUM(N14:O14) -> 8 | Q14: =P14/M14% -> 100 | R14: 7 | S14: 2 | T14: =SUM(R14:S14) -> 9 | U14: =R14 -> 7 | V14: =S14 -> 2 | W14: =SUM(U14:V14) -> 9 | X14: =W14/T14*100 -> 100 | Y14: 8 | Z14: 9 | AA14: =SUM(Y14:Z14) -> 17 | AB14: 8 | AC14: 9 | AD14: =SUM(AB14:AC14) -> 17 | AE14: =AD14/AA14*100 -> 100 | AF14: =SUM(D14,K14,R14,Y14) -> 26 | AG14: =SUM(E14,L14,S14,Z14) -> 22 | AH14: =SUM(AF14:AG14) -> 48 | AI14: =SUM(G14,N14,U14,AB14) -> 26 | AJ14: =SUM(H14,O14,V14,AC14) -> 22 | AK14: =SUM(AI14:AJ14) -> 48 | AL14: =AK14/AH14*100 -> 100
A15: 9 | B15: SAYUNG II | C15: SAYUNG | D15: 5 | E15: 10 | F15: =SUM(D15:E15) -> 15 | G15: =D15 -> 5 | H15: =E15 -> 10 | I15: =SUM(G15:H15) -> 15 | J15: =I15/F15% -> 100 | K15: 7 | L15: 8 | M15: =SUM(K15:L15) -> 15 | N15: =K15 -> 7 | O15: =L15 -> 8 | P15: =SUM(N15:O15) -> 15 | Q15: =P15/M15% -> 100 | R15: 2 | S15: 3 | T15: =SUM(R15:S15) -> 5 | U15: =R15 -> 2 | V15: =S15 -> 3 | W15: =SUM(U15:V15) -> 5 | X15: =W15/T15*100 -> 100 | Y15: 4 | Z15: 7 | AA15: =SUM(Y15:Z15) -> 11 | AB15: 4 | AC15: 7 | AD15: =SUM(AB15:AC15) -> 11 | AE15: =AD15/AA15*100 -> 100 | AF15: =SUM(D15,K15,R15,Y15) -> 18 | AG15: =SUM(E15,L15,S15,Z15) -> 28 | AH15: =SUM(AF15:AG15) -> 46 | AI15: =SUM(G15,N15,U15,AB15) -> 18 | AJ15: =SUM(H15,O15,V15,AC15) -> 28 | AK15: =SUM(AI15:AJ15) -> 46 | AL15: =AK15/AH15*100 -> 100
A16: 10 | B16: KARANGTENGAH | C16: KARANGTENGAH | D16: 6 | E16: 14 | F16: =SUM(D16:E16) -> 20 | G16: =D16 -> 6 | H16: =E16 -> 14 | I16: =SUM(G16:H16) -> 20 | J16: =I16/F16% -> 100 | K16: 8 | L16: 12 | M16: =SUM(K16:L16) -> 20 | N16: =K16 -> 8 | O16: =L16 -> 12 | P16: =SUM(N16:O16) -> 20 | Q16: =P16/M16% -> 100 | R16: 7 | S16: 7 | T16: =SUM(R16:S16) -> 14 | U16: =R16 -> 7 | V16: =S16 -> 7 | W16: =SUM(U16:V16) -> 14 | X16: =W16/T16*100 -> 100 | Y16: 6 | Z16: 7 | AA16: =SUM(Y16:Z16) -> 13 | AB16: 6 | AC16: 7 | AD16: =SUM(AB16:AC16) -> 13 | AE16: =AD16/AA16*100 -> 100 | AF16: =SUM(D16,K16,R16,Y16) -> 27 | AG16: =SUM(E16,L16,S16,Z16) -> 40 | AH16: =SUM(AF16:AG16) -> 67 | AI16: =SUM(G16,N16,U16,AB16) -> 27 | AJ16: =SUM(H16,O16,V16,AC16) -> 40 | AK16: =SUM(AI16:AJ16) -> 67 | AL16: =AK16/AH16*100 -> 100
A17: 11 | B17: BONANG I | C17: BONANG I | D17: 10 | E17: 8 | F17: =SUM(D17:E17) -> 18 | G17: =D17 -> 10 | H17: =E17 -> 8 | I17: =SUM(G17:H17) -> 18 | J17: =I17/F17% -> 100 | K17: 2 | L17: 4 | M17: =SUM(K17:L17) -> 6 | N17: =K17 -> 2 | O17: =L17 -> 4 | P17: =SUM(N17:O17) -> 6 | Q17: =P17/M17% -> 100 | R17: 5 | S17: 3 | T17: =SUM(R17:S17) -> 8 | U17: =R17 -> 5 | V17: =S17 -> 3 | W17: =SUM(U17:V17) -> 8 | X17: =W17/T17*100 -> 100 | Y17: 5 | Z17: 4 | AA17: =SUM(Y17:Z17) -> 9 | AB17: 5 | AC17: 4 | AD17: =SUM(AB17:AC17) -> 9 | AE17: =AD17/AA17*100 -> 100 | AF17: =SUM(D17,K17,R17,Y17) -> 22 | AG17: =SUM(E17,L17,S17,Z17) -> 19 | AH17: =SUM(AF17:AG17) -> 41 | AI17: =SUM(G17,N17,U17,AB17) -> 22 | AJ17: =SUM(H17,O17,V17,AC17) -> 19 | AK17: =SUM(AI17:AJ17) -> 41 | AL17: =AK17/AH17*100 -> 100
A18: 12 | B18: BONANG II | C18: BONANG I | D18: 18 | E18: 12 | F18: =SUM(D18:E18) -> 30 | G18: =D18 -> 18 | H18: =E18 -> 12 | I18: =SUM(G18:H18) -> 30 | J18: =I18/F18% -> 100 | K18: 46 | L18: 31 | M18: =SUM(K18:L18) -> 77 | N18: =K18 -> 46 | O18: =L18 -> 31 | P18: =SUM(N18:O18) -> 77 | Q18: =P18/M18% -> 100 | R18: 7 | S18: 5 | T18: =SUM(R18:S18) -> 12 | U18: =R18 -> 7 | V18: =S18 -> 5 | W18: =SUM(U18:V18) -> 12 | X18: =W18/T18*100 -> 100 | Y18: 10 | Z18: 3 | AA18: =SUM(Y18:Z18) -> 13 | AB18: 10 | AC18: 3 | AD18: =SUM(AB18:AC18) -> 13 | AE18: =AD18/AA18*100 -> 100 | AF18: =SUM(D18,K18,R18,Y18) -> 81 | AG18: =SUM(E18,L18,S18,Z18) -> 51 | AH18: =SUM(AF18:AG18) -> 132 | AI18: =SUM(G18,N18,U18,AB18) -> 81 | AJ18: =SUM(H18,O18,V18,AC18) -> 51 | AK18: =SUM(AI18:AJ18) -> 132 | AL18: =AK18/AH18*100 -> 100
A19: 13 | B19: DEMAK I | C19: DEMAK | D19: 0 | E19: 3 | F19: =SUM(D19:E19) -> 3 | G19: =D19 -> 0 | H19: =E19 -> 3 | I19: =SUM(G19:H19) -> 3 | J19: =I19/F19% -> 100 | K19: 7 | L19: 1 | M19: =SUM(K19:L19) -> 8 | N19: =K19 -> 7 | O19: =L19 -> 1 | P19: =SUM(N19:O19) -> 8 | Q19: =P19/M19% -> 100 | R19: 1 | S19: 6 | T19: =SUM(R19:S19) -> 7 | U19: =R19 -> 1 | V19: =S19 -> 6 | W19: =SUM(U19:V19) -> 7 | X19: =W19/T19*100 -> 100 | Y19: 1 | Z19: 0 | AA19: =SUM(Y19:Z19) -> 1 | AB19: 1 | AC19: 0 | AD19: =SUM(AB19:AC19) -> 1 | AE19: =AD19/AA19*100 -> 100 | AF19: =SUM(D19,K19,R19,Y19) -> 9 | AG19: =SUM(E19,L19,S19,Z19) -> 10 | AH19: =SUM(AF19:AG19) -> 19 | AI19: =SUM(G19,N19,U19,AB19) -> 9 | AJ19: =SUM(H19,O19,V19,AC19) -> 10 | AK19: =SUM(AI19:AJ19) -> 19 | AL19: =AK19/AH19*100 -> 100
... A26: 20 | B26: GAJAH I | C26: GAJAH | D26: 1 | E26: 0 | F26: =SUM(D26:E26) -> 1 | G26: =D26 -> 1 | H26: =E26 -> 0 | I26: =SUM(G26:H26) -> 1 | J26: =I26/F26% -> 100 | K26: 0 | L26: 3 | M26: =SUM(K26:L26) -> 3 | N26: =K26 -> 0 | O26: =L26 -> 3 | P26: =SUM(N26:O26) -> 3 | Q26: =P26/M26% -> 100 | R26: 4 | S26: 2 | T26: =SUM(R26:S26) -> 6 | U26: =R26 -> 4 | V26: =S26 -> 2 | W26: =SUM(U26:V26) -> 6 | X26: =W26/T26*100 -> 100 | Y26: 5 | Z26: 9 | AA26: =SUM(Y26:Z26) -> 14 | AB26: 5 | AC26: 9 | AD26: =SUM(AB26:AC26) -> 14 | AE26: =AD26/AA26*100 -> 100 | AF26: =SUM(D26,K26,R26,Y26) -> 10 | AG26: =SUM(E26,L26,S26,Z26) -> 14 | AH26: =SUM(AF26:AG26) -> 24 | AI26: =SUM(G26,N26,U26,AB26) -> 10 | AJ26: =SUM(H26,O26,V26,AC26) -> 14 | AK26: =SUM(AI26:AJ26) -> 24 | AL26: =AK26/AH26*100 -> 100
A27: 21 | B27: GAJAH II | C27: GAJAH | D27: 9 | E27: 2 | F27: =SUM(D27:E27) -> 11 | G27: =D27 -> 9 | H27: =E27 -> 2 | I27: =SUM(G27:H27) -> 11 | J27: =I27/F27% -> 100 | K27: 0 | L27: 0 | M27: =SUM(K27:L27) -> 0 | N27: =K27 -> 0 | O27: =L27 -> 0 | P27: =SUM(N27:O27) -> 0 | Q27: 0 | R27: 5 | S27: 3 | T27: =SUM(R27:S27) -> 8 | U27: =R27 -> 5 | V27: =S27 -> 3 | W27: =SUM(U27:V27) -> 8 | X27: =W27/T27*100 -> 100 | Y27: 1 | Z27: 0 | AA27: =SUM(Y27:Z27) -> 1 | AB27: 1 | AC27: 0 | AD27: =SUM(AB27:AC27) -> 1 | AE27: =AD27/AA27*100 -> 100 | AF27: =SUM(D27,K27,R27,Y27) -> 15 | AG27: =SUM(E27,L27,S27,Z27) -> 5 | AH27: =SUM(AF27:AG27) -> 20 | AI27: =SUM(G27,N27,U27,AB27) -> 15 | AJ27: =SUM(H27,O27,V27,AC27) -> 5 | AK27: =SUM(AI27:AJ27) -> 20 | AL27: =AK27/AH27*100 -> 100
A28: 22 | B28: KARANGANYAR I | C28: KARANGANYAR | D28: 11 | E28: 5 | F28: =SUM(D28:E28) -> 16 | G28: =D28 -> 11 | H28: =E28 -> 5 | I28: =SUM(G28:H28) -> 16 | J28: =I28/F28% -> 100 | K28: 7 | L28: 5 | M28: =SUM(K28:L28) -> 12 | N28: =K28 -> 7 | O28: =L28 -> 5 | P28: =SUM(N28:O28) -> 12 | Q28: =P28/M28% -> 100 | R28: 6 | S28: 5 | T28: =SUM(R28:S28) -> 11 | U28: =R28 -> 6 | V28: =S28 -> 5 | W28: =SUM(U28:V28) -> 11 | X28: =W28/T28*100 -> 100 | Y28: 2 | Z28: 1 | AA28: =SUM(Y28:Z28) -> 3 | AB28: 2 | AC28: 1 | AD28: =SUM(AB28:AC28) -> 3 | AE28: =AD28/AA28*100 -> 100 | AF28: =SUM(D28,K28,R28,Y28) -> 26 | AG28: =SUM(E28,L28,S28,Z28) -> 16 | AH28: =SUM(AF28:AG28) -> 42 | AI28: =SUM(G28,N28,U28,AB28) -> 26 | AJ28: =SUM(H28,O28,V28,AC28) -> 16 | AK28: =SUM(AI28:AJ28) -> 42 | AL28: =AK28/AH28*100 -> 100
A29: 23 | B29: KARANGANYAR II | C29: KARANGANYAR | D29: 15 | E29: 17 | F29: =SUM(D29:E29) -> 32 | G29: =D29 -> 15 | H29: =E29 -> 17 | I29: =SUM(G29:H29) -> 32 | J29: =I29/F29% -> 100 | K29: 13 | L29: 13 | M29: =SUM(K29:L29) -> 26 | N29: =K29 -> 13 | O29: =L29 -> 13 | P29: =SUM(N29:O29) -> 26 | Q29: =P29/M29% -> 100 | R29: 7 | S29: 7 | T29: =SUM(R29:S29) -> 14 | U29: =R29 -> 7 | V29: =S29 -> 7 | W29: =SUM(U29:V29) -> 14 | X29: =W29/T29*100 -> 100 | Y29: 11 | Z29: 11 | AA29: =SUM(Y29:Z29) -> 22 | AB29: 11 | AC29: 11 | AD29: =SUM(AB29:AC29) -> 22 | AE29: =AD29/AA29*100 -> 100 | AF29: =SUM(D29,K29,R29,Y29) -> 46 | AG29: =SUM(E29,L29,S29,Z29) -> 48 | AH29: =SUM(AF29:AG29) -> 94 | AI29: =SUM(G29,N29,U29,AB29) -> 46 | AJ29: =SUM(H29,O29,V29,AC29) -> 48 | AK29: =SUM(AI29:AJ29) -> 94 | AL29: =AK29/AH29*100 -> 100
A30: 24 | B30: MIJEN I | C30: MIJEN | D30: 6 | E30: 7 | F30: =SUM(D30:E30) -> 13 | G30: =D30 -> 6 | H30: =E30 -> 7 | I30: =SUM(G30:H30) -> 13 | J30: =I30/F30% -> 100 | K30: 5 | L30: 5 | M30: =SUM(K30:L30) -> 10 | N30: =K30 -> 5 | O30: =L30 -> 5 | P30: =SUM(N30:O30) -> 10 | Q30: =P30/M30% -> 100 | R30: 3 | S30: 1 | T30: =SUM(R30:S30) -> 4 | U30: =R30 -> 3 | V30: =S30 -> 1 | W30: =SUM(U30:V30) -> 4 | X30: =W30/T30*100 -> 100 | Y30: 2 | Z30: 1 | AA30: =SUM(Y30:Z30) -> 3 | AB30: 2 | AC30: 1 | AD30: =SUM(AB30:AC30) -> 3 | AE30: =AD30/AA30*100 -> 100 | AF30: =SUM(D30,K30,R30,Y30) -> 16 | AG30: =SUM(E30,L30,S30,Z30) -> 14 | AH30: =SUM(AF30:AG30) -> 30 | AI30: =SUM(G30,N30,U30,AB30) -> 16 | AJ30: =SUM(H30,O30,V30,AC30) -> 14 | AK30: =SUM(AI30:AJ30) -> 30 | AL30: =AK30/AH30*100 -> 100
A31: 25 | B31: MIJEN II | C31: MIJEN | D31: 3 | E31: 3 | F31: =SUM(D31:E31) -> 6 | G31: =D31 -> 3 | H31: =E31 -> 3 | I31: =SUM(G31:H31) -> 6 | J31: =I31/F31% -> 100 | K31: 4 | L31: 1 | M31: =SUM(K31:L31) -> 5 | N31: =K31 -> 4 | O31: =L31 -> 1 | P31: =SUM(N31:O31) -> 5 | Q31: =P31/M31% -> 100 | R31: 6 | S31: 8 | T31: =SUM(R31:S31) -> 14 | U31: =R31 -> 6 | V31: =S31 -> 8 | W31: =SUM(U31:V31) -> 14 | X31: =W31/T31*100 -> 100 | Y31: 2 | Z31: 1 | AA31: =SUM(Y31:Z31) -> 3 | AB31: 2 | AC31: 1 | AD31: =SUM(AB31:AC31) -> 3 | AE31: =AD31/AA31*100 -> 100 | AF31: =SUM(D31,K31,R31,Y31) -> 15 | AG31: =SUM(E31,L31,S31,Z31) -> 13 | AH31: =SUM(AF31:AG31) -> 28 | AI31: =SUM(G31,N31,U31,AB31) -> 15 | AJ31: =SUM(H31,O31,V31,AC31) -> 13 | AK31: =SUM(AI31:AJ31) -> 28 | AL31: =AK31/AH31*100 -> 100
A32: 26 | B32: WEDUNG I | C32: WEDUNG | D32: 11 | E32: 6 | F32: =SUM(D32:E32) -> 17 | G32: =D32 -> 11 | H32: =E32 -> 6 | I32: =SUM(G32:H32) -> 17 | J32: =I32/F32% -> 100 | K32: 9 | L32: 4 | M32: =SUM(K32:L32) -> 13 | N32: =K32 -> 9 | O32: =L32 -> 4 | P32: =SUM(N32:O32) -> 13 | Q32: =P32/M32% -> 100 | R32: 16 | S32: 5 | T32: =SUM(R32:S32) -> 21 | U32: =R32 -> 16 | V32: =S32 -> 5 | W32: =SUM(U32:V32) -> 21 | X32: =W32/T32*100 -> 100 | Y32: 4 | Z32: 8 | AA32: =SUM(Y32:Z32) -> 12 | AB32: 4 | AC32: 8 | AD32: =SUM(AB32:AC32) -> 12 | AE32: =AD32/AA32*100 -> 100 | AF32: =SUM(D32,K32,R32,Y32) -> 40 | AG32: =SUM(E32,L32,S32,Z32) -> 23 | AH32: =SUM(AF32:AG32) -> 63 | AI32: =SUM(G32,N32,U32,AB32) -> 40 | AJ32: =SUM(H32,O32,V32,AC32) -> 23 | AK32: =SUM(AI32:AJ32) -> 63 | AL32: =AK32/AH32*100 -> 100
A33: 27 | B33: WEDUNG II | C33: WEDUNG | D33: 10 | E33: 6 | F33: =SUM(D33:E33) -> 16 | G33: =D33 -> 10 | H33: =E33 -> 6 | I33: =SUM(G33:H33) -> 16 | J33: =I33/F33% -> 100 | K33: 3 | L33: 3 | M33: =SUM(K33:L33) -> 6 | N33: =K33 -> 3 | O33: =L33 -> 3 | P33: =SUM(N33:O33) -> 6 | Q33: =P33/M33% -> 100 | R33: 5 | S33: 5 | T33: =SUM(R33:S33) -> 10 | U33: =R33 -> 5 | V33: =S33 -> 5 | W33: =SUM(U33:V33) -> 10 | X33: =W33/T33*100 -> 100 | Y33: 6 | Z33: 10 | AA33: =SUM(Y33:Z33) -> 16 | AB33: 6 | AC33: 10 | AD33: =SUM(AB33:AC33) -> 16 | AE33: =AD33/AA33*100 -> 100 | AF33: =SUM(D33,K33,R33,Y33) -> 24 | AG33: =SUM(E33,L33,S33,Z33) -> 24 | AH33: =SUM(AF33:AG33) -> 48 | AI33: =SUM(G33,N33,U33,AB33) -> 24 | AJ33: =SUM(H33,O33,V33,AC33) -> 24 | AK33: =SUM(AI33:AJ33) -> 48 | AL33: =AK33/AH33*100 -> 100
A34: TOTAL | D34: =SUM(D7:D33) -> 189 | E34: =SUM(E7:E33) -> 188 | F34: =SUM(D34:E34) -> 377 | G34: =SUM(G7:G33) -> 189 | H34: =SUM(H7:H33) -> 188 | I34: =SUM(I7:I33) -> 377 | J34: =I34/F34% -> 100 | K34: =SUM(K7:K33) -> 206 | L34: =SUM(L7:L33) -> 156 | M34: =SUM(K34:L34) -> 362 | N34: =SUM(N7:N33) -> 206 | O34: =SUM(O7:O33) -> 156 | P34: =SUM(P7:P33) -> 362 | Q34: =P34/M34% -> 100 | R34: =SUM(R7:R33) -> 130 | S34: =SUM(S7:S33) -> 105 | T34: =SUM(T7:T33) -> 235 | U34: =SUM(U7:U33) -> 130 | V34: =SUM(V7:V33) -> 105 | W34: =SUM(W7:W33) -> 235 | X34: =W34/T34*100 -> 100 | Y34: =SUM(Y7:Y33) -> 108 | Z34: =SUM(Z7:Z33) -> 108 | AA34: =SUM(Y34:Z34) -> 216 | AB34: =SUM(AB7:AB33) -> 108 | AC34: =SUM(AC7:AC33) -> 108 | AD34: =SUM(AD7:AD33) -> 216 | AE34: =AD34/AA34*100 -> 100 | AF34: =SUM(AF7:AF33) -> 633 | AG34: =SUM(AG7:AG33) -> 557 | AH34: =SUM(AF34:AG34) -> 1190 | AI34: =SUM(AI7:AI33) -> 633 | AJ34: =SUM(AJ7:AJ33) -> 557 | AK34: =SUM(AK7:AK33) -> 1190 | AL34: =AK34/AH34*100 -> 100
A37: Sumber: Bidang Kesmas

Sheet IMD
A1: TAHUN 2025
A3: IMD
A4: NO | B4: PUSKESMAS | C4: KECAMATAN | D4: TRIWULAN I (JAN-MAR) | G4: TRIWULAN II(APR-JUN) | J4: TRIWULAN III(JUL-SEP) | M4: TRIWULAN IV(OKT-DES) | P4: TAHUN 2025
D5: KELAHIRAN | E5: IMD | F5: % | G5: KELAHIRAN | H5: IMD | I5: % | J5: KELAHIRAN | K5: IMD | L5: % | M5: KELAHIRAN | N5: IMD | O5: % | P5: KELAHIRAN | Q5: IMD | R5: %
A7: 1 | B7: MRANGGEN I | C7: MRANGGEN | D7: ='LH,BBLR'!I7 -> 164 | E7: 152 | F7: =E7/D7% -> 92.682927 | G7: ='LH,BBLR'!Q7 -> 220 | H7: 211 | I7: =H7/G7% -> 95.909091 | J7: 192 | K7: 188 | L7: =K7/J7% -> 97.916667 | M7: 145 | N7: 141 | O7: =N7/M7% -> 97.241379 | P7: =SUM(D7,G7,J7,M7) -> 721 | Q7: =SUM(E7,H7,K7,N7) -> 692 | R7: =Q7/P7% -> 95.977809
A8: 2 | B8: MRANGGEN II | C8: MRANGGEN | D8: ='LH,BBLR'!I8 -> 194 | E8: 195 | F8: =E8/D8% -> 100.51546 | G8: ='LH,BBLR'!Q8 -> 195 | H8: 195 | I8: =H8/G8% -> 100 | J8: 186 | K8: 186 | L8: =K8/J8% -> 100 | M8: 169 | N8: 168 | O8: =N8/M8% -> 99.408284 | P8: =SUM(D8,G8,J8,M8) -> 744 | Q8: =SUM(E8,H8,K8,N8) -> 744 | R8: =Q8/P8% -> 100
A9: 3 | B9: MRANGGEN III | C9: MRANGGEN | D9: ='LH,BBLR'!I9 -> 155 | E9: 155 | F9: =E9/D9% -> 100 | G9: ='LH,BBLR'!Q9 -> 239 | H9: 239 | I9: =H9/G9% -> 100 | J9: 162 | K9: 162 | L9: =K9/J9% -> 100 | M9: 171 | N9: 171 | O9: =N9/M9% -> 100 | P9: =SUM(D9,G9,J9,M9) -> 727 | Q9: =SUM(E9,H9,K9,N9) -> 727 | R9: =Q9/P9% -> 100
A10: 4 | B10: KARANGAWEN I | C10: KARANGAWEN | D10: ='LH,BBLR'!I10 -> 147 | E10: 143 | F10: =E10/D10% -> 97.278912 | G10: ='LH,BBLR'!Q10 -> 183 | H10: 181 | I10: =H10/G10% -> 98.907104 | J10: 111 | K10: 109 | L10: =K10/J10% -> 98.198198 | M10: 144 | N10: 141 | O10: =N10/M10% -> 97.916667 | P10: =SUM(D10,G10,J10,M10) -> 585 | Q10: =SUM(E10,H10,K10,N10) -> 574 | R10: =Q10/P10% -> 98.119658
A11: 5 | B11: KARANGAWEN II | C11: KARANGAWEN | D11: ='LH,BBLR'!I11 -> 153 | E11: 151 | F11: =E11/D11% -> 98.69281 | G11: ='LH,BBLR'!Q11 -> 208 | H11: 208 | I11: =H11/G11% -> 100 | J11: 170 | K11: 170 | L11: =K11/J11% -> 100 | M11: 167 | N11: 167 | O11: =N11/M11% -> 100 | P11: =SUM(D11,G11,J11,M11) -> 698 | Q11: =SUM(E11,H11,K11,N11) -> 696 | R11: =Q11/P11% -> 99.713467
A12: 6 | B12: GUNTUR I | C12: GUNTUR | D12: ='LH,BBLR'!I12 -> 201 | E12: 160 | F12: =E12/D12% -> 79.60199 | G12: ='LH,BBLR'!Q12 -> 189 | H12: 171 | I12: =H12/G12% -> 90.47619 | J12: 147 | K12: 126 | L12: =K12/J12% -> 85.714286 | M12: 152 | N12: 129 | O12: =N12/M12% -> 84.868421 | P12: =SUM(D12,G12,J12,M12) -> 689 | Q12: =SUM(E12,H12,K12,N12) -> 586 | R12: =Q12/P12% -> 85.050798
A13: 7 | B13: GUNTUR II | C13: GUNTUR | D13: ='LH,BBLR'!I13 -> 141 | E13: 141 | F13: =E13/D13% -> 100 | G13: ='LH,BBLR'!Q13 -> 184 | H13: 184 | I13: =H13/G13% -> 100 | J13: 137 | K13: 137 | L13: =K13/J13% -> 100 | M13: 127 | N13: 126 | O13: =N13/M13% -> 99.212598 | P13: =SUM(D13,G13,J13,M13) -> 589 | Q13: =SUM(E13,H13,K13,N13) -> 588 | R13: =Q13/P13% -> 99.830221
A14: 8 | B14: SAYUNG I | C14: SAYUNG | D14: ='LH,BBLR'!I14 -> 130 | E14: 129 | F14: =E14/D14% -> 99.230769 | G14: ='LH,BBLR'!Q14 -> 176 | H14: 167 | I14: =H14/G14% -> 94.886364 | J14: 117 | K14: 110 | L14: =K14/J14% -> 94.017094 | M14: 136 | N14: 125 | O14: =N14/M14% -> 91.911765 | P14: =SUM(D14,G14,J14,M14) -> 559 | Q14: =SUM(E14,H14,K14,N14) -> 531 | R14: =Q14/P14% -> 94.991055
A15: 9 | B15: SAYUNG II | C15: SAYUNG | D15: ='LH,BBLR'!I15 -> 196 | E15: 166 | F15: =E15/D15% -> 84.693878 | G15: ='LH,BBLR'!Q15 -> 229 | H15: 172 | I15: =H15/G15% -> 75.10917 | J15: 181 | K15: 181 | L15: =K15/J15% -> 100 | M15: 188 | N15: 188 | O15: =N15/M15% -> 100 | P15: =SUM(D15,G15,J15,M15) -> 794 | Q15: =SUM(E15,H15,K15,N15) -> 707 | R15: =Q15/P15% -> 89.042821
A16: 10 | B16: KARANGTENGAH | C16: KARANGTENGAH | D16: ='LH,BBLR'!I16 -> 242 | E16: 241 | F16: =E16/D16% -> 99.586777 | G16: ='LH,BBLR'!Q16 -> 328 | H16: 229 | I16: =H16/G16% -> 69.817073 | J16: 256 | K16: 256 | L16: =K16/J16% -> 100 | M16: 201 | N16: 200 | O16: =N16/M16% -> 99.502488 | P16: =SUM(D16,G16,J16,M16) -> 1027 | Q16: =SUM(E16,H16,K16,N16) -> 926 | R16: =Q16/P16% -> 90.165531
A17: 11 | B17: BONANG I | C17: BONANG I | D17: ='LH,BBLR'!I17 -> 222 | E17: 222 | F17: =E17/D17% -> 100 | G17: ='LH,BBLR'!Q17 -> 248 | H17: 248 | I17: =H17/G17% -> 100 | J17: 189 | K17: 189 | L17: =K17/J17% -> 100 | M17: 204 | N17: 204 | O17: =N17/M17% -> 100 | P17: =SUM(D17,G17,J17,M17) -> 863 | Q17: =SUM(E17,H17,K17,N17) -> 863 | R17: =Q17/P17% -> 100
A18: 12 | B18: BONANG II | C18: BONANG I | D18: ='LH,BBLR'!I18 -> 161 | E18: 161 | F18: =E18/D18% -> 100 | G18: ='LH,BBLR'!Q18 -> 219 | H18: 219 | I18: =H18/G18% -> 100 | J18: 124 | K18: 124 | L18: =K18/J18% -> 100 | M18: 141 | N18: 140 | O18: =N18/M18% -> 99.29078 | P18: =SUM(D18,G18,J18,M18) -> 645 | Q18: =SUM(E18,H18,K18,N18) -> 644 | R18: =Q18/P18% -> 99.844961
... A33: 27 | B33: WEDUNG II | C33: WEDUNG | D33: ='LH,BBLR'!I33 -> 118 | E33: 110 | F33: =E33/D33% -> 93.220339 | G33: ='LH,BBLR'!Q33 -> 144 | H33: 142 | I33: =H33/G33% -> 98.611111 | J33: 87 | K33: 86 | L33: =K33/J33% -> 98.850575 | M33: 104 | N33: 99 | O33: =N33/M33% -> 95.192308 | P33: =SUM(D33,G33,J33,M33) -> 453 | Q33: =SUM(E33,H33,K33,N33) -> 437 | R33: =Q33/P33% -> 96.467991
A34: TOTAL | D34: =SUM(D7:D33) -> 3943 | E34: =SUM(E7:E33) -> 3814 | F34: =E34/D34% -> 96.728379 | G34: =SUM(G7:G33) -> 4816 | H34: =SUM(H7:H33) -> 4437 | I34: =H34/G34% -> 92.130399 | J34: =SUM(J7:J33) -> 3493 | K34: =SUM(K7:K33) -> 3435 | L34: =K34/J34% -> 98.339536 | M34: =SUM(M7:M33) -> 3493 | N34: =SUM(N7:N33) -> 3426 | O34: =N34/M34% -> 98.081878 | P34: =SUM(P7:P33) -> 15745 | Q34: =SUM(Q7:Q33) -> 15112 | R34: =Q34/P34% -> 95.979676
A37: Sumber: Bidang Kesmas
