Workbook
Name __TBL2: [6]TABEL!$T$6:$Y$228
Name __TBL2: [1]TABEL!$T$6:$Y$228
Name _23: '[7]REKAP ARUS AKAP (BULAN) 2024'!#REF!
Name _TBL2: [2]TABEL!$T$6:$AB$116
Name _TBL2: [2]TABEL!$T$6:$AB$116
Name _TBL2: [2]TABEL!$T$6:$AB$116
Name _TBL2: [2]TABEL!$T$6:$AB$116
Name _TBL2: [2]TABEL!$T$6:$AB$116
Name _TBL2: [2]TABEL!$T$6:$AB$116
Name EFE: [8]TABEL!$B$6:$H$116
Name EFE: [3]TABEL!$B$6:$H$116
Name FR: [9]TABEL!$T$6:$Y$250
Name FR: [4]TABEL!$T$6:$Y$250
Name JKL: [7]TABEL!#REF!
Name TABEL: '[10]MINGGUAN DAN REKAP MINGGUAN'!#REF!
Name TABEL: 'REKAP ARUS AKDP (BULAN) 202 (2)'!#REF!
Name TABEL: 'REKAP ARUS AKDP (BULAN) 202 (3)'!#REF!
Name TABEL: 'REKAP ARUS AKDP (BULAN) 202 (4)'!#REF!
Name TABEL: 'REKAP ARUS AKDP (BULAN) 202 (5)'!#REF!
Name TABEL: 'REKAP ARUS AKDP (BULAN) 2024'!#REF!
Name TABEL: 'REKAP ARUS AKDP (BULAN) 2025'!#REF!
Name TABEL: '[5]MINGGUAN DAN REKAP MINGGUAN'!#REF!
Name TABEL2: '[10]REKAP ARUS AKAP (BULAN) 2024'!#REF!
Name TABEL2: 'REKAP ARUS AKDP (BULAN) 202 (2)'!#REF!
Name TABEL2: 'REKAP ARUS AKDP (BULAN) 202 (3)'!#REF!
Name TABEL2: 'REKAP ARUS AKDP (BULAN) 202 (4)'!#REF!
Name TABEL2: 'REKAP ARUS AKDP (BULAN) 202 (5)'!#REF!
Name TABEL2: 'REKAP ARUS AKDP (BULAN) 2024'!#REF!
Name TABEL2: 'REKAP ARUS AKDP (BULAN) 2025'!#REF!
Name TABEL2: '[5]REKAP ARUS AKAP (BULAN) 2024'!#REF!
Name tbl: [10]TABEL!#REF!
Name tbl: [2]TABEL!#REF!
Name tbl: [2]TABEL!#REF!
Name tbl: [2]TABEL!#REF!
Name tbl: [2]TABEL!#REF!
Name tbl: [2]TABEL!#REF!
Name tbl: [2]TABEL!#REF!
Name tbl: [5]TABEL!#REF!

Sheet REKAP ARUS AKDP (BULAN) 2024
A1: REKAPITULASI PENCATATAN ARUS AKDP TERMINAL BINTORO KAB. DEMAK
A2: BULAN : | C2: JULI | P2: AKDP
A3: TERMINAL : | C3: BINTORO
A4: KAB / KOTA : | C4: DEMAK
A5: NO | B5: TANGGAL | C5: JUMLAH PO | D5: KENDARAAN | F5: JENIS BUS | I5: JUMLAH SEAT TERSEDIA | J5: JUMLAH PNP | K5: LOAD FACTOR (%) | L5: PENUMPANG | N5: KONDISI KENDARAAN | P5: KETERANGAN
D6: MASUK | E6: KELUAR | F6: BK | G6: BS | H6: BB | L6: TURUN | M6: NAIK | N6: LAIK JALAN | O6: TDK LAIK JALAN
A7: 1 | B7: 2 | C7: 3 | D7: 4 | E7: 5 | I7: 6 | J7: 7 | K7: 8 (7/6*100) | L7: 9 | M7: 10 | N7: 11 | O7: 12 | P7: 13
A8: 1 | B8: 45839 | C8: 3 | D8: 12 | E8: 12 | F8: 6 | G8: 6 | H8: - | I8: 240 | J8: 132 | K8: =J8/I8*100 -> 55 | L8: 27 | M8: 27 | N8: 10 | O8: 2
A9: 2 | B9: 45840 | C9: 4 | D9: 11 | E9: 11 | F9: 5 | G9: 6 | H9: - | I9: 224 | J9: 107 | K9: =J9/I9*100 -> 47.767857 | L9: 22 | M9: 28 | N9: 8 | O9: 3
A10: 3 | B10: 45841 | C10: 4 | D10: 10 | E10: 10 | F10: 6 | G10: 5 | H10: - | I10: 216 | J10: 104 | K10: =J10/I10*100 -> 48.148148 | L10: 25 | M10: 27 | N10: 9 | O10: 2
A11: 4 | B11: 45842 | C11: 3 | D11: 12 | E11: 12 | F11: 6 | G11: 6 | H11: - | I11: 240 | J11: 130 | K11: =J11/I11*100 -> 54.166667 | L11: 29 | M11: 25 | N11: 10 | O11: 2
A12: 5 | B12: 45843 | C12: 3 | D12: 10 | E12: 10 | F12: 5 | G12: 5 | H12: - | I12: 200 | J12: 87 | K12: =J12/I12*100 -> 43.5 | L12: 18 | M12: 21 | N12: 8 | O12: 2
A13: 6 | B13: 45844 | C13: 4 | D13: 9 | E13: 9 | F13: 4 | G13: 5 | H13: - | I13: 184 | J13: 81 | K13: =J13/I13*100 -> 44.021739 | L13: 20 | M13: 22 | N13: 6 | O13: 3
A14: 7 | B14: 45845 | C14: 4 | D14: 12 | E14: 12 | F14: 7 | G14: 5 | H14: - | I14: 232 | J14: 108 | K14: =J14/I14*100 -> 46.551724 | L14: 31 | M14: 33 | N14: 9 | O14: 3
A15: 8 | B15: 45846 | C15: 3 | D15: 12 | E15: 12 | F15: 6 | G15: 6 | H15: - | I15: 240 | J15: 136 | K15: =J15/I15*100 -> 56.666667 | L15: 30 | M15: 29 | N15: 10 | O15: 2
A16: 9 | B16: 45847 | C16: 4 | D16: 13 | E16: 13 | F16: 7 | G16: 6 | H16: - | I16: 256 | J16: 115 | K16: =J16/I16*100 -> 44.921875 | L16: 21 | M16: 27 | N16: 11 | O16: 2
A17: 10 | B17: 45848 | C17: 3 | D17: 11 | E17: 11 | F17: 5 | G17: 6 | H17: - | I17: 224 | J17: 125 | K17: =J17/I17*100 -> 55.803571 | L17: 23 | M17: 18 | N17: 9 | O17: 2
A18: 11 | B18: 45849 | C18: 3 | D18: 8 | E18: 8 | F18: 4 | G18: 4 | H18: - | I18: 160 | J18: 90 | K18: =J18/I18*100 -> 56.25 | L18: 23 | M18: 20 | N18: 6 | O18: 2
A19: 12 | B19: 45850 | C19: 4 | D19: 10 | E19: 10 | F19: 5 | G19: 5 | H19: - | I19: 200 | J19: 114 | K19: =J19/I19*100 -> 57 | L19: 14 | M19: 25 | N19: 8 | O19: 2
... A38: 31 | B38: 45869 | C38: 3 | D38: 10 | E38: 10 | F38: 5 | G38: 5 | H38: - | I38: 192 | J38: 112 | K38: =J38/I38*100 -> 58.333333 | L38: 33 | M38: 32 | N38: 8 | O38: 2
A39: JUMLAH : | C39: =AVERAGE(C8:C38) -> 3.5483871 | D39: =SUM(D8:D38) -> 344 | E39: =SUM(E8:E38) -> 344 | F39: =SUM(F8:F38) -> 178 | G39: =SUM(G8:G38) -> 167 | H39: =SUM(H30:H38) -> 0 | I39: =SUM(I8:I38) -> 6848 | J39: =SUM(J8:J38) -> 3641 | K39: =SUM(K8:K38) -> 1648.5121 | L39: =SUM(L8:L38) -> 753 | M39: =SUM(M8:M38) -> 796 | N39: =SUM(N8:N38) -> 274 | O39: =SUM(O8:O38) -> 71
K44: KEPALA BALAI PENGELOLA SARANA DAN PRASARANA
K45: PERHUBUNGAN WILAYAH ………
K49: ………………………………………….
K50: ……………………
K51: NIP. …………………

Sheet REKAP ARUS AKDP (BULAN) 202 (2)
A1: REKAPITULASI PENCATATAN ARUS AKDP TERMINAL BINTORO KAB. DEMAK
A2: BULAN : | C2: AGUSTUS | P2: AKDP
A3: TERMINAL : | C3: BINTORO
A4: KAB / KOTA : | C4: DEMAK
A5: NO | B5: TANGGAL | C5: JUMLAH PO | D5: KENDARAAN | F5: JENIS BUS | I5: JUMLAH SEAT TERSEDIA | J5: JUMLAH PNP | K5: LOAD FACTOR (%) | L5: PENUMPANG | N5: KONDISI KENDARAAN | P5: KETERANGAN
D6: MASUK | E6: KELUAR | F6: BK | G6: BS | H6: BB | L6: TURUN | M6: NAIK | N6: LAIK JALAN | O6: TDK LAIK JALAN
A7: 1 | B7: 2 | C7: 3 | D7: 4 | E7: 5 | I7: 6 | J7: 7 | K7: 8 (7/6*100) | L7: 9 | M7: 10 | N7: 11 | O7: 12 | P7: 13
A8: 1 | B8: 45870 | C8: 3 | D8: 12 | E8: 12 | F8: 7 | G8: 5 | H8: - | I8: 232 | J8: 134 | K8: =J8/I8*100 -> 57.758621 | L8: 26 | M8: 25 | N8: 10 | O8: 2
A9: 2 | B9: 45871 | C9: 3 | D9: 10 | E9: 10 | F9: 6 | G9: 4 | H9: - | I9: 192 | J9: 115 | K9: =J9/I9*100 -> 59.895833 | L9: 12 | M9: 26 | N9: 9 | O9: 1
A10: 3 | B10: 45872 | C10: 3 | D10: 9 | E10: 9 | F10: 4 | G10: 5 | H10: - | I10: 184 | J10: 105 | K10: =J10/I10*100 -> 57.065217 | L10: 22 | M10: 17 | N10: 7 | O10: 2
A11: 4 | B11: 45873 | C11: 3 | D11: 13 | E11: 13 | F11: 7 | G11: 6 | H11: - | I11: 256 | J11: 129 | K11: =J11/I11*100 -> 50.390625 | L11: 27 | M11: 29 | N11: 11 | O11: 2
A12: 5 | B12: 45874 | C12: 4 | D12: 12 | E12: 12 | F12: 6 | G12: 6 | H12: - | I12: 240 | J12: 113 | K12: =J12/I12*100 -> 47.083333 | L12: 21 | M12: 26 | N12: 10 | O12: 2
A13: 6 | B13: 45875 | C13: 4 | D13: 11 | E13: 11 | F13: 7 | G13: 4 | H13: - | I13: 208 | J13: 137 | K13: =J13/I13*100 -> 65.865385 | L13: 23 | M13: 27 | N13: 9 | O13: 2
A14: 7 | B14: 45876 | C14: 3 | D14: 12 | E14: 12 | F14: 6 | G14: 6 | H14: - | I14: 240 | J14: 126 | K14: =J14/I14*100 -> 52.5 | L14: 27 | M14: 24 | N14: 10 | O14: 2
A15: 8 | B15: 45877 | C15: 3 | D15: 10 | E15: 10 | F15: 4 | G15: 6 | I15: 208 | J15: 120 | K15: =J15/I15*100 -> 57.692308 | L15: 23 | M15: 18 | N15: 8 | O15: 2
A16: 9 | B16: 45878 | C16: 4 | D16: 10 | E16: 10 | F16: 5 | G16: 5 | H16: - | I16: 200 | J16: 95 | K16: =J16/I16*100 -> 47.5 | L16: 26 | M16: 25 | N16: 7 | O16: 3
A17: 10 | B17: 45879 | C17: 3 | D17: 11 | E17: 11 | F17: 5 | G17: 6 | H17: - | I17: 224 | J17: 113 | K17: =J17/I17*100 -> 50.446429 | L17: 20 | M17: 26 | N17: 8 | O17: 3
A18: 11 | B18: 45880 | C18: 3 | D18: 12 | E18: 12 | F18: 6 | G18: 6 | H18: - | I18: 240 | J18: 136 | K18: =J18/I18*100 -> 56.666667 | L18: 32 | M18: 35 | N18: 10 | O18: 2
A19: 12 | B19: 45881 | C19: 3 | D19: 11 | E19: 11 | F19: 7 | G19: 4 | H19: - | I19: 208 | J19: 116 | K19: =J19/I19*100 -> 55.769231 | L19: 30 | M19: 29 | N19: 9 | O19: 2
A20: 13 | B20: 45882 | C20: 3 | D20: 11 | E20: 11 | F20: 7 | G20: 4 | H20: - | I20: 208 | J20: 144 | K20: =J20/I20*100 -> 69.230769 | L20: 28 | M20: 22 | N20: 9 | O20: 2
A21: 14 | B21: 45883 | C21: 3 | D21: 10 | E21: 10 | F21: 5 | G21: 5 | H21: - | I21: 200 | J21: 103 | K21: =J21/I21*100 -> 51.5 | L21: 16 | M21: 20 | N21: 8 | O21: 2
A22: 15 | B22: 45884 | C22: 4 | D22: 11 | E22: 11 | F22: 6 | G22: 5 | H22: - | I22: 216 | J22: 114 | K22: =J22/I22*100 -> 52.777778 | L22: 22 | M22: 28 | N22: 9 | O22: 2
A23: 16 | B23: 45885 | C23: 3 | D23: 12 | E23: 12 | F23: 7 | G23: 5 | H23: - | I23: 232 | J23: 136 | K23: =J23/I23*100 -> 58.62069 | L23: 28 | M23: 25 | N23: 10 | O23: 2
A24: 17 | B24: 45886 | C24: 4 | D24: 7 | E24: 7 | F24: 4 | G24: 3 | H24: - | I24: 136 | J24: 61 | K24: =J24/I24*100 -> 44.852941 | L24: 28 | M24: 22 | N24: 5 | O24: 2
A25: 18 | B25: 45887 | C25: 4 | D25: 6 | E25: 6 | F25: 3 | G25: 3 | H25: - | I25: 120 | J25: 55 | K25: =J25/I25*100 -> 45.833333 | L25: 8 | M25: 14 | N25: 4 | O25: 2
A26: 19 | B26: 45888 | C26: 4 | D26: 13 | E26: 13 | F26: 6 | G26: 7 | H26: - | I26: 264 | J26: 120 | K26: =J26/I26*100 -> 45.454545 | L26: 32 | M26: 29 | N26: 9 | O26: 4
A27: 20 | B27: 45889 | C27: 4 | D27: 12 | E27: 12 | F27: 6 | G27: 6 | H27: - | I27: 240 | J27: 107 | K27: =J27/I27*100 -> 44.583333 | L27: 23 | M27: 27 | N27: 10 | O27: 2
... A33: 26 | B33: 45895 | C33: 3 | D33: 10 | E33: 10 | F33: 5 | G33: 5 | H33: - | I33: 200 | J33: 123 | K33: =J33/I33*100 -> 61.5 | L33: 27 | M33: 25 | N33: 8 | O33: 2
A34: 27 | B34: 45896 | H34: - | K34: =J34/I34*100 -> #DIV/0!
A35: 28 | B35: 45897 | H35: - | K35: =J35/I35*100 -> #DIV/0!
A36: 29 | B36: 45898 | H36: - | K36: =J36/I36*100 -> #DIV/0!
A37: 30 | B37: 45899 | H37: - | K37: =J37/I37*100 -> #DIV/0!
A38: 31 | B38: 45900 | H38: - | K38: =J38/I38*100 -> #DIV/0!
A39: JUMLAH : | C39: =AVERAGE(C8:C38) -> 3.3461538 | D39: =SUM(D8:D38) -> 278 | E39: =SUM(E8:E38) -> 278 | F39: =SUM(F8:F38) -> 147 | G39: =SUM(G8:G38) -> 131 | H39: =SUM(H30:H38) -> 0 | I39: =SUM(I8:I38) -> 5496 | J39: =SUM(J8:J38) -> 2967 | K39: =SUM(K8:K38) -> #DIV/0! | L39: =SUM(L8:L38) -> 609 | M39: =SUM(M8:M38) -> 635 | N39: =SUM(N8:N38) -> 223 | O39: =SUM(O8:O38) -> 55
K44: KEPALA BALAI PENGELOLA SARANA DAN PRASARANA
K45: PERHUBUNGAN WILAYAH ………
K49: ………………………………………….
K50: ……………………
K51: NIP. …………………

Sheet REKAP ARUS AKDP (BULAN) 202 (3)
A1: REKAPITULASI PENCATATAN ARUS AKDP TERMINAL BINTORO KAB. DEMAK
A2: BULAN : | C2: SEPTEMBER | P2: AKDP
A3: TERMINAL : | C3: BINTORO
A4: KAB / KOTA : | C4: DEMAK
A5: NO | B5: TANGGAL | C5: JUMLAH PO | D5: KENDARAAN | F5: JENIS BUS | I5: JUMLAH SEAT TERSEDIA | J5: JUMLAH PNP | K5: LOAD FACTOR (%) | L5: PENUMPANG | N5: KONDISI KENDARAAN | P5: KETERANGAN
D6: MASUK | E6: KELUAR | F6: BK | G6: BS | H6: BB | L6: TURUN | M6: NAIK | N6: LAIK JALAN | O6: TDK LAIK JALAN
A7: 1 | B7: 2 | C7: 3 | D7: 4 | E7: 5 | I7: 6 | J7: 7 | K7: 8 (7/6*100) | L7: 9 | M7: 10 | N7: 11 | O7: 12 | P7: 13
A8: 1 | B8: 45901 | C8: 4 | D8: 11 | E8: 11 | F8: 5 | G8: 6 | H8: - | I8: 224 | J8: 119 | K8: =J8/I8*100 -> 53.125 | L8: 16 | M8: 27 | N8: 8 | O8: 3
A9: 2 | B9: 45902 | C9: 3 | D9: 12 | E9: 12 | F9: 6 | G9: 6 | H9: - | I9: 240 | J9: 126 | K9: =J9/I9*100 -> 52.5 | L9: 26 | M9: 21 | N9: 10 | O9: 2
A10: 3 | B10: 45903 | C10: 3 | D10: 11 | E10: 11 | F10: 5 | G10: 6 | H10: - | I10: 224 | J10: 127 | K10: =J10/I10*100 -> 56.696429 | L10: 30 | M10: 27 | N10: 9 | O10: 2
A11: 4 | B11: 45904 | C11: 4 | D11: 12 | E11: 12 | F11: 6 | G11: 6 | H11: - | I11: 240 | J11: 121 | K11: =J11/I11*100 -> 50.416667 | L11: 18 | M11: 28 | N11: 9 | O11: 3
A12: 5 | B12: 45905 | C12: 4 | D12: 7 | E12: 7 | F12: 4 | G12: 3 | H12: - | I12: 136 | J12: 65 | K12: =J12/I12*100 -> 47.794118 | L12: 15 | M12: 9 | N12: 5 | O12: 2
A13: 6 | B13: 45906 | C13: 3 | D13: 10 | E13: 10 | F13: 5 | G13: 5 | H13: - | I13: 200 | J13: 104 | K13: =J13/I13*100 -> 52 | L13: 22 | M13: 12 | N13: 8 | O13: 2
A14: 7 | B14: 45907 | C14: 3 | D14: 10 | E14: 10 | F14: 5 | G14: 5 | H14: - | I14: 200 | J14: 112 | K14: =J14/I14*100 -> 56 | L14: 27 | M14: 19 | N14: 8 | O14: 2
A15: 8 | B15: 45908 | C15: 3 | D15: 11 | E15: 11 | F15: 6 | G15: 5 | I15: 216 | J15: 124 | K15: =J15/I15*100 -> 57.407407 | L15: 27 | M15: 23 | N15: 9 | O15: 2
A16: 9 | B16: 45909 | C16: 3 | D16: 12 | E16: 12 | F16: 6 | G16: 6 | H16: - | I16: 240 | J16: 136 | K16: =J16/I16*100 -> 56.666667 | L16: 26 | M16: 27 | N16: 10 | O16: 2
A17: 10 | B17: 45910 | C17: 4 | D17: 10 | E17: 10 | F17: 6 | G17: 4 | H17: - | I17: 192 | J17: 103 | K17: =J17/I17*100 -> 53.645833 | L17: 24 | M17: 26 | N17: 8 | O17: 2
A18: 11 | B18: 45911 | C18: 4 | D18: 11 | E18: 11 | F18: 6 | G18: 5 | H18: - | I18: 216 | J18: 91 | K18: =J18/I18*100 -> 42.12963 | L18: 25 | M18: 20 | N18: 8 | O18: 3
A19: 12 | B19: 45912 | C19: 4 | D19: 13 | E19: 13 | F19: 6 | G19: 7 | H19: - | I19: 264 | J19: 126 | K19: =J19/I19*100 -> 47.727273 | L19: 31 | M19: 32 | N19: 9 | O19: 4
A20: 13 | B20: 45913 | C20: 4 | D20: 10 | E20: 10 | F20: 6 | G20: 4 | H20: - | I20: 192 | J20: 133 | K20: =J20/I20*100 -> 69.270833 | L20: 27 | M20: 21 | N20: 8 | O20: 2
A21: 14 | B21: 45914 | C21: 3 | D21: 7 | E21: 7 | F21: 3 | G21: 4 | H21: - | I21: 144 | J21: 86 | K21: =J21/I21*100 -> 59.722222 | L21: 14 | M21: 13 | N21: 6 | O21: 1
A22: 15 | B22: 45915 | C22: 3 | D22: 12 | E22: 12 | F22: 7 | G22: 5 | H22: - | I22: 232 | J22: 152 | K22: =J22/I22*100 -> 65.517241 | L22: 36 | M22: 23 | N22: 9 | O22: 3
A23: 16 | B23: 45916 | C23: 3 | D23: 11 | E23: 11 | F23: 6 | G23: 5 | H23: - | I23: 216 | J23: 126 | K23: =J23/I23*100 -> 58.333333 | L23: 27 | M23: 17 | N23: 9 | O23: 2
A24: 17 | B24: 45917 | C24: 3 | D24: 12 | E24: 12 | F24: 6 | G24: 6 | H24: - | I24: 240 | J24: 114 | K24: =J24/I24*100 -> 47.5 | L24: 26 | M24: 28 | N24: 9 | O24: 3
A25: 18 | B25: 45918 | C25: 3 | D25: 10 | E25: 10 | F25: 5 | G25: 5 | H25: - | I25: 200 | J25: 112 | K25: =J25/I25*100 -> 56 | L25: 23 | M25: 17 | N25: 8 | O25: 2
A26: 19 | B26: 45919 | C26: 3 | D26: 11 | E26: 11 | F26: 5 | G26: 6 | H26: - | I26: 224 | J26: 129 | K26: =J26/I26*100 -> 57.589286 | L26: 31 | M26: 21 | N26: 9 | O26: 2
A27: 20 | B27: 45920 | C27: 3 | D27: 9 | E27: 9 | F27: 4 | G27: 5 | H27: - | I27: 184 | J27: 109 | K27: =J27/I27*100 -> 59.23913 | L27: 27 | M27: 21 | N27: 7 | O27: 2
... A37: 30 | B37: 45930 | C37: 3 | D37: 11 | E37: 11 | F37: 5 | G37: 6 | H37: - | I37: 224 | J37: 127 | K37: =J37/I37*100 -> 56.696429 | L37: 27 | M37: 27 | N37: 9 | O37: 2
A38: JUMLAH : | C38: =AVERAGE(C8:C37) -> 3.3333333 | D38: =SUM(D8:D37) -> 321 | E38: =SUM(E8:E37) -> 321 | F38: =SUM(F8:F37) -> 164 | G38: =SUM(G8:G37) -> 157 | H38: =SUM(H30:H37) -> 0 | I38: =SUM(I8:I37) -> 6392 | J38: =SUM(J8:J37) -> 3474 | K38: =SUM(K8:K37) -> 1632.4972 | L38: =SUM(L8:L37) -> 764 | M38: =SUM(M8:M37) -> 714 | N38: =SUM(N8:N37) -> 253 | O38: =SUM(O8:O37) -> 68
K43: KEPALA BALAI PENGELOLA SARANA DAN PRASARANA
K44: PERHUBUNGAN WILAYAH ………
K48: ………………………………………….
K49: ……………………
K50: NIP. …………………

Sheet REKAP ARUS AKDP (BULAN) 202 (4)
A1: REKAPITULASI PENCATATAN ARUS AKDP TERMINAL BINTORO KAB. DEMAK
A2: BULAN : | C2: OKTOBER | P2: AKDP
A3: TERMINAL : | C3: BINTORO
A4: KAB / KOTA : | C4: DEMAK
A5: NO | B5: TANGGAL | C5: JUMLAH PO | D5: KENDARAAN | F5: JENIS BUS | I5: JUMLAH SEAT TERSEDIA | J5: JUMLAH PNP | K5: LOAD FACTOR (%) | L5: PENUMPANG | N5: KONDISI KENDARAAN | P5: KETERANGAN
D6: MASUK | E6: KELUAR | F6: BK | G6: BS | H6: BB | L6: TURUN | M6: NAIK | N6: LAIK JALAN | O6: TDK LAIK JALAN
A7: 1 | B7: 2 | C7: 3 | D7: 4 | E7: 5 | I7: 6 | J7: 7 | K7: 8 (7/6*100) | L7: 9 | M7: 10 | N7: 11 | O7: 12 | P7: 13
A8: 1 | B8: 45931 | C8: 4 | D8: 13 | E8: 13 | F8: 6 | G8: 7 | H8: - | I8: 264 | J8: 122 | K8: =J8/I8*100 -> 46.212121 | L8: 35 | M8: 32 | N8: 9 | O8: 4
A9: 2 | B9: 45932 | C9: 3 | D9: 12 | E9: 12 | F9: 6 | G9: 6 | H9: - | I9: 240 | J9: 137 | K9: =J9/I9*100 -> 57.083333 | L9: 30 | M9: 23 | N9: 10 | O9: 2
A10: 3 | B10: 45933 | C10: 4 | D10: 11 | E10: 11 | F10: 6 | G10: 5 | H10: - | I10: 216 | J10: 117 | K10: =J10/I10*100 -> 54.166667 | L10: 25 | M10: 28 | N10: 9 | O10: 2
A11: 4 | B11: 45934 | C11: 3 | D11: 10 | E11: 10 | F11: 5 | G11: 5 | H11: - | I11: 200 | J11: 90 | K11: =J11/I11*100 -> 45 | L11: 17 | M11: 18 | N11: 8 | O11: 2
A12: 5 | B12: 45935 | C12: 4 | D12: 8 | E12: 8 | F12: 4 | G12: 4 | H12: - | I12: 160 | J12: 95 | K12: =J12/I12*100 -> 59.375 | L12: 36 | M12: 23 | N12: 6 | O12: 2
A13: 6 | B13: 45936 | C13: 3 | D13: 12 | E13: 12 | F13: 6 | G13: 6 | H13: - | I13: 240 | J13: 137 | K13: =J13/I13*100 -> 57.083333 | L13: 29 | M13: 31 | N13: 10 | O13: 2
A14: 7 | B14: 45937 | C14: 3 | D14: 12 | E14: 12 | F14: 6 | G14: 6 | H14: - | I14: 240 | J14: 126 | K14: =J14/I14*100 -> 52.5 | L14: 26 | M14: 21 | N14: 10 | O14: 2
A15: 8 | B15: 45938 | C15: 4 | D15: 11 | E15: 11 | F15: 6 | G15: 5 | H15: - | I15: 216 | J15: 110 | K15: =J15/I15*100 -> 50.925926 | L15: 23 | M15: 28 | N15: 9 | O15: 2
A16: 9 | B16: 45939 | C16: 4 | D16: 12 | E16: 12 | F16: 5 | G16: 7 | H16: - | I16: 248 | J16: 116 | K16: =J16/I16*100 -> 46.774194 | L16: 31 | M16: 27 | N16: 8 | O16: 4
A17: 10 | B17: 45940 | C17: 3 | D17: 13 | E17: 13 | F17: 7 | G17: 6 | H17: - | I17: 256 | J17: 148 | K17: =J17/I17*100 -> 57.8125 | L17: 32 | M17: 29 | N17: 11 | O17: 2
A18: 11 | B18: 45941 | C18: 4 | D18: 10 | E18: 10 | F18: 6 | G18: 4 | H18: - | I18: 192 | J18: 101 | K18: =J18/I18*100 -> 52.604167 | L18: 19 | M18: 26 | N18: 8 | O18: 2
A19: 12 | B19: 45942 | C19: 3 | D19: 8 | E19: 8 | F19: 4 | G19: 4 | H19: - | I19: 160 | J19: 74 | K19: =J19/I19*100 -> 46.25 | L19: 13 | M19: 10 | N19: 6 | O19: 2
... A38: 31 | B38: 45961 | C38: 3 | D38: 6 | E38: 6 | F38: 3 | G38: 3 | H38: - | I38: 120 | J38: 94 | K38: =J38/I38*100 -> 78.333333 | L38: 20 | M38: 18 | N38: 5 | O38: 1
A39: JUMLAH : | C39: =AVERAGE(C8:C38) -> 3.4193548 | D39: =SUM(D8:D38) -> 321 | E39: =SUM(E8:E38) -> 321 | F39: =SUM(F8:F38) -> 164 | G39: =SUM(G8:G38) -> 157 | H39: =SUM(H30:H38) -> 0 | I39: =SUM(I8:I38) -> 6392 | J39: =SUM(J8:J38) -> 3452 | K39: =SUM(K8:K38) -> 1688.324 | L39: =SUM(L8:L38) -> 774 | M39: =SUM(M8:M38) -> 703 | N39: =SUM(N8:N38) -> 257 | O39: =SUM(O8:O38) -> 64
K44: KEPALA BALAI PENGELOLA SARANA DAN PRASARANA
K45: PERHUBUNGAN WILAYAH ………
K49: ………………………………………….
K50: ……………………
K51: NIP. …………………

Sheet REKAP ARUS AKDP (BULAN) 2025
A1: REKAPITULASI PENCATATAN ARUS AKDP TERMINAL BINTORO KAB. DEMAK
A2: BULAN : | C2: NOVEMOBER | P2: AKDP
A3: TERMINAL : | C3: BINTORO
A4: KAB / KOTA : | C4: DEMAK
A5: NO | B5: TANGGAL | C5: JUMLAH PO | D5: KENDARAAN | F5: JENIS BUS | I5: JUMLAH SEAT TERSEDIA | J5: JUMLAH PNP | K5: LOAD FACTOR (%) | L5: PENUMPANG | N5: KONDISI KENDARAAN | P5: KETERANGAN
D6: MASUK | E6: KELUAR | F6: BK | G6: BS | H6: BB | L6: TURUN | M6: NAIK | N6: LAIK JALAN | O6: TDK LAIK JALAN
A7: 1 | B7: 2 | C7: 3 | D7: 4 | E7: 5 | I7: 6 | J7: 7 | K7: 8 (7/6*100) | L7: 9 | M7: 10 | N7: 11 | O7: 12 | P7: 13
A8: 1 | B8: 45962 | C8: 3 | D8: 7 | E8: 7 | F8: 3 | G8: 4 | H8: - | I8: 144 | J8: 108 | K8: =J8/I8*100 -> 75 | L8: 16 | M8: 18 | N8: 5 | O8: 2
A9: 2 | B9: 45963 | C9: 4 | D9: 8 | E9: 8 | F9: 4 | G9: 4 | H9: - | I9: 160 | J9: 81 | K9: =J9/I9*100 -> 50.625 | L9: 30 | M9: 25 | N9: 5 | O9: 3
A10: 3 | B10: 45964 | C10: 3 | D10: 9 | E10: 9 | F10: 4 | G10: 5 | H10: - | I10: 184 | J10: 91 | K10: =J10/I10*100 -> 49.456522 | L10: 24 | M10: 20 | N10: 7 | O10: 2
A11: 4 | B11: 45965 | C11: 4 | D11: 12 | E11: 12 | F11: 6 | G11: 6 | H11: - | I11: 240 | J11: 121 | K11: =J11/I11*100 -> 50.416667 | L11: 31 | M11: 37 | N11: 10 | O11: 2
A12: 5 | B12: 45966 | C12: 4 | D12: 11 | E12: 11 | F12: 6 | G12: 5 | H12: - | I12: 216 | J12: 118 | K12: =J12/I12*100 -> 54.62963 | L12: 15 | M12: 27 | N12: 9 | O12: 2
A13: 6 | B13: 45967 | C13: 4 | D13: 9 | E13: 9 | F13: 4 | G13: 5 | H13: - | I13: 184 | J13: 105 | K13: =J13/I13*100 -> 57.065217 | L13: 16 | M13: 23 | N13: 7 | O13: 2
A14: 7 | B14: 45968 | C14: 4 | D14: 11 | E14: 11 | F14: 5 | G14: 6 | H14: - | I14: 224 | J14: 113 | K14: =J14/I14*100 -> 50.446429 | L14: 20 | M14: 26 | N14: 8 | O14: 3
A15: 8 | B15: 45969 | C15: 4 | D15: 10 | E15: 10 | F15: 5 | G15: 5 | H15: - | I15: 200 | J15: 105 | K15: =J15/I15*100 -> 52.5 | L15: 20 | M15: 27 | N15: 8 | O15: 2
A16: 9 | B16: 45970 | C16: 3 | D16: 7 | E16: 7 | F16: 3 | G16: 4 | H16: - | I16: 144 | J16: 91 | K16: =J16/I16*100 -> 63.194444 | L16: 22 | M16: 16 | N16: 6 | O16: 1
A17: 10 | B17: 45971 | C17: 4 | D17: 12 | E17: 12 | F17: 6 | G17: 6 | H17: - | I17: 240 | J17: 107 | K17: =J17/I17*100 -> 44.583333 | L17: 25 | M17: 28 | N17: 10 | O17: 2
A18: 11 | B18: 45972 | C18: 3 | D18: 11 | E18: 11 | F18: 6 | G18: 5 | H18: - | I18: 216 | J18: 136 | K18: =J18/I18*100 -> 62.962963 | L18: 26 | M18: 24 | N18: 10 | O18: 1
A19: 12 | B19: 45973 | C19: 3 | D19: 10 | E19: 10 | F19: 5 | G19: 5 | H19: - | I19: 200 | J19: 90 | K19: =J19/I19*100 -> 45 | L19: 17 | M19: 18 | N19: 8 | O19: 2
... A37: 30 | B37: 45991 | C37: 4 | D37: 8 | E37: 8 | F37: 4 | G37: 4 | H37: - | I37: 160 | J37: 84 | K37: =J37/I37*100 -> 52.5 | L37: 18 | M37: 19 | N37: 6 | O37: 2
A38: JUMLAH : | C38: =AVERAGE(C8:C37) -> 3.5333333 | D38: =SUM(D8:D37) -> 292 | E38: =SUM(E8:E37) -> 292 | F38: =SUM(F8:F37) -> 150 | G38: =SUM(G8:G37) -> 142 | H38: =SUM(H30:H37) -> 0 | I38: =SUM(I8:I37) -> 5808 | J38: =SUM(J8:J37) -> 3039 | K38: =SUM(K8:K37) -> 1583.0361 | L38: =SUM(L8:L37) -> 691 | M38: =SUM(M8:M37) -> 708 | N38: =SUM(N8:N37) -> 231 | O38: =SUM(O8:O37) -> 61
K43: KEPALA BALAI PENGELOLA SARANA DAN PRASARANA
K44: PERHUBUNGAN WILAYAH ………
K48: ………………………………………….
K49: ……………………
K50: NIP. …………………

Sheet REKAP ARUS AKDP (BULAN) 202 (5)
A1: REKAPITULASI PENCATATAN ARUS AKDP TERMINAL BINTORO KAB. DEMAK
A2: BULAN : | C2: DESEMBER | P2: AKDP
A3: TERMINAL : | C3: BINTORO
A4: KAB / KOTA : | C4: DEMAK
A5: NO | B5: TANGGAL | C5: JUMLAH PO | D5: KENDARAAN | F5: JENIS BUS | I5: JUMLAH SEAT TERSEDIA | J5: JUMLAH PNP | K5: LOAD FACTOR (%) | L5: PENUMPANG | N5: KONDISI KENDARAAN | P5: KETERANGAN
D6: MASUK | E6: KELUAR | F6: BK | G6: BS | H6: BB | L6: TURUN | M6: NAIK | N6: LAIK JALAN | O6: TDK LAIK JALAN
A7: 1 | B7: 2 | C7: 3 | D7: 4 | E7: 5 | I7: 6 | J7: 7 | K7: 8 (7/6*100) | L7: 9 | M7: 10 | N7: 11 | O7: 12 | P7: 13
A8: 1 | B8: 45992 | C8: 3 | D8: 12 | E8: 12 | F8: 6 | G8: 6 | H8: - | I8: 240 | J8: 128 | K8: =J8/I8*100 -> 53.333333 | L8: 28 | M8: 25 | N8: 10 | O8: 2
A9: 2 | B9: 45993 | C9: 3 | D9: 12 | E9: 12 | F9: 6 | G9: 6 | H9: - | I9: 240 | J9: 142 | K9: =J9/I9*100 -> 59.166667 | L9: 32 | M9: 19 | N9: 10 | O9: 2
A10: 3 | B10: 45994 | C10: 3 | D10: 10 | E10: 10 | F10: 6 | G10: 4 | H10: - | I10: 192 | J10: 109 | K10: =J10/I10*100 -> 56.770833 | L10: 22 | M10: 26 | N10: 9 | O10: 1
A11: 4 | B11: 45995 | C11: 4 | D11: 10 | E11: 10 | F11: 5 | G11: 5 | H11: - | I11: 200 | J11: 114 | K11: =J11/I11*100 -> 57 | L11: 14 | M11: 25 | N11: 8 | O11: 2
A12: 5 | B12: 45996 | C12: 3 | D12: 11 | E12: 11 | F12: 5 | G12: 6 | H12: - | I12: 224 | J12: 128 | K12: =J12/I12*100 -> 57.142857 | L12: 32 | M12: 25 | N12: 9 | O12: 2
A13: 6 | B13: 45997 | C13: 4 | D13: 10 | E13: 10 | F13: 5 | G13: 5 | H13: - | I13: 200 | J13: 107 | K13: =J13/I13*100 -> 53.5 | L13: 18 | M13: 22 | N13: 8 | O13: 2
A14: 7 | B14: 45998 | C14: 3 | D14: 6 | E14: 6 | F14: 4 | G14: 2 | H14: - | I14: 112 | J14: 63 | K14: =J14/I14*100 -> 56.25 | L14: 12 | M14: 16 | N14: 5 | O14: 1
A15: 8 | B15: 45999 | C15: 4 | D15: 11 | E15: 11 | F15: 6 | G15: 5 | H15: - | I15: 216 | J15: 111 | K15: =J15/I15*100 -> 51.388889 | L15: 22 | M15: 25 | N15: 9 | O15: 2
A16: 9 | B16: 46000 | C16: 3 | D16: 12 | E16: 12 | F16: 6 | G16: 6 | H16: - | I16: 240 | J16: 126 | K16: =J16/I16*100 -> 52.5 | L16: 26 | M16: 29 | N16: 10 | O16: 2
A17: 10 | B17: 46001 | C17: 4 | D17: 12 | E17: 12 | F17: 6 | G17: 6 | H17: - | I17: 240 | J17: 121 | K17: =J17/I17*100 -> 50.416667 | L17: 30 | M17: 34 | N17: 10 | O17: 2
A18: 11 | B18: 46002 | C18: 3 | D18: 10 | E18: 10 | F18: 5 | G18: 5 | H18: - | I18: 200 | J18: 112 | K18: =J18/I18*100 -> 56 | L18: 27 | M18: 19 | N18: 8 | O18: 2
A19: 12 | B19: 46003 | C19: 3 | D19: 11 | E19: 11 | F19: 6 | G19: 5 | H19: - | I19: 216 | J19: 123 | K19: =J19/I19*100 -> 56.944444 | L19: 26 | M19: 23 | N19: 9 | O19: 2
... A38: 31 | B38: 46022 | C38: 3 | D38: 7 | E38: 7 | F38: 3 | G38: 4 | H38: - | I38: 144 | J38: 88 | K38: =J38/I38*100 -> 61.111111 | L38: 21 | M38: 18 | N38: 6 | O38: 1
A39: JUMLAH : | C39: =AVERAGE(C8:C38) -> 3.2903226 | D39: =SUM(D8:D38) -> 313 | E39: =SUM(E8:E38) -> 313 | F39: =SUM(F8:F38) -> 162 | G39: =SUM(G8:G38) -> 151 | H39: =SUM(H30:H38) -> 0 | I39: =SUM(I8:I38) -> 6216 | J39: =SUM(J8:J38) -> 3340 | K39: =SUM(K8:K38) -> 1662.8901 | L39: =SUM(L8:L38) -> 731 | M39: =SUM(M8:M38) -> 733 | N39: =SUM(N8:N38) -> 251 | O39: =SUM(O8:O38) -> 62
K44: KEPALA BALAI PENGELOLA SARANA DAN PRASARANA
K45: PERHUBUNGAN WILAYAH ………
K49: ………………………………………….
K50: ……………………
K51: NIP. …………………

Sheet REKAP
A1: REKAP JUMLAH PENUMPANG MASUK TERMINAL TIPE B
A3: NO | B3: BULAN | C3: MASUK | D3: KET
A4: 1 | B4: JULI | C4: ='REKAP ARUS AKDP (BULAN) 2024'!M39 -> 796 | D4: TIDAK ADA RETRIBUSI
A5: 2 | B5: AGUSTUS | C5: ='REKAP ARUS AKDP (BULAN) 202 (2)'!M39 -> 635 | D5: TIDAK ADA RETRIBUSI
A6: 3 | B6: SEPTEMBER | C6: ='REKAP ARUS AKDP (BULAN) 202 (3)'!M38 -> 714 | D6: TIDAK ADA RETRIBUSI
A7: 4 | B7: OKTOBER | C7: ='REKAP ARUS AKDP (BULAN) 202 (4)'!M39 -> 703 | D7: TIDAK ADA RETRIBUSI
A8: 5 | B8: NOVEMBER | C8: ='REKAP ARUS AKDP (BULAN) 2025'!M38 -> 708 | D8: TIDAK ADA RETRIBUSI
A9: 6 | B9: DESEMBER | C9: ='REKAP ARUS AKDP (BULAN) 202 (5)'!M39 -> 733 | D9: TIDAK ADA RETRIBUSI
A10: JUMLAH | C10: =SUM(C4:C9) -> 4289
