Workbook

Sheet rekap TW I
A1: Jumlah Sebaran Perizinan Berusaha melalui oss.go.id
A2: Dinas Penanaman Modal Dan Pelayanan Terpadu Satu Pintu Kabupaten Demak
A3: Periode Triwulan I (Januari-Maret) Tahun 2025
A5: No | B5: Wilayah | C5: Jenis Perusahaaan | L5: Jumlah/ Total | M5: Status Permodalan
C6: Badan Hukum Lainnya | D6: BUM Desa bersama | E6: Koperasi | F6: Perorangan | G6: Persekutuan dan Perkumpulan | H6: Persekutuan Komanditer (CV / Commanditaire Vennootschap) | I6: Perseroan Terbatas (PT) | J6: Perseroan Terbatas (PT) Perorangan | K6: Yayasan | M6: PMDN | N6: PMA
A7: (1) | B7: (2) | C7: (3) | D7: (4) | E7: (5) | F7: (6) | G7: (7) | H7: (8) | I7: (9) | J7: (10) | K7: (11) | L7: (12) | M7: (13) | N7: (14)
A8: 1 | B8: Bonang | F8: 322 | J8: 1 | L8: =SUM(C8:K8) -> 323 | M8: 323
A9: 2 | B9: Demak | F9: 290 | G9: 1 | H9: 2 | I9: 3 | J9: 1 | K9: 4 | L9: =SUM(C9:K9) -> 301 | M9: 301
A10: 3 | B10: Dempet | E10: 1 | F10: 106 | K10: 2 | L10: =SUM(C10:K10) -> 109 | M10: 109
A11: 4 | B11: Gajah | F11: 131 | H11: 3 | I11: 1 | K11: 1 | L11: =SUM(C11:K11) -> 136 | M11: 136
A12: 5 | B12: Guntur | F12: 210 | H12: 2 | K12: 1 | L12: =SUM(C12:K12) -> 213 | M12: 213
A13: 6 | B13: Karanganyar | F13: 131 | H13: 1 | L13: =SUM(C13:K13) -> 132 | M13: 132
A14: 7 | B14: Karangawen | C14: 1 | F14: 176 | H14: 3 | I14: 2 | J14: 1 | L14: =SUM(C14:K14) -> 183 | M14: 183
A15: 8 | B15: Karangtengah | D15: 1 | F15: 141 | G15: 1 | H15: 4 | I15: 3 | L15: =SUM(C15:K15) -> 150 | M15: 148 | N15: 2
A16: 9 | B16: Kebonagung | F16: 137 | H16: 1 | L16: =SUM(C16:K16) -> 138 | M16: 138
A17: 10 | B17: Mijen | F17: 112 | H17: 1 | I17: 1 | J17: 1 | K17: 2 | L17: =SUM(C17:K17) -> 117 | M17: 117
A18: 11 | B18: Mranggen | F18: 599 | H18: 7 | I18: 3 | J18: 7 | K18: 1 | L18: =SUM(C18:K18) -> 617 | M18: 617
A19: 12 | B19: Sayung | D19: 1 | E19: 1 | F19: 386 | H19: 3 | J19: 1 | K19: 2 | L19: =SUM(C19:K19) -> 394 | M19: 394
A20: 13 | B20: Wedung | F20: 519 | K20: 1 | L20: =SUM(C20:K20) -> 520 | M20: 520
A21: 14 | B21: Wonosalam | F21: 248 | G21: 2 | H21: 2 | L21: =SUM(C21:K21) -> 252 | M21: 252
B22: Jumlah/Total | C22: =SUM(C8:C21) -> 1 | D22: =SUM(D8:D21) -> 2 | E22: =SUM(E8:E21) -> 2 | F22: =SUM(F8:F21) -> 3508 | G22: =SUM(G8:G21) -> 4 | H22: =SUM(H8:H21) -> 29 | I22: =SUM(I8:I21) -> 13 | J22: =SUM(J8:J21) -> 12 | K22: =SUM(K8:K21) -> 14 | L22: =SUM(C22:K22) -> 3585 | M22: =SUM(M8:M21) -> 3583 | N22: =SUM(N8:N21) -> 2

Sheet rekap TW II
A1: Jumlah Sebaran Perizinan Berusaha melalui oss.go.id
A2: Dinas Penanaman Modal Dan Pelayanan Terpadu Satu Pintu Kabupaten Demak
A3: Periode Triwulan II (April - Juni) Tahun 2025
A5: No | B5: Wilayah | C5: Jenis Perusahaaan | L5: Jumlah/ Total | M5: Status Permodalan
C6: Badan Hukum Lainnya | D6: BUM Desa bersama | E6: Koperasi | F6: Perorangan | G6: Persekutuan dan Perkumpulan | H6: Persekutuan Komanditer (CV / Commanditaire Vennootschap) | I6: Perseroan Terbatas (PT) | J6: Perseroan Terbatas (PT) Perorangan | K6: Yayasan | M6: PMDN | N6: PMA
A7: (1) | B7: (2) | C7: (3) | D7: (4) | E7: (5) | F7: (6) | G7: (7) | H7: (8) | I7: (9) | J7: (10) | K7: (11) | L7: (12) | M7: (13) | N7: (14)
A8: 1 | B8: Bonang | D8: 1 | F8: 122 | H8: 1 | L8: =SUM(C8:K8) -> 124 | M8: 323
A9: 2 | B9: Demak | E9: 2 | F9: 184 | H9: 6 | I9: 1 | L9: =SUM(C9:K9) -> 193 | M9: 301
A10: 3 | B10: Dempet | E10: 4 | F10: 72 | L10: =SUM(C10:K10) -> 76 | M10: 109
A11: 4 | B11: Gajah | F11: 50 | L11: =SUM(C11:K11) -> 50 | M11: 136
A12: 5 | B12: Guntur | E12: 2 | F12: 47 | L12: =SUM(C12:K12) -> 49 | M12: 213
A13: 6 | B13: Karanganyar | F13: 128 | H13: 3 | L13: =SUM(C13:K13) -> 131 | M13: 132
A14: 7 | B14: Karangawen | F14: 79 | H14: 2 | L14: =SUM(C14:K14) -> 81 | M14: 183
A15: 8 | B15: Karangtengah | E15: 1 | F15: 126 | H15: 2 | L15: =SUM(C15:K15) -> 129 | M15: 148 | N15: 2
A16: 9 | B16: Kebonagung | E16: 1 | F16: 45 | H16: 1 | L16: =SUM(C16:K16) -> 47 | M16: 138
A17: 10 | B17: Mijen | F17: 73 | L17: =SUM(C17:K17) -> 73 | M17: 117
A18: 11 | B18: Mranggen | E18: 1 | F18: 276 | G18: 1 | H18: 14 | L18: =SUM(C18:K18) -> 292 | M18: 617
A19: 12 | B19: Sayung | F19: 386 | H19: 2 | L19: =SUM(C19:K19) -> 388 | M19: 394
A20: 13 | B20: Wedung | D20: 1 | E20: 6 | F20: 113 | L20: =SUM(C20:K20) -> 120 | M20: 520
A21: 14 | B21: Wonosalam | F21: 184 | G21: 1 | H21: 6 | J21: 1 | K21: 2 | L21: =SUM(C21:K21) -> 194 | M21: 252
B22: Jumlah/Total | C22: =SUM(C8:C21) -> 0 | D22: =SUM(D8:D21) -> 2 | E22: =SUM(E8:E21) -> 17 | F22: =SUM(F8:F21) -> 1885 | G22: =SUM(G8:G21) -> 2 | H22: =SUM(H8:H21) -> 37 | I22: =SUM(I8:I21) -> 1 | J22: =SUM(J8:J21) -> 1 | K22: =SUM(K8:K21) -> 2 | L22: =SUM(C22:K22) -> 1947 | M22: =SUM(M8:M21) -> 3583 | N22: =SUM(N8:N21) -> 2

Sheet rekap TW III
A1: Jumlah Sebaran Perizinan Berusaha melalui oss.go.id
A2: Dinas Penanaman Modal Dan Pelayanan Terpadu Satu Pintu Kabupaten Demak
A3: Periode Triwulan III (Juli - September) Tahun 2025
B4: 1144 : Jumlah Ijin Usaha Mikro Kecil (Unit)
A5: No | B5: Wilayah | C5: Jenis Perusahaaan | O5: Jumlah/ Total | P5: Status Permodalan
C6: Badan Hukum Lainnya | D6: Badan Layanan Umum (BLU) | E6: BUM Desa | F6: BUM Desa bersama | G6: Koperasi | H6: Perorangan | I6: Persekutuan dan Perkumpulan | J6: Persekutuan Komanditer (CV / Commanditaire Vennootschap) | K6: Perseroan Terbatas (PT) | L6: Perseroan Terbatas (PT) Perorangan | M6: Perusahaan Umum (Perum) | N6: Yayasan | P6: PMDN | Q6: PMA
A7: (1) | B7: (2) | C7: (3) | D7: (4) | E7: (5) | F7: (6) | G7: (7) | H7: (8) | I7: (9) | J7: (10) | K7: (11) | L7: (12) | M7: (13) | N7: (14) | O7: (15) | P7: (16) | Q7: (17)
A8: 1 | B8: Bonang | C8: 0 | D8: 0 | E8: 0 | F8: =1-'rekap TW II'!D8 -> 0 | G8: 9 | H8: 276 | I8: ='rekap TW I'!G8+'rekap TW II'!G8 -> 0 | J8: 25 | K8: =3 -> 3 | L8: 0 | M8: 0 | N8: 24 | O8: ='rekap TW I'!L8+'rekap TW II'!L8 -> 447 | P8: 337 | Q8: ='rekap TW I'!N8+'rekap TW II'!N8 -> 0
A9: 2 | B9: Demak | C9: 0 | D9: 0 | E9: ='rekap TW I'!C9+'rekap TW II'!C9 -> 0 | F9: ='rekap TW I'!D9+'rekap TW II'!D9 -> 0 | G9: 30 | H9: 429 | I9: 0 | J9: 30 | K9: 26 | L9: 10 | M9: 0 | N9: 17 | O9: ='rekap TW I'!L9+'rekap TW II'!L9 -> 494 | P9: 542 | Q9: 1
A10: 3 | B10: Dempet | C10: 1 | D10: 0 | E10: ='rekap TW I'!C10+'rekap TW II'!C10 -> 0 | F10: ='rekap TW I'!D10+'rekap TW II'!D10 -> 0 | G10: 11 | H10: 131 | I10: ='rekap TW I'!G10+'rekap TW II'!G10 -> 0 | J10: 2 | K10: 1 | L10: 0 | M10: 0 | N10: 0 | O10: ='rekap TW I'!L10+'rekap TW II'!L10 -> 185 | P10: 146 | Q10: ='rekap TW I'!N10+'rekap TW II'!N10 -> 0
A11: 4 | B11: Gajah | C11: ='rekap TW I'!C11+'rekap TW II'!C11 -> 0 | D11: 0 | E11: ='rekap TW I'!C11+'rekap TW II'!C11 -> 0 | F11: ='rekap TW I'!D11+'rekap TW II'!D11 -> 0 | G11: 8 | H11: 216 | I11: ='rekap TW I'!G11+'rekap TW II'!G11 -> 0 | J11: 7 | K11: =2 -> 2 | L11: 0 | M11: 0 | N11: 1 | O11: ='rekap TW I'!L11+'rekap TW II'!L11 -> 186 | P11: 232 | Q11: ='rekap TW I'!N11+'rekap TW II'!N11 -> 0
A12: 5 | B12: Guntur | C12: ='rekap TW I'!C12+'rekap TW II'!C12 -> 0 | D12: 1 | E12: ='rekap TW I'!C12+'rekap TW II'!C12 -> 0 | F12: ='rekap TW I'!D12+'rekap TW II'!D12 -> 0 | G12: 22 | H12: 159 | I12: ='rekap TW I'!G12+'rekap TW II'!G12 -> 0 | J12: 7 | K12: =25 -> 25 | L12: 2 | M12: 0 | N12: 8 | O12: ='rekap TW I'!L12+'rekap TW II'!L12 -> 262 | P12: 224 | Q12: 0
A13: 6 | B13: Karanganyar | C13: ='rekap TW I'!C13+'rekap TW II'!C13 -> 0 | D13: 0 | E13: 0 | F13: ='rekap TW I'!D13+'rekap TW II'!D13 -> 0 | G13: 9 | H13: 432 | I13: ='rekap TW I'!G13+'rekap TW II'!G13 -> 0 | J13: 4 | K13: 2 | L13: ='rekap TW I'!J13+'rekap TW II'!J13 -> 0 | M13: 0 | N13: 1 | O13: ='rekap TW I'!L13+'rekap TW II'!L13 -> 263 | P13: 448 | Q13: ='rekap TW I'!N13+'rekap TW II'!N13 -> 0
A14: 7 | B14: Karangawen | C14: 0 | D14: 0 | E14: 0 | F14: 0 | G14: 1 | H14: 304 | I14: ='rekap TW I'!G14+'rekap TW II'!G14 -> 0 | J14: 78 | K14: 38 | L14: 5 | M14: 0 | N14: 6 | O14: ='rekap TW I'!L14+'rekap TW II'!L14 -> 264 | P14: 431 | Q14: 1
A15: 8 | B15: Karangtengah | C15: 0 | D15: 0 | E15: ='rekap TW I'!C15+'rekap TW II'!C15 -> 0 | F15: 0 | G15: 18 | H15: 206 | I15: 0 | J15: 24 | K15: 119 | L15: 2 | M15: 0 | N15: ='rekap TW I'!K15+'rekap TW II'!K15 -> 0 | O15: ='rekap TW I'!L15+'rekap TW II'!L15 -> 279 | P15: 332 | Q15: 36
A16: 9 | B16: Kebonagung | C16: ='rekap TW I'!C16+'rekap TW II'!C16 -> 0 | D16: 0 | E16: 1 | F16: ='rekap TW I'!D16+'rekap TW II'!D16 -> 0 | G16: 10 | H16: 92 | I16: ='rekap TW I'!G16+'rekap TW II'!G16 -> 0 | J16: 1 | K16: 1 | L16: 8 | M16: 0 | N16: 0 | O16: ='rekap TW I'!L16+'rekap TW II'!L16 -> 185 | P16: 113 | Q16: 0
A17: 10 | B17: Mijen | C17: ='rekap TW I'!C17+'rekap TW II'!C17 -> 0 | D17: 0 | E17: ='rekap TW I'!C17+'rekap TW II'!C17 -> 0 | F17: ='rekap TW I'!D17+'rekap TW II'!D17 -> 0 | G17: 15 | H17: 192 | I17: ='rekap TW I'!G17+'rekap TW II'!G17 -> 0 | J17: 14 | K17: 11 | L17: 6 | M17: 0 | N17: 1 | O17: ='rekap TW I'!L17+'rekap TW II'!L17 -> 190 | P17: 239 | Q17: ='rekap TW I'!N17+'rekap TW II'!N17 -> 0
A18: 11 | B18: Mranggen | C18: ='rekap TW I'!C18+'rekap TW II'!C18 -> 0 | D18: 0 | E18: ='rekap TW I'!C18+'rekap TW II'!C18 -> 0 | F18: ='rekap TW I'!D18+'rekap TW II'!D18 -> 0 | G18: =10-'rekap TW II'!E18 -> 9 | H18: 765 | I18: 5 | J18: 149 | K18: 66 | L18: 35 | M18: 0 | N18: 1 | O18: ='rekap TW I'!L18+'rekap TW II'!L18 -> 909 | P18: 1029 | Q18: 2
A19: 12 | B19: Sayung | C19: 0 | D19: 0 | E19: 0 | F19: 2 | G19: 7 | H19: 213 | I19: ='rekap TW I'!G19+'rekap TW II'!G19 -> 0 | J19: 32 | K19: 13 | L19: 3 | M19: 0 | N19: 6 | O19: ='rekap TW I'!L19+'rekap TW II'!L19 -> 782 | P19: 276 | Q19: 1
A20: 13 | B20: Wedung | C20: ='rekap TW I'!C20+'rekap TW II'!C20 -> 0 | D20: 0 | E20: 0 | F20: =2-'rekap TW II'!D20 -> 1 | G20: 16 | H20: 260 | I20: 1 | J20: 2 | K20: 5 | L20: 7 | M20: 0 | N20: 0 | O20: ='rekap TW I'!L20+'rekap TW II'!L20 -> 640 | P20: 292 | Q20: ='rekap TW I'!N20+'rekap TW II'!N20 -> 0
A21: 14 | B21: Wonosalam | C21: ='rekap TW I'!C21+'rekap TW II'!C21 -> 0 | D21: 0 | E21: ='rekap TW I'!C21+'rekap TW II'!C21 -> 0 | F21: ='rekap TW I'!D21+'rekap TW II'!D21 -> 0 | G21: 33 | H21: 410 | I21: 0 | J21: 30 | K21: 27 | L21: 2 | M21: 0 | N21: 6 | O21: ='rekap TW I'!L21+'rekap TW II'!L21 -> 446 | P21: 507 | Q21: 1
B22: Jumlah/Total | C22: =SUM(C8:C21) -> 1 | D22: =SUM(D8:D21) -> 1 | E22: =SUM(E8:E21) -> 1 | F22: =SUM(F8:F21) -> 3 | G22: =SUM(G8:G21) -> 198 | H22: =SUM(H8:H21) -> 4085 | I22: =SUM(I8:I21) -> 6 | J22: =SUM(J8:J21) -> 405 | ... N22: =SUM(N8:N21) -> 71 | O22: =SUM(C22:N22) -> 5190 | P22: =SUM(P8:P21) -> 5148 | Q22: =SUM(Q8:Q21) -> 42
B24: Sumber Data : Dindagkop UKM Kabupaten Demak
Q25: =P22+Q22 -> 5190

Sheet Tahun 2025
A1: Jumlah Sebaran Perizinan Berusaha melalui oss.go.id
A2: Dinas Penanaman Modal Dan Pelayanan Terpadu Satu Pintu Kabupaten Demak
A3: Periode Tahun 2025
A5: No | B5: Wilayah | C5: Jenis Perusahaaan | O5: Jumlah/ Total | P5: Status Permodalan
C6: Badan Hukum Lainnya | D6: Badan Layanan Umum (BLU) | E6: BUM Desa | F6: BUM Desa bersama | G6: Koperasi | H6: Perorangan | I6: Persekutuan dan Perkumpulan | J6: Persekutuan Komanditer (CV / Commanditaire Vennootschap) | K6: Perseroan Terbatas (PT) | L6: Perseroan Terbatas (PT) Perorangan | M6: Perusahaan Umum (Perum) | N6: Yayasan | P6: PMDN | Q6: PMA
A7: (1) | B7: (2) | C7: (3) | D7: (4) | E7: (5) | F7: (6) | G7: (7) | H7: (8) | I7: (9) | J7: (10) | K7: (11) | L7: (12) | M7: (13) | N7: (14) | O7: (15) | P7: (16) | Q7: (17)
A8: 1 | B8: Bonang | C8: 2 | D8: 0 | E8: 0 | F8: 1 | G8: 9 | H8: 800 | I8: ='rekap TW I'!G8+'rekap TW II'!G8 -> 0 | J8: 33 | K8: =5+1 -> 6 | L8: 3 | M8: 0 | N8: 27 | O8: ='rekap TW I'!L8+'rekap TW II'!L8 -> 447 | P8: 881 | Q8: ='rekap TW I'!N8+'rekap TW II'!N8 -> 0
A9: 2 | B9: Demak | C9: 1 | D9: 0 | E9: ='rekap TW I'!C9+'rekap TW II'!C9 -> 0 | F9: ='rekap TW I'!D9+'rekap TW II'!D9 -> 0 | G9: 34 | H9: 1125 | I9: ='rekap TW I'!G9+'rekap TW II'!G9 -> 1 | J9: 133 | K9: 81 | L9: 16 | M9: 0 | N9: 29 | O9: ='rekap TW I'!L9+'rekap TW II'!L9 -> 494 | P9: 1419 | Q9: 1
A10: 3 | B10: Dempet | C10: 1 | D10: 0 | E10: ='rekap TW I'!C10+'rekap TW II'!C10 -> 0 | F10: ='rekap TW I'!D10+'rekap TW II'!D10 -> 0 | G10: 28 | H10: 412 | I10: ='rekap TW I'!G10+'rekap TW II'!G10 -> 0 | J10: 4 | K10: 2 | L10: 0 | M10: 0 | N10: 6 | O10: ='rekap TW I'!L10+'rekap TW II'!L10 -> 185 | P10: 453 | Q10: ='rekap TW I'!N10+'rekap TW II'!N10 -> 0
A11: 4 | B11: Gajah | C11: ='rekap TW I'!C11+'rekap TW II'!C11 -> 0 | D11: 0 | E11: ='rekap TW I'!C11+'rekap TW II'!C11 -> 0 | F11: ='rekap TW I'!D11+'rekap TW II'!D11 -> 0 | G11: 9 | H11: 458 | I11: ='rekap TW I'!G11+'rekap TW II'!G11 -> 0 | J11: 20 | K11: 2 | L11: 2 | M11: 0 | N11: 23 | O11: ='rekap TW I'!L11+'rekap TW II'!L11 -> 186 | P11: 514 | Q11: ='rekap TW I'!N11+'rekap TW II'!N11 -> 0
A12: 5 | B12: Guntur | C12: ='rekap TW I'!C12+'rekap TW II'!C12 -> 0 | D12: 1 | E12: ='rekap TW I'!C12+'rekap TW II'!C12 -> 0 | F12: ='rekap TW I'!D12+'rekap TW II'!D12 -> 0 | G12: 41 | H12: 511 | I12: 2 | J12: 13 | K12: =26+78 -> 104 | L12: 2 | M12: 0 | N12: 17 | O12: ='rekap TW I'!L12+'rekap TW II'!L12 -> 262 | P12: =619 -> 619 | Q12: 73
A13: 6 | B13: Karanganyar | C13: ='rekap TW I'!C13+'rekap TW II'!C13 -> 0 | D13: 0 | E13: 0 | F13: ='rekap TW I'!D13+'rekap TW II'!D13 -> 0 | G13: 9 | H13: 718 | I13: ='rekap TW I'!G13+'rekap TW II'!G13 -> 0 | J13: 40 | K13: 10 | L13: ='rekap TW I'!J13+'rekap TW II'!J13 -> 0 | M13: 0 | N13: 7 | O13: ='rekap TW I'!L13+'rekap TW II'!L13 -> 263 | P13: 784 | Q13: ='rekap TW I'!N13+'rekap TW II'!N13 -> 0
A14: 7 | B14: Karangawen | C14: ='rekap TW I'!C14+'rekap TW II'!C14 -> 1 | D14: 0 | E14: 0 | F14: 2 | G14: 1 | H14: 646 | I14: ='rekap TW I'!G14+'rekap TW II'!G14 -> 0 | J14: 119 | K14: =56+1 -> 57 | L14: 13 | M14: 0 | N14: 9 | O14: ='rekap TW I'!L14+'rekap TW II'!L14 -> 264 | P14: 843 | Q14: 4
A15: 8 | B15: Karangtengah | C15: 4 | D15: 3 | E15: ='rekap TW I'!C15+'rekap TW II'!C15 -> 0 | F15: 1 | G15: 20 | H15: 529 | I15: 1 | J15: 71 | K15: 117 | L15: 2 | M15: 0 | N15: ='rekap TW I'!K15+'rekap TW II'!K15 -> 0 | O15: ='rekap TW I'!L15+'rekap TW II'!L15 -> 279 | P15: 745 | Q15: 3
A16: 9 | B16: Kebonagung | C16: ='rekap TW I'!C16+'rekap TW II'!C16 -> 0 | D16: 0 | E16: 1 | F16: ='rekap TW I'!D16+'rekap TW II'!D16 -> 0 | G16: 12 | H16: 316 | I16: ='rekap TW I'!G16+'rekap TW II'!G16 -> 0 | J16: 48 | K16: 1 | L16: 14 | M16: 0 | N16: 1 | O16: ='rekap TW I'!L16+'rekap TW II'!L16 -> 185 | P16: 393 | Q16: 0
A17: 10 | B17: Mijen | C17: ='rekap TW I'!C17+'rekap TW II'!C17 -> 0 | D17: 0 | E17: ='rekap TW I'!C17+'rekap TW II'!C17 -> 0 | F17: ='rekap TW I'!D17+'rekap TW II'!D17 -> 0 | G17: 15 | H17: 420 | I17: ='rekap TW I'!G17+'rekap TW II'!G17 -> 0 | J17: 16 | K17: 20 | L17: 14 | M17: 0 | N17: 6 | O17: ='rekap TW I'!L17+'rekap TW II'!L17 -> 190 | P17: 491 | Q17: ='rekap TW I'!N17+'rekap TW II'!N17 -> 0
A18: 11 | B18: Mranggen | C18: ='rekap TW I'!C18+'rekap TW II'!C18 -> 0 | D18: 0 | E18: ='rekap TW I'!C18+'rekap TW II'!C18 -> 0 | F18: ='rekap TW I'!D18+'rekap TW II'!D18 -> 0 | G18: 10 | H18: 1944 | I18: 7 | J18: 275 | K18: 158 | L18: 100 | M18: 5 | N18: 24 | O18: ='rekap TW I'!L18+'rekap TW II'!L18 -> 909 | P18: 2521 | Q18: 2
A19: 12 | B19: Sayung | C19: 1 | D19: 0 | E19: 1 | F19: 2 | G19: 8 | H19: 844 | I19: 1 | J19: 117 | K19: 67 | L19: 6 | M19: 0 | N19: 20 | O19: ='rekap TW I'!L19+'rekap TW II'!L19 -> 782 | P19: 1059 | Q19: 8
A20: 13 | B20: Wedung | C20: ='rekap TW I'!C20+'rekap TW II'!C20 -> 0 | D20: 0 | E20: 4 | F20: 2 | G20: 26 | H20: 1187 | I20: 1 | J20: 3 | K20: 7 | L20: 7 | M20: 0 | N20: 10 | O20: ='rekap TW I'!L20+'rekap TW II'!L20 -> 640 | P20: 1248 | Q20: ='rekap TW I'!N20+'rekap TW II'!N20 -> 0
A21: 14 | B21: Wonosalam | C21: ='rekap TW I'!C21+'rekap TW II'!C21 -> 0 | D21: 0 | E21: ='rekap TW I'!C21+'rekap TW II'!C21 -> 0 | F21: ='rekap TW I'!D21+'rekap TW II'!D21 -> 0 | G21: 35 | H21: 1081 | I21: 10 | J21: 172 | K21: 45 | L21: 5 | M21: 0 | N21: 15 | O21: ='rekap TW I'!L21+'rekap TW II'!L21 -> 446 | P21: 1361 | Q21: 1
B22: Jumlah/Total | C22: =SUM(C8:C21) -> 10 | D22: =SUM(D8:D21) -> 4 | E22: =SUM(E8:E21) -> 6 | F22: =SUM(F8:F21) -> 8 | G22: =SUM(G8:G21) -> 257 | H22: =SUM(H8:H21) -> 10991 | I22: =SUM(I8:I21) -> 23 | J22: =SUM(J8:J21) -> 1064 | ... N22: =SUM(N8:N21) -> 194 | O22: =SUM(C22:N22) -> 13423 | P22: =SUM(P8:P21) -> 13331 | Q22: =SUM(Q8:Q21) -> 92
